{"text_format":"1","workbook":"xlsx","n_sheets":2,"sheets":["Sheet1","Sheet2"],"not_rendered":{"charts":2,"images":3,"macros":1,"external_links":0,"defined_names":0,"comments":0,"pivot_tables":0},"unopened":[],"bounds":{"document_bytes":16777216,"sheet_cells":100000,"rows_first":2000,"rows_last":500,"rows_between":2000,"halvings":0,"cell_chars":16384,"cell_head_chars":4096},"cells_cut":0,"cells_raw":0,"read":"whole","date_system":"1900"}

{"sheet":"Sheet1","index":0,"n_rows":502,"n_cols":11,"rows_kept":502,"cut":false,"hidden":false,"merged":[]}
["x (10-10 m)","U(x) (eV)","k^2(x) (1010 m)-2","psi(x)","E (eV)",null,null,null,"finite a","harmonic","triangle"]
[-5,500,{"$f":"0.264*($E$2-B2)","v":-131.9736},0,{"$f":"Sheet2!B15","v":0.1},null,null,null,{"$f":"IF(ABS(A2)-0.001>=Sheet2!$C$6/2,Sheet2!$C$7*Sheet2!$C$8,0)","v":500},{"$f":"0.5*Sheet2!$C$9*A2^2","v":6250},{"$f":"Sheet2!$C$10*ABS(A2)","v":2500}]
[{"$f":"+A2+0.02","v":-4.9800000000000004},500,-131.9736,9.9999999999999996E-81,null,null,null,null,{"$f":"IF(ABS(A3)-0.001>=Sheet2!$C$6/2,Sheet2!$C$7*Sheet2!$C$8,0)","v":500},{"$f":"0.5*Sheet2!$C$9*A3^2","v":6200.1000000000013},{"$f":"Sheet2!$C$10*ABS(A3)","v":2490}]
[{"$f":"+A3+0.02","v":-4.9600000000000009},500,-131.9736,{"$f":"(2- 0.0004*C3)*D3-D2","v":2.05278944E-80},null,null,null,null,{"$f":"IF(ABS(A4)-0.001>=Sheet2!$C$6/2,Sheet2!$C$7*Sheet2!$C$8,0)","v":500},{"$f":"0.5*Sheet2!$C$9*A4^2","v":6150.4000000000024},{"$f":"Sheet2!$C$10*ABS(A4)","v":2480.0000000000005}]
[-4.9400000000000013,500,-131.9736,3.2139444849755136E-80,null,null,null,null,{"$f":"IF(ABS(A5)-0.001>=Sheet2!$C$6/2,Sheet2!$C$7*Sheet2!$C$8,0)","v":500},{"$f":"0.5*Sheet2!$C$9*A5^2","v":6100.9000000000033},{"$f":"Sheet2!$C$10*ABS(A5)","v":2470.0000000000005}]
[-4.9200000000000017,500,-131.9736,4.5447618595039743E-80,null,null,null,null,{"$f":"IF(ABS(A6)-0.001>=Sheet2!$C$6/2,Sheet2!$C$7*Sheet2!$C$8,0)","v":500},{"$f":"0.5*Sheet2!$C$9*A6^2","v":6051.600000000004},{"$f":"Sheet2!$C$10*ABS(A6)","v":2460.0000000000009}]
[-4.9000000000000021,500,-131.9736,6.1154946675290097E-80,null,null,null,null,{"$f":"IF(ABS(A7)-0.001>=Sheet2!$C$6/2,Sheet2!$C$7*Sheet2!$C$8,0)","v":500},{"$f":"0.5*Sheet2!$C$9*A7^2","v":6002.5000000000045},{"$f":"Sheet2!$C$10*ABS(A7)","v":2450.0000000000009}]
[-4.8800000000000026,500,-131.9736,8.0090610143758895E-80,null,null,null,null,{"$f":"IF(ABS(A8)-0.001>=Sheet2!$C$6/2,Sheet2!$C$7*Sheet2!$C$8,0)","v":500},{"$f":"0.5*Sheet2!$C$9*A8^2","v":5953.6000000000058},{"$f":"Sheet2!$C$10*ABS(A8)","v":2440.0000000000014}]
[-4.860000000000003,500,-131.9736,1.0325421207097507E-79,null,null,null,null,{"$f":"IF(ABS(A9)-0.001>=Sheet2!$C$6/2,Sheet2!$C$7*Sheet2!$C$8,0)","v":500},{"$f":"0.5*Sheet2!$C$9*A9^2","v":5904.9000000000078},{"$f":"Sheet2!$C$10*ABS(A9)","v":2430.0000000000014}]
[-4.8400000000000034,500,-131.9736,1.3186854603105928E-79,null,null,null,null,{"$f":"IF(ABS(A10)-0.001>=Sheet2!$C$6/2,Sheet2!$C$7*Sheet2!$C$8,0)","v":500},{"$f":"0.5*Sheet2!$C$9*A10^2","v":5856.4000000000078},{"$f":"Sheet2!$C$10*ABS(A10)","v":2420.0000000000018}]
[-4.8200000000000038,500,-131.9736,1.6744414668973738E-79,null,null,null,null,{"$f":"IF(ABS(A11)-0.001>=Sheet2!$C$6/2,Sheet2!$C$7*Sheet2!$C$8,0)","v":500},{"$f":"0.5*Sheet2!$C$9*A11^2","v":5808.1000000000095},{"$f":"Sheet2!$C$10*ABS(A11)","v":2410.0000000000018}]
[-4.8000000000000043,500,-131.9736,2.1185903008344457E-79,null,null,null,null,{"$f":"IF(ABS(A12)-0.001>=Sheet2!$C$6/2,Sheet2!$C$7*Sheet2!$C$8,0)","v":500},{"$f":"0.5*Sheet2!$C$9*A12^2","v":5760.00000000001},{"$f":"Sheet2!$C$10*ABS(A12)","v":2400.0000000000023}]
[-4.7800000000000047,500,-131.9736,2.6745783303419997E-79,null,null,null,null,{"$f":"IF(ABS(A13)-0.001>=Sheet2!$C$6/2,Sheet2!$C$7*Sheet2!$C$8,0)","v":500},{"$f":"0.5*Sheet2!$C$9*A13^2","v":5712.1000000000113},{"$f":"Sheet2!$C$10*ABS(A13)","v":2390.0000000000023}]
[-4.7600000000000051,500,-131.9736,3.3717558521444437E-79,null,null,null,null,{"$f":"IF(ABS(A14)-0.001>=Sheet2!$C$6/2,Sheet2!$C$7*Sheet2!$C$8,0)","v":500},{"$f":"0.5*Sheet2!$C$9*A14^2","v":5664.4000000000124},{"$f":"Sheet2!$C$10*ABS(A14)","v":2380.0000000000027}]
[-4.7400000000000055,500,-131.9736,4.2469264771983162E-79,null,null,null,null,{"$f":"IF(ABS(A15)-0.001>=Sheet2!$C$6/2,Sheet2!$C$7*Sheet2!$C$8,0)","v":500},{"$f":"0.5*Sheet2!$C$9*A15^2","v":5616.9000000000133},{"$f":"Sheet2!$C$10*ABS(A15)","v":2370.0000000000027}]
[-4.720000000000006,500,-131.9736,5.346289972704662E-79,null,null,null,null,{"$f":"IF(ABS(A16)-0.001>=Sheet2!$C$6/2,Sheet2!$C$7*Sheet2!$C$8,0)","v":500},{"$f":"0.5*Sheet2!$C$9*A16^2","v":5569.600000000014},{"$f":"Sheet2!$C$10*ABS(A16)","v":2360.0000000000032}]
[-4.7000000000000064,500,-131.9736,6.7278811219477041E-79,null,null,null,null,{"$f":"IF(ABS(A17)-0.001>=Sheet2!$C$6/2,Sheet2!$C$7*Sheet2!$C$8,0)","v":500},{"$f":"0.5*Sheet2!$C$9*A17^2","v":5522.5000000000155},{"$f":"Sheet2!$C$10*ABS(A17)","v":2350.0000000000032}]
[-4.6800000000000068,500,-131.9736,8.4646333480049384E-79,null,null,null,null,{"$f":"IF(ABS(A18)-0.001>=Sheet2!$C$6/2,Sheet2!$C$7*Sheet2!$C$8,0)","v":500},{"$f":"0.5*Sheet2!$C$9*A18^2","v":5475.6000000000158},{"$f":"Sheet2!$C$10*ABS(A18)","v":2340.0000000000036}]
[-4.6600000000000072,500,-131.9736,1.0648228828308681E-78,null,null,null,null,{"$f":"IF(ABS(A19)-0.001>=Sheet2!$C$6/2,Sheet2!$C$7*Sheet2!$C$8,0)","v":500},{"$f":"0.5*Sheet2!$C$9*A19^2","v":5428.9000000000169},{"$f":"Sheet2!$C$10*ABS(A19)","v":2330.0000000000036}]
[-4.6400000000000077,500,-131.9736,1.3393938345450697E-78,null,null,null,null,{"$f":"IF(ABS(A20)-0.001>=Sheet2!$C$6/2,Sheet2!$C$7*Sheet2!$C$8,0)","v":500},{"$f":"0.5*Sheet2!$C$9*A20^2","v":5382.4000000000178},{"$f":"Sheet2!$C$10*ABS(A20)","v":2320.0000000000036}]
[-4.6200000000000081,500,-131.9736,1.6846706367243584E-78,null,null,null,null,{"$f":"IF(ABS(A21)-0.001>=Sheet2!$C$6/2,Sheet2!$C$7*Sheet2!$C$8,0)","v":500},{"$f":"0.5*Sheet2!$C$9*A21^2","v":5336.1000000000186},{"$f":"Sheet2!$C$10*ABS(A21)","v":2310.0000000000041}]
[-4.6000000000000085,500,-131.9736,2.1188802584007698E-78,null,null,null,null,{"$f":"IF(ABS(A22)-0.001>=Sheet2!$C$6/2,Sheet2!$C$7*Sheet2!$C$8,0)","v":500},{"$f":"0.5*Sheet2!$C$9*A22^2","v":5290.00000000002},{"$f":"Sheet2!$C$10*ABS(A22)","v":2300.0000000000041}]
[-4.580000000000009,500,-131.9736,2.6649443823452133E-78,null,null,null,null,{"$f":"IF(ABS(A23)-0.001>=Sheet2!$C$6/2,Sheet2!$C$7*Sheet2!$C$8,0)","v":500},{"$f":"0.5*Sheet2!$C$9*A23^2","v":5244.1000000000213},{"$f":"Sheet2!$C$10*ABS(A23)","v":2290.0000000000045}]
[-4.5600000000000094,500,-131.9736,3.3516894278648067E-78,null,null,null,null,{"$f":"IF(ABS(A24)-0.001>=Sheet2!$C$6/2,Sheet2!$C$7*Sheet2!$C$8,0)","v":500},{"$f":"0.5*Sheet2!$C$9*A24^2","v":5198.4000000000215},{"$f":"Sheet2!$C$10*ABS(A24)","v":2280.0000000000045}]
[-4.5400000000000098,500,-131.9736,4.2153682813353038E-78,null,null,null,null,{"$f":"IF(ABS(A25)-0.001>=Sheet2!$C$6/2,Sheet2!$C$7*Sheet2!$C$8,0)","v":500},{"$f":"0.5*Sheet2!$C$9*A25^2","v":5152.9000000000224},{"$f":"Sheet2!$C$10*ABS(A25)","v":2270.000000000005}]
[-4.5200000000000102,500,-131.9736,5.3015740657712541E-78,null,null,null,null,{"$f":"IF(ABS(A26)-0.001>=Sheet2!$C$6/2,Sheet2!$C$7*Sheet2!$C$8,0)","v":500},{"$f":"0.5*Sheet2!$C$9*A26^2","v":5107.6000000000231},{"$f":"Sheet2!$C$10*ABS(A26)","v":2260.000000000005}]
[-4.5000000000000107,500,-131.9736,6.6676469762577926E-78,null,null,null,null,{"$f":"IF(ABS(A27)-0.001>=Sheet2!$C$6/2,Sheet2!$C$7*Sheet2!$C$8,0)","v":500},{"$f":"0.5*Sheet2!$C$9*A27^2","v":5062.5000000000236},{"$f":"Sheet2!$C$10*ABS(A27)","v":2250.0000000000055}]
[-4.4800000000000111,500,-131.9736,8.3857012367386746E-78,null,null,null,null,{"$f":"IF(ABS(A28)-0.001>=Sheet2!$C$6/2,Sheet2!$C$7*Sheet2!$C$8,0)","v":500},{"$f":"0.5*Sheet2!$C$9*A28^2","v":5017.6000000000249},{"$f":"Sheet2!$C$10*ABS(A28)","v":2240.0000000000055}]
[-4.4600000000000115,500,-131.9736,1.0546431969514301E-77,null,null,null,null,{"$f":"IF(ABS(A29)-0.001>=Sheet2!$C$6/2,Sheet2!$C$7*Sheet2!$C$8,0)","v":500},{"$f":"0.5*Sheet2!$C$9*A29^2","v":4972.900000000026},{"$f":"Sheet2!$C$10*ABS(A29)","v":2230.0000000000059}]
[-4.4400000000000119,500,-131.9736,1.3263902939958686E-77,null,null,null,null,{"$f":"IF(ABS(A30)-0.001>=Sheet2!$C$6/2,Sheet2!$C$7*Sheet2!$C$8,0)","v":500},{"$f":"0.5*Sheet2!$C$9*A30^2","v":4928.4000000000269},{"$f":"Sheet2!$C$10*ABS(A30)","v":2220.0000000000059}]
[-4.4200000000000124,500,-131.9736,1.6681567918817846E-77,null,null,null,null,{"$f":"IF(ABS(A31)-0.001>=Sheet2!$C$6/2,Sheet2!$C$7*Sheet2!$C$8,0)","v":500},{"$f":"0.5*Sheet2!$C$9*A31^2","v":4884.1000000000276},{"$f":"Sheet2!$C$10*ABS(A31)","v":2210.0000000000064}]
[-4.4000000000000128,500,-131.9736,2.0979843526433369E-77,null,null,null,null,{"$f":"IF(ABS(A32)-0.001>=Sheet2!$C$6/2,Sheet2!$C$7*Sheet2!$C$8,0)","v":500},{"$f":"0.5*Sheet2!$C$9*A32^2","v":4840.0000000000282},{"$f":"Sheet2!$C$10*ABS(A32)","v":2200.0000000000064}]
[-4.3800000000000132,500,-131.9736,2.6385633325096938E-77,null,null,null,null,{"$f":"IF(ABS(A33)-0.001>=Sheet2!$C$6/2,Sheet2!$C$7*Sheet2!$C$8,0)","v":500},{"$f":"0.5*Sheet2!$C$9*A33^2","v":4796.1000000000295},{"$f":"Sheet2!$C$10*ABS(A33)","v":2190.0000000000068}]
[-4.3600000000000136,500,-131.9736,3.3184305931037718E-77,null,null,null,null,{"$f":"IF(ABS(A34)-0.001>=Sheet2!$C$6/2,Sheet2!$C$7*Sheet2!$C$8,0)","v":500},{"$f":"0.5*Sheet2!$C$9*A34^2","v":4752.4000000000296},{"$f":"Sheet2!$C$10*ABS(A34)","v":2180.0000000000068}]
[-4.3400000000000141,500,-131.9736,4.1734759463866664E-77,null,null,null,null,{"$f":"IF(ABS(A35)-0.001>=Sheet2!$C$6/2,Sheet2!$C$7*Sheet2!$C$8,0)","v":500},{"$f":"0.5*Sheet2!$C$9*A35^2","v":4708.9000000000306},{"$f":"Sheet2!$C$10*ABS(A35)","v":2170.0000000000068}]
[-4.3200000000000145,500,-131.9736,5.2488367577327843E-77,null,null,null,null,{"$f":"IF(ABS(A36)-0.001>=Sheet2!$C$6/2,Sheet2!$C$7*Sheet2!$C$8,0)","v":500},{"$f":"0.5*Sheet2!$C$9*A36^2","v":4665.6000000000313},{"$f":"Sheet2!$C$10*ABS(A36)","v":2160.0000000000073}]
[-4.3000000000000149,500,-131.9736,6.6012807221710325E-77,null,null,null,null,{"$f":"IF(ABS(A37)-0.001>=Sheet2!$C$6/2,Sheet2!$C$7*Sheet2!$C$8,0)","v":500},{"$f":"0.5*Sheet2!$C$9*A37^2","v":4622.5000000000327},{"$f":"Sheet2!$C$10*ABS(A37)","v":2150.0000000000073}]
[-4.2800000000000153,500,-131.9736,8.3022025992154857E-77,null,null,null,null,{"$f":"IF(ABS(A38)-0.001>=Sheet2!$C$6/2,Sheet2!$C$7*Sheet2!$C$8,0)","v":500},{"$f":"0.5*Sheet2!$C$9*A38^2","v":4579.6000000000331},{"$f":"Sheet2!$C$10*ABS(A38)","v":2140.0000000000077}]
[-4.2600000000000158,500,-131.9736,1.0441393102239071E-76,null,null,null,null,{"$f":"IF(ABS(A39)-0.001>=Sheet2!$C$6/2,Sheet2!$C$7*Sheet2!$C$8,0)","v":500},{"$f":"0.5*Sheet2!$C$9*A39^2","v":4536.9000000000342},{"$f":"Sheet2!$C$10*ABS(A39)","v":2130.0000000000077}]
[-4.2400000000000162,500,-131.9736,1.3131778899949723E-76,null,null,null,null,{"$f":"IF(ABS(A40)-0.001>=Sheet2!$C$6/2,Sheet2!$C$7*Sheet2!$C$8,0)","v":500},{"$f":"0.5*Sheet2!$C$9*A40^2","v":4494.4000000000342},{"$f":"Sheet2!$C$10*ABS(A40)","v":2120.0000000000082}]
[-4.2200000000000166,500,-131.9736,1.6515383951992539E-76,null,null,null,null,{"$f":"IF(ABS(A41)-0.001>=Sheet2!$C$6/2,Sheet2!$C$7*Sheet2!$C$8,0)","v":500},{"$f":"0.5*Sheet2!$C$9*A41^2","v":4452.1000000000349},{"$f":"Sheet2!$C$10*ABS(A41)","v":2110.0000000000082}]
[-4.2000000000000171,500,-131.9736,2.0770826874246033E-76,null,null,null,null,{"$f":"IF(ABS(A42)-0.001>=Sheet2!$C$6/2,Sheet2!$C$7*Sheet2!$C$8,0)","v":500},{"$f":"0.5*Sheet2!$C$9*A42^2","v":4410.0000000000355},{"$f":"Sheet2!$C$10*ABS(A42)","v":2100.0000000000086}]
[-4.1800000000000175,500,-131.9736,2.6122750115527932E-76,null,null,null,null,{"$f":"IF(ABS(A43)-0.001>=Sheet2!$C$6/2,Sheet2!$C$7*Sheet2!$C$8,0)","v":500},{"$f":"0.5*Sheet2!$C$9*A43^2","v":4368.1000000000367},{"$f":"Sheet2!$C$10*ABS(A43)","v":2090.0000000000086}]
[-4.1600000000000179,500,-131.9736,3.2853678706668489E-76,null,null,null,null,{"$f":"IF(ABS(A44)-0.001>=Sheet2!$C$6/2,Sheet2!$C$7*Sheet2!$C$8,0)","v":500},{"$f":"0.5*Sheet2!$C$9*A44^2","v":4326.4000000000369},{"$f":"Sheet2!$C$10*ABS(A44)","v":2080.0000000000091}]
[-4.1400000000000183,500,-131.9736,4.1318934598674003E-76,null,null,null,null,{"$f":"IF(ABS(A45)-0.001>=Sheet2!$C$6/2,Sheet2!$C$7*Sheet2!$C$8,0)","v":500},{"$f":"0.5*Sheet2!$C$9*A45^2","v":4284.9000000000378},{"$f":"Sheet2!$C$10*ABS(A45)","v":2070.0000000000091}]
[-4.1200000000000188,500,-131.9736,5.1965393909540155E-76,null,null,null,null,{"$f":"IF(ABS(A46)-0.001>=Sheet2!$C$6/2,Sheet2!$C$7*Sheet2!$C$8,0)","v":500},{"$f":"0.5*Sheet2!$C$9*A46^2","v":4243.6000000000386},{"$f":"Sheet2!$C$10*ABS(A46)","v":2060.0000000000095}]
[-4.1000000000000192,500,-131.9736,6.5355077264270349E-76,null,null,null,null,{"$f":"IF(ABS(A47)-0.001>=Sheet2!$C$6/2,Sheet2!$C$7*Sheet2!$C$8,0)","v":500},{"$f":"0.5*Sheet2!$C$9*A47^2","v":4202.50000000004},{"$f":"Sheet2!$C$10*ABS(A47)","v":2050.0000000000095}]
[-4.0800000000000196,500,-131.9736,8.2194818548938125E-76,null,null,null,null,{"$f":"IF(ABS(A48)-0.001>=Sheet2!$C$6/2,Sheet2!$C$7*Sheet2!$C$8,0)","v":500},{"$f":"0.5*Sheet2!$C$9*A48^2","v":4161.6000000000404},{"$f":"Sheet2!$C$10*ABS(A48)","v":2040.0000000000098}]
[-4.06000000000002,500,-131.9736,1.0337357827570597E-75,null,null,null,null,{"$f":"IF(ABS(A49)-0.001>=Sheet2!$C$6/2,Sheet2!$C$7*Sheet2!$C$8,0)","v":500},{"$f":"0.5*Sheet2!$C$9*A49^2","v":4120.9000000000406},{"$f":"Sheet2!$C$10*ABS(A49)","v":2030.00000000001}]
[-4.0400000000000205,500,-131.9736,1.3000937131044451E-75,null,null,null,null,{"$f":"IF(ABS(A50)-0.001>=Sheet2!$C$6/2,Sheet2!$C$7*Sheet2!$C$8,0)","v":500},{"$f":"0.5*Sheet2!$C$9*A50^2","v":4080.4000000000419},{"$f":"Sheet2!$C$10*ABS(A50)","v":2020.0000000000102}]
[-4.0200000000000209,500,-131.9736,1.6350828625141354E-75,null,null,null,null,{"$f":"IF(ABS(A51)-0.001>=Sheet2!$C$6/2,Sheet2!$C$7*Sheet2!$C$8,0)","v":500},{"$f":"0.5*Sheet2!$C$9*A51^2","v":4040.1000000000417},{"$f":"Sheet2!$C$10*ABS(A51)","v":2010.0000000000105}]
[-4.0000000000000213,500,-131.9736,2.0563871205895441E-75,null,null,null,null,{"$f":"IF(ABS(A52)-0.001>=Sheet2!$C$6/2,Sheet2!$C$7*Sheet2!$C$8,0)","v":500},{"$f":"0.5*Sheet2!$C$9*A52^2","v":4000.0000000000427},{"$f":"Sheet2!$C$10*ABS(A52)","v":2000.0000000000107}]
[-3.9800000000000213,500,-131.9736,2.5862469031840876E-75,null,null,null,null,{"$f":"IF(ABS(A53)-0.001>=Sheet2!$C$6/2,Sheet2!$C$7*Sheet2!$C$8,0)","v":500},{"$f":"0.5*Sheet2!$C$9*A53^2","v":3960.1000000000422},{"$f":"Sheet2!$C$10*ABS(A53)","v":1990.0000000000107}]
[-3.9600000000000213,500,-131.9736,3.2526332114994544E-75,null,null,null,null,{"$f":"IF(ABS(A54)-0.001>=Sheet2!$C$6/2,Sheet2!$C$7*Sheet2!$C$8,0)","v":500},{"$f":"0.5*Sheet2!$C$9*A54^2","v":3920.4000000000419},{"$f":"Sheet2!$C$10*ABS(A54)","v":1980.0000000000107}]
[-3.9400000000000213,500,-131.9736,4.0907242055752798E-75,null,null,null,null,{"$f":"IF(ABS(A55)-0.001>=Sheet2!$C$6/2,Sheet2!$C$7*Sheet2!$C$8,0)","v":500},{"$f":"0.5*Sheet2!$C$9*A55^2","v":3880.9000000000419},{"$f":"Sheet2!$C$10*ABS(A55)","v":1970.0000000000107}]
[-3.9200000000000212,500,-131.9736,5.1447622396578698E-75,null,null,null,null,{"$f":"IF(ABS(A56)-0.001>=Sheet2!$C$6/2,Sheet2!$C$7*Sheet2!$C$8,0)","v":500},{"$f":"0.5*Sheet2!$C$9*A56^2","v":3841.6000000000413},{"$f":"Sheet2!$C$10*ABS(A56)","v":1960.0000000000107}]
[-3.9000000000000212,500,-131.9736,6.4703893913051444E-75,null,null,null,null,{"$f":"IF(ABS(A57)-0.001>=Sheet2!$C$6/2,Sheet2!$C$7*Sheet2!$C$8,0)","v":500},{"$f":"0.5*Sheet2!$C$9*A57^2","v":3802.5000000000414},{"$f":"Sheet2!$C$10*ABS(A57)","v":1950.0000000000107}]
[-3.8800000000000212,500,-131.9736,8.1375847755013597E-75,null,null,null,null,{"$f":"IF(ABS(A58)-0.001>=Sheet2!$C$6/2,Sheet2!$C$7*Sheet2!$C$8,0)","v":500},{"$f":"0.5*Sheet2!$C$9*A58^2","v":3763.6000000000413},{"$f":"Sheet2!$C$10*ABS(A58)","v":1940.0000000000107}]
[-3.8600000000000212,500,-131.9736,1.0234358702948819E-74,null,null,null,null,{"$f":"IF(ABS(A59)-0.001>=Sheet2!$C$6/2,Sheet2!$C$7*Sheet2!$C$8,0)","v":500},{"$f":"0.5*Sheet2!$C$9*A59^2","v":3724.9000000000406},{"$f":"Sheet2!$C$10*ABS(A59)","v":1930.0000000000107}]
[-3.8400000000000212,500,-131.9736,1.2871398695084074E-74,null,null,null,null,{"$f":"IF(ABS(A60)-0.001>=Sheet2!$C$6/2,Sheet2!$C$7*Sheet2!$C$8,0)","v":500},{"$f":"0.5*Sheet2!$C$9*A60^2","v":3686.4000000000406},{"$f":"Sheet2!$C$10*ABS(A60)","v":1920.0000000000107}]
[-3.8200000000000212,500,-131.9736,1.6187912616349549E-74,null,null,null,null,{"$f":"IF(ABS(A61)-0.001>=Sheet2!$C$6/2,Sheet2!$C$7*Sheet2!$C$8,0)","v":500},{"$f":"0.5*Sheet2!$C$9*A61^2","v":3648.1000000000404},{"$f":"Sheet2!$C$10*ABS(A61)","v":1910.0000000000107}]
[-3.8000000000000211,500,-131.9736,2.0358977379401054E-74,null,null,null,null,{"$f":"IF(ABS(A62)-0.001>=Sheet2!$C$6/2,Sheet2!$C$7*Sheet2!$C$8,0)","v":500},{"$f":"0.5*Sheet2!$C$9*A62^2","v":3610.0000000000405},{"$f":"Sheet2!$C$10*ABS(A62)","v":1900.0000000000105}]
[-3.7800000000000211,500,-131.9736,2.5604781157283819E-74,null,null,null,null,{"$f":"IF(ABS(A63)-0.001>=Sheet2!$C$6/2,Sheet2!$C$7*Sheet2!$C$8,0)","v":500},{"$f":"0.5*Sheet2!$C$9*A63^2","v":3572.1000000000399},{"$f":"Sheet2!$C$10*ABS(A63)","v":1890.0000000000105}]
[-3.7600000000000211,500,-131.9736,3.2202246993782148E-74,null,null,null,null,{"$f":"IF(ABS(A64)-0.001>=Sheet2!$C$6/2,Sheet2!$C$7*Sheet2!$C$8,0)","v":500},{"$f":"0.5*Sheet2!$C$9*A64^2","v":3534.4000000000397},{"$f":"Sheet2!$C$10*ABS(A64)","v":1880.0000000000105}]
[-3.7400000000000211,500,-131.9736,4.0499651415823929E-74,null,null,null,null,{"$f":"IF(ABS(A65)-0.001>=Sheet2!$C$6/2,Sheet2!$C$7*Sheet2!$C$8,0)","v":500},{"$f":"0.5*Sheet2!$C$9*A65^2","v":3496.9000000000397},{"$f":"Sheet2!$C$10*ABS(A65)","v":1870.0000000000105}]
[-3.7200000000000211,500,{"$f":"0.264*($E$2-B66)","v":-131.9736},5.0935009756302258E-74,null,null,null,null,{"$f":"IF(ABS(A66)-0.001>=Sheet2!$C$6/2,Sheet2!$C$7*Sheet2!$C$8,0)","v":500},{"$f":"0.5*Sheet2!$C$9*A66^2","v":3459.600000000039},{"$f":"Sheet2!$C$10*ABS(A66)","v":1860.0000000000105}]
[-3.700000000000021,500,-131.9736,6.4059198738210327E-74,null,null,null,null,{"$f":"IF(ABS(A67)-0.001>=Sheet2!$C$6/2,Sheet2!$C$7*Sheet2!$C$8,0)","v":500},{"$f":"0.5*Sheet2!$C$9*A67^2","v":3422.5000000000391},{"$f":"Sheet2!$C$10*ABS(A67)","v":1850.0000000000105}]
[{"$f":"+A67+0.02","v":-3.680000000000021},500,-131.9736,{"$f":"(2- 0.0004*C67)*D67-D66","v":8.0565036948357238E-74},null,null,null,null,{"$f":"IF(ABS(A68)-0.001>=Sheet2!$C$6/2,Sheet2!$C$7*Sheet2!$C$8,0)","v":500},{"$f":"0.5*Sheet2!$C$9*A68^2","v":3385.600000000039},{"$f":"Sheet2!$C$10*ABS(A68)","v":1840.0000000000105}]
[-3.660000000000021,500,-131.9736,1.0132385834258725E-73,null,null,null,null,{"$f":"IF(ABS(A69)-0.001>=Sheet2!$C$6/2,Sheet2!$C$7*Sheet2!$C$8,0)","v":500},{"$f":"0.5*Sheet2!$C$9*A69^2","v":3348.9000000000387},{"$f":"Sheet2!$C$10*ABS(A69)","v":1830.0000000000105}]
[-3.640000000000021,500,-131.9736,1.274315094773618E-73,null,null,null,null,{"$f":"IF(ABS(A70)-0.001>=Sheet2!$C$6/2,Sheet2!$C$7*Sheet2!$C$8,0)","v":500},{"$f":"0.5*Sheet2!$C$9*A70^2","v":3312.4000000000383},{"$f":"Sheet2!$C$10*ABS(A70)","v":1820.0000000000105}]
[-3.620000000000021,500,-131.9736,1.6026619863580099E-73,null,null,null,null,{"$f":"IF(ABS(A71)-0.001>=Sheet2!$C$6/2,Sheet2!$C$7*Sheet2!$C$8,0)","v":500},{"$f":"0.5*Sheet2!$C$9*A71^2","v":3276.1000000000377},{"$f":"Sheet2!$C$10*ABS(A71)","v":1810.0000000000105}]
[-3.600000000000021,500,-131.9736,2.0156125067115288E-73,null,null,null,null,{"$f":"IF(ABS(A72)-0.001>=Sheet2!$C$6/2,Sheet2!$C$7*Sheet2!$C$8,0)","v":500},{"$f":"0.5*Sheet2!$C$9*A72^2","v":3240.0000000000373},{"$f":"Sheet2!$C$10*ABS(A72)","v":1800.0000000000105}]
[-3.5800000000000209,500,-131.9736,2.534966082551346E-73,null,null,null,null,{"$f":"IF(ABS(A73)-0.001>=Sheet2!$C$6/2,Sheet2!$C$7*Sheet2!$C$8,0)","v":500},{"$f":"0.5*Sheet2!$C$9*A73^2","v":3204.1000000000377},{"$f":"Sheet2!$C$10*ABS(A73)","v":1790.0000000000105}]
[-3.5600000000000209,500,-131.9736,3.1881390983080426E-73,null,null,null,null,{"$f":"IF(ABS(A74)-0.001>=Sheet2!$C$6/2,Sheet2!$C$7*Sheet2!$C$8,0)","v":500},{"$f":"0.5*Sheet2!$C$9*A74^2","v":3168.4000000000374},{"$f":"Sheet2!$C$10*ABS(A74)","v":1780.0000000000105}]
[-3.5400000000000209,500,-131.9736,4.0096121917065262E-73,null,null,null,null,{"$f":"IF(ABS(A75)-0.001>=Sheet2!$C$6/2,Sheet2!$C$7*Sheet2!$C$8,0)","v":500},{"$f":"0.5*Sheet2!$C$9*A75^2","v":3132.9000000000369},{"$f":"Sheet2!$C$10*ABS(A75)","v":1770.0000000000105}]
[-3.5200000000000209,500,-131.9736,5.0427504673223705E-73,null,null,null,null,{"$f":"IF(ABS(A76)-0.001>=Sheet2!$C$6/2,Sheet2!$C$7*Sheet2!$C$8,0)","v":500},{"$f":"0.5*Sheet2!$C$9*A76^2","v":3097.6000000000367},{"$f":"Sheet2!$C$10*ABS(A76)","v":1760.0000000000105}]
[-3.5000000000000209,500,-131.9736,6.3420927161679024E-73,null,null,null,null,{"$f":"IF(ABS(A77)-0.001>=Sheet2!$C$6/2,Sheet2!$C$7*Sheet2!$C$8,0)","v":500},{"$f":"0.5*Sheet2!$C$9*A77^2","v":3062.5000000000364},{"$f":"Sheet2!$C$10*ABS(A77)","v":1750.0000000000105}]
[-3.4800000000000209,500,-131.9736,7.9762304879280184E-73,null,null,null,null,{"$f":"IF(ABS(A78)-0.001>=Sheet2!$C$6/2,Sheet2!$C$7*Sheet2!$C$8,0)","v":500},{"$f":"0.5*Sheet2!$C$9*A78^2","v":3027.6000000000363},{"$f":"Sheet2!$C$10*ABS(A78)","v":1740.0000000000105}]
[-3.4600000000000208,500,-131.9736,1.0031429000456782E-72,null,null,null,null,{"$f":"IF(ABS(A79)-0.001>=Sheet2!$C$6/2,Sheet2!$C$7*Sheet2!$C$8,0)","v":500},{"$f":"0.5*Sheet2!$C$9*A79^2","v":2992.900000000036},{"$f":"Sheet2!$C$10*ABS(A79)","v":1730.0000000000105}]
[-3.4400000000000208,500,-131.9736,1.2616181032319421E-72,null,null,null,null,{"$f":"IF(ABS(A80)-0.001>=Sheet2!$C$6/2,Sheet2!$C$7*Sheet2!$C$8,0)","v":500},{"$f":"0.5*Sheet2!$C$9*A80^2","v":2958.4000000000356},{"$f":"Sheet2!$C$10*ABS(A80)","v":1720.0000000000105}]
[-3.4200000000000208,500,-131.9736,1.5866934195816827E-72,null,null,null,null,{"$f":"IF(ABS(A81)-0.001>=Sheet2!$C$6/2,Sheet2!$C$7*Sheet2!$C$8,0)","v":500},{"$f":"0.5*Sheet2!$C$9*A81^2","v":2924.1000000000358},{"$f":"Sheet2!$C$10*ABS(A81)","v":1710.0000000000105}]
[-3.4000000000000208,500,-131.9736,1.9955293930028256E-72,null,null,null,null,{"$f":"IF(ABS(A82)-0.001>=Sheet2!$C$6/2,Sheet2!$C$7*Sheet2!$C$8,0)","v":500},{"$f":"0.5*Sheet2!$C$9*A82^2","v":2890.000000000035},{"$f":"Sheet2!$C$10*ABS(A82)","v":1700.0000000000105}]
[-3.3800000000000208,500,-131.9736,2.5097082455841277E-72,null,null,null,null,{"$f":"IF(ABS(A83)-0.001>=Sheet2!$C$6/2,Sheet2!$C$7*Sheet2!$C$8,0)","v":500},{"$f":"0.5*Sheet2!$C$9*A83^2","v":2856.1000000000354},{"$f":"Sheet2!$C$10*ABS(A83)","v":1690.0000000000105}]
[-3.3600000000000207,500,-131.9736,3.1563731910131989E-72,null,null,null,null,{"$f":"IF(ABS(A84)-0.001>=Sheet2!$C$6/2,Sheet2!$C$7*Sheet2!$C$8,0)","v":500},{"$f":"0.5*Sheet2!$C$9*A84^2","v":2822.4000000000347},{"$f":"Sheet2!$C$10*ABS(A84)","v":1680.0000000000105}]
[-3.3400000000000207,500,-131.9736,3.9696613096268708E-72,null,null,null,null,{"$f":"IF(ABS(A85)-0.001>=Sheet2!$C$6/2,Sheet2!$C$7*Sheet2!$C$8,0)","v":500},{"$f":"0.5*Sheet2!$C$9*A85^2","v":2788.9000000000347},{"$f":"Sheet2!$C$10*ABS(A85)","v":1670.0000000000105}]
[-3.3200000000000207,500,-131.9736,4.9925056257654124E-72,null,null,null,null,{"$f":"IF(ABS(A86)-0.001>=Sheet2!$C$6/2,Sheet2!$C$7*Sheet2!$C$8,0)","v":500},{"$f":"0.5*Sheet2!$C$9*A86^2","v":2755.6000000000345},{"$f":"Sheet2!$C$10*ABS(A86)","v":1660.0000000000105}]
[-3.3000000000000207,500,-131.9736,6.2789015180849614E-72,null,null,null,null,{"$f":"IF(ABS(A87)-0.001>=Sheet2!$C$6/2,Sheet2!$C$7*Sheet2!$C$8,0)","v":500},{"$f":"0.5*Sheet2!$C$9*A87^2","v":2722.5000000000346},{"$f":"Sheet2!$C$10*ABS(A87)","v":1650.0000000000105}]
[-3.2800000000000207,500,-131.9736,7.8967571053593672E-72,null,null,null,null,{"$f":"IF(ABS(A88)-0.001>=Sheet2!$C$6/2,Sheet2!$C$7*Sheet2!$C$8,0)","v":500},{"$f":"0.5*Sheet2!$C$9*A88^2","v":2689.6000000000336},{"$f":"Sheet2!$C$10*ABS(A88)","v":1640.0000000000102}]
[-3.2600000000000207,500,-131.9736,9.9314780780417164E-72,null,null,null,null,{"$f":"IF(ABS(A89)-0.001>=Sheet2!$C$6/2,Sheet2!$C$7*Sheet2!$C$8,0)","v":500},{"$f":"0.5*Sheet2!$C$9*A89^2","v":2656.9000000000337},{"$f":"Sheet2!$C$10*ABS(A89)","v":1630.0000000000102}]
[-3.2400000000000206,500,-131.9736,1.2490476216836168E-71,null,null,null,null,{"$f":"IF(ABS(A90)-0.001>=Sheet2!$C$6/2,Sheet2!$C$7*Sheet2!$C$8,0)","v":500},{"$f":"0.5*Sheet2!$C$9*A90^2","v":2624.4000000000333},{"$f":"Sheet2!$C$10*ABS(A90)","v":1620.0000000000102}]
[-3.2200000000000206,500,-131.9736,1.570883960045072E-71,null,null,null,null,{"$f":"IF(ABS(A91)-0.001>=Sheet2!$C$6/2,Sheet2!$C$7*Sheet2!$C$8,0)","v":500},{"$f":"0.5*Sheet2!$C$9*A91^2","v":2592.1000000000331},{"$f":"Sheet2!$C$10*ABS(A91)","v":1610.0000000000102}]
[-3.2000000000000206,500,-131.9736,1.9756463829622891E-71,null,null,null,null,{"$f":"IF(ABS(A92)-0.001>=Sheet2!$C$6/2,Sheet2!$C$7*Sheet2!$C$8,0)","v":500},{"$f":"0.5*Sheet2!$C$9*A92^2","v":2560.0000000000327},{"$f":"Sheet2!$C$10*ABS(A92)","v":1600.0000000000102}]
[-3.1800000000000206,500,-131.9736,2.4847020720741113E-71,null,null,null,null,{"$f":"IF(ABS(A93)-0.001>=Sheet2!$C$6/2,Sheet2!$C$7*Sheet2!$C$8,0)","v":500},{"$f":"0.5*Sheet2!$C$9*A93^2","v":2528.1000000000327},{"$f":"Sheet2!$C$10*ABS(A93)","v":1590.0000000000102}]
[-3.1600000000000206,500,-131.9736,3.1249237921375658E-71,null,null,null,null,{"$f":"IF(ABS(A94)-0.001>=Sheet2!$C$6/2,Sheet2!$C$7*Sheet2!$C$8,0)","v":500},{"$f":"0.5*Sheet2!$C$9*A94^2","v":2496.4000000000324},{"$f":"Sheet2!$C$10*ABS(A94)","v":1580.0000000000102}]
[-3.1400000000000206,500,-131.9736,3.9301084892306396E-71,null,null,null,null,{"$f":"IF(ABS(A95)-0.001>=Sheet2!$C$6/2,Sheet2!$C$7*Sheet2!$C$8,0)","v":500},{"$f":"0.5*Sheet2!$C$9*A95^2","v":2464.9000000000319},{"$f":"Sheet2!$C$10*ABS(A95)","v":1570.0000000000102}]
[-3.1200000000000205,500,-131.9736,4.9427614126094458E-71,null,null,null,null,{"$f":"IF(ABS(A96)-0.001>=Sheet2!$C$6/2,Sheet2!$C$7*Sheet2!$C$8,0)","v":500},{"$f":"0.5*Sheet2!$C$9*A96^2","v":2433.6000000000322},{"$f":"Sheet2!$C$10*ABS(A96)","v":1560.0000000000102}]
[-3.1000000000000205,500,-131.9736,6.2163399430135151E-71,null,null,null,null,{"$f":"IF(ABS(A97)-0.001>=Sheet2!$C$6/2,Sheet2!$C$7*Sheet2!$C$8,0)","v":500},{"$f":"0.5*Sheet2!$C$9*A97^2","v":2402.5000000000318},{"$f":"Sheet2!$C$10*ABS(A97)","v":1550.0000000000102}]
[-3.0800000000000205,500,-131.9736,7.8180755778589011E-71,null,null,null,null,{"$f":"IF(ABS(A98)-0.001>=Sheet2!$C$6/2,Sheet2!$C$7*Sheet2!$C$8,0)","v":500},{"$f":"0.5*Sheet2!$C$9*A98^2","v":2371.6000000000313},{"$f":"Sheet2!$C$10*ABS(A98)","v":1540.0000000000102}]
[-3.0600000000000205,500,-131.9736,9.8325230443371349E-71,null,null,null,null,{"$f":"IF(ABS(A99)-0.001>=Sheet2!$C$6/2,Sheet2!$C$7*Sheet2!$C$8,0)","v":500},{"$f":"0.5*Sheet2!$C$9*A99^2","v":2340.9000000000315},{"$f":"Sheet2!$C$10*ABS(A99)","v":1530.0000000000102}]
[-3.0400000000000205,500,-131.9736,1.2366023896113022E-70,null,null,null,null,{"$f":"IF(ABS(A100)-0.001>=Sheet2!$C$6/2,Sheet2!$C$7*Sheet2!$C$8,0)","v":500},{"$f":"0.5*Sheet2!$C$9*A100^2","v":2310.400000000031},{"$f":"Sheet2!$C$10*ABS(A100)","v":1520.0000000000102}]
[-3.0200000000000204,500,-131.9736,1.5552320224391336E-70,null,null,null,null,{"$f":"IF(ABS(A101)-0.001>=Sheet2!$C$6/2,Sheet2!$C$7*Sheet2!$C$8,0)","v":500},{"$f":"0.5*Sheet2!$C$9*A101^2","v":2280.1000000000308},{"$f":"Sheet2!$C$10*ABS(A101)","v":1510.0000000000102}]
[-3.0000000000000204,500,-131.9736,1.9559614828015949E-70,null,null,null,null,{"$f":"IF(ABS(A102)-0.001>=Sheet2!$C$6/2,Sheet2!$C$7*Sheet2!$C$8,0)","v":500},{"$f":"0.5*Sheet2!$C$9*A102^2","v":2250.0000000000305},{"$f":"Sheet2!$C$10*ABS(A102)","v":1500.0000000000102}]
[-2.9800000000000204,500,-131.9736,2.4599450545027224E-70,null,null,null,null,{"$f":"IF(ABS(A103)-0.001>=Sheet2!$C$6/2,Sheet2!$C$7*Sheet2!$C$8,0)","v":500},{"$f":"0.5*Sheet2!$C$9*A103^2","v":2220.1000000000304},{"$f":"Sheet2!$C$10*ABS(A103)","v":1490.0000000000102}]
[-2.9600000000000204,500,-131.9736,3.0937877480618187E-70,null,null,null,null,{"$f":"IF(ABS(A104)-0.001>=Sheet2!$C$6/2,Sheet2!$C$7*Sheet2!$C$8,0)","v":500},{"$f":"0.5*Sheet2!$C$9*A104^2","v":2190.4000000000301},{"$f":"Sheet2!$C$10*ABS(A104)","v":1480.0000000000102}]
[-2.9400000000000204,500,-131.9736,3.8909497643199596E-70,null,null,null,null,{"$f":"IF(ABS(A105)-0.001>=Sheet2!$C$6/2,Sheet2!$C$7*Sheet2!$C$8,0)","v":500},{"$f":"0.5*Sheet2!$C$9*A105^2","v":2160.9000000000301},{"$f":"Sheet2!$C$10*ABS(A105)","v":1470.0000000000102}]
[-2.9200000000000204,500,-131.9736,4.8935128397046833E-70,null,null,null,null,{"$f":"IF(ABS(A106)-0.001>=Sheet2!$C$6/2,Sheet2!$C$7*Sheet2!$C$8,0)","v":500},{"$f":"0.5*Sheet2!$C$9*A106^2","v":2131.6000000000299},{"$f":"Sheet2!$C$10*ABS(A106)","v":1460.0000000000102}]
[-2.9000000000000203,500,-131.9736,6.1544017175302281E-70,null,null,null,null,{"$f":"IF(ABS(A107)-0.001>=Sheet2!$C$6/2,Sheet2!$C$7*Sheet2!$C$8,0)","v":500},{"$f":"0.5*Sheet2!$C$9*A107^2","v":2102.5000000000296},{"$f":"Sheet2!$C$10*ABS(A107)","v":1450.0000000000102}]
[-2.8800000000000203,500,-131.9736,7.7401780155592319E-70,null,null,null,null,{"$f":"IF(ABS(A108)-0.001>=Sheet2!$C$6/2,Sheet2!$C$7*Sheet2!$C$8,0)","v":500},{"$f":"0.5*Sheet2!$C$9*A108^2","v":2073.600000000029},{"$f":"Sheet2!$C$10*ABS(A108)","v":1440.0000000000102}]
[-2.8600000000000203,500,-131.9736,9.734553976529921E-70,null,null,null,null,{"$f":"IF(ABS(A109)-0.001>=Sheet2!$C$6/2,Sheet2!$C$7*Sheet2!$C$8,0)","v":500},{"$f":"0.5*Sheet2!$C$9*A109^2","v":2044.900000000029},{"$f":"Sheet2!$C$10*ABS(A109)","v":1430.0000000000102}]
[-2.8400000000000203,500,-131.9736,1.2242811590571399E-69,null,null,null,null,{"$f":"IF(ABS(A110)-0.001>=Sheet2!$C$6/2,Sheet2!$C$7*Sheet2!$C$8,0)","v":500},{"$f":"0.5*Sheet2!$C$9*A110^2","v":2016.4000000000287},{"$f":"Sheet2!$C$10*ABS(A110)","v":1420.0000000000102}]
[-2.8200000000000203,500,-131.9736,1.5397360372504651E-69,null,null,null,null,{"$f":"IF(ABS(A111)-0.001>=Sheet2!$C$6/2,Sheet2!$C$7*Sheet2!$C$8,0)","v":500},{"$f":"0.5*Sheet2!$C$9*A111^2","v":1988.1000000000286},{"$f":"Sheet2!$C$10*ABS(A111)","v":1410.0000000000102}]
[-2.8000000000000203,500,-131.9736,1.9364727185980617E-69,null,null,null,null,{"$f":"IF(ABS(A112)-0.001>=Sheet2!$C$6/2,Sheet2!$C$7*Sheet2!$C$8,0)","v":500},{"$f":"0.5*Sheet2!$C$9*A112^2","v":1960.0000000000284},{"$f":"Sheet2!$C$10*ABS(A112)","v":1400.0000000000102}]
[-2.7800000000000202,500,-131.9736,2.435434710335728E-69,null,null,null,null,{"$f":"IF(ABS(A113)-0.001>=Sheet2!$C$6/2,Sheet2!$C$7*Sheet2!$C$8,0)","v":500},{"$f":"0.5*Sheet2!$C$9*A113^2","v":1932.1000000000281},{"$f":"Sheet2!$C$10*ABS(A113)","v":1390.00000000001}]
[-2.7600000000000202,500,-131.9736,3.0629619365885797E-69,null,null,null,null,{"$f":"IF(ABS(A114)-0.001>=Sheet2!$C$6/2,Sheet2!$C$7*Sheet2!$C$8,0)","v":500},{"$f":"0.5*Sheet2!$C$9*A114^2","v":1904.4000000000278},{"$f":"Sheet2!$C$10*ABS(A114)","v":1380.00000000001}]
[-2.7400000000000202,500,-131.9736,3.8521812082152591E-69,null,null,null,null,{"$f":"IF(ABS(A115)-0.001>=Sheet2!$C$6/2,Sheet2!$C$7*Sheet2!$C$8,0)","v":500},{"$f":"0.5*Sheet2!$C$9*A115^2","v":1876.9000000000278},{"$f":"Sheet2!$C$10*ABS(A115)","v":1370.00000000001}]
[-2.7200000000000202,500,-131.9736,4.8447549686021461E-69,null,null,null,null,{"$f":"IF(ABS(A116)-0.001>=Sheet2!$C$6/2,Sheet2!$C$7*Sheet2!$C$8,0)","v":500},{"$f":"0.5*Sheet2!$C$9*A116^2","v":1849.6000000000274},{"$f":"Sheet2!$C$10*ABS(A116)","v":1360.00000000001}]
[-2.7000000000000202,500,-131.9736,6.0930806307187579E-69,null,null,null,null,{"$f":"IF(ABS(A117)-0.001>=Sheet2!$C$6/2,Sheet2!$C$7*Sheet2!$C$8,0)","v":500},{"$f":"0.5*Sheet2!$C$9*A117^2","v":1822.5000000000273},{"$f":"Sheet2!$C$10*ABS(A117)","v":1350.00000000001}]
[-2.6800000000000201,500,-131.9736,7.6630566072058611E-69,null,null,null,null,{"$f":"IF(ABS(A118)-0.001>=Sheet2!$C$6/2,Sheet2!$C$7*Sheet2!$C$8,0)","v":500},{"$f":"0.5*Sheet2!$C$9*A118^2","v":1795.600000000027},{"$f":"Sheet2!$C$10*ABS(A118)","v":1340.00000000001}]
[-2.6600000000000201,500,-131.9736,9.6375610506756631E-69,null,null,null,null,{"$f":"IF(ABS(A119)-0.001>=Sheet2!$C$6/2,Sheet2!$C$7*Sheet2!$C$8,0)","v":500},{"$f":"0.5*Sheet2!$C$9*A119^2","v":1768.9000000000267},{"$f":"Sheet2!$C$10*ABS(A119)","v":1330.00000000001}]
[-2.6400000000000201,500,-131.9736,1.2120826944976446E-68,null,null,null,null,{"$f":"IF(ABS(A120)-0.001>=Sheet2!$C$6/2,Sheet2!$C$7*Sheet2!$C$8,0)","v":500},{"$f":"0.5*Sheet2!$C$9*A120^2","v":1742.4000000000267},{"$f":"Sheet2!$C$10*ABS(A120)","v":1320.00000000001}]
[-2.6200000000000201,500,-131.9736,1.5243944506039446E-68,null,null,null,null,{"$f":"IF(ABS(A121)-0.001>=Sheet2!$C$6/2,Sheet2!$C$7*Sheet2!$C$8,0)","v":500},{"$f":"0.5*Sheet2!$C$9*A121^2","v":1716.1000000000263},{"$f":"Sheet2!$C$10*ABS(A121)","v":1310.00000000001}]
[-2.6000000000000201,500,-131.9736,1.9171781360967349E-68,null,null,null,null,{"$f":"IF(ABS(A122)-0.001>=Sheet2!$C$6/2,Sheet2!$C$7*Sheet2!$C$8,0)","v":500},{"$f":"0.5*Sheet2!$C$9*A122^2","v":1690.0000000000261},{"$f":"Sheet2!$C$10*ABS(A122)","v":1300.00000000001}]
[-2.5800000000000201,500,-131.9736,2.4111685817743156E-68,null,null,null,null,{"$f":"IF(ABS(A123)-0.001>=Sheet2!$C$6/2,Sheet2!$C$7*Sheet2!$C$8,0)","v":500},{"$f":"0.5*Sheet2!$C$9*A123^2","v":1664.1000000000258},{"$f":"Sheet2!$C$10*ABS(A123)","v":1290.00000000001}]
[-2.56000000000002,500,-131.9736,3.0324432666293569E-68,null,null,null,null,{"$f":"IF(ABS(A124)-0.001>=Sheet2!$C$6/2,Sheet2!$C$7*Sheet2!$C$8,0)","v":500},{"$f":"0.5*Sheet2!$C$9*A124^2","v":1638.4000000000256},{"$f":"Sheet2!$C$10*ABS(A124)","v":1280.00000000001}]
[-2.54000000000002,500,-131.9736,3.8137989333615332E-68,null,null,null,null,{"$f":"IF(ABS(A125)-0.001>=Sheet2!$C$6/2,Sheet2!$C$7*Sheet2!$C$8,0)","v":500},{"$f":"0.5*Sheet2!$C$9*A125^2","v":1612.9000000000256},{"$f":"Sheet2!$C$10*ABS(A125)","v":1270.00000000001}]
[-2.52000000000002,500,-131.9736,4.7964829100584628E-68,null,null,null,null,{"$f":"IF(ABS(A126)-0.001>=Sheet2!$C$6/2,Sheet2!$C$7*Sheet2!$C$8,0)","v":500},{"$f":"0.5*Sheet2!$C$9*A126^2","v":1587.6000000000251},{"$f":"Sheet2!$C$10*ABS(A126)","v":1260.00000000001}]
[-2.50000000000002,500,-131.9736,6.0323705335469502E-68,null,null,null,null,{"$f":"IF(ABS(A127)-0.001>=Sheet2!$C$6/2,Sheet2!$C$7*Sheet2!$C$8,0)","v":500},{"$f":"0.5*Sheet2!$C$9*A127^2","v":1562.5000000000248},{"$f":"Sheet2!$C$10*ABS(A127)","v":1250.00000000001}]
[-2.48000000000002,500,-131.9736,7.5867036193738829E-68,null,null,null,null,{"$f":"IF(ABS(A128)-0.001>=Sheet2!$C$6/2,Sheet2!$C$7*Sheet2!$C$8,0)","v":500},{"$f":"0.5*Sheet2!$C$9*A128^2","v":1537.6000000000247},{"$f":"Sheet2!$C$10*ABS(A128)","v":1240.00000000001}]
[-2.4600000000000199,500,-131.9736,9.5415345407135387E-68,null,null,null,null,{"$f":"IF(ABS(A129)-0.001>=Sheet2!$C$6/2,Sheet2!$C$7*Sheet2!$C$8,0)","v":500},{"$f":"0.5*Sheet2!$C$9*A129^2","v":1512.9000000000246},{"$f":"Sheet2!$C$10*ABS(A129)","v":1230.00000000001}]
[-2.4400000000000199,500,{"$f":"0.264*($E$2-B130)","v":-131.9736},1.2000057727198121E-67,null,null,null,null,{"$f":"IF(ABS(A130)-0.001>=Sheet2!$C$6/2,Sheet2!$C$7*Sheet2!$C$8,0)","v":500},{"$f":"0.5*Sheet2!$C$9*A130^2","v":1488.4000000000244},{"$f":"Sheet2!$C$10*ABS(A130)","v":1220.00000000001}]
[-2.4200000000000199,500,-131.9736,1.5092057241069169E-67,null,null,null,null,{"$f":"IF(ABS(A131)-0.001>=Sheet2!$C$6/2,Sheet2!$C$7*Sheet2!$C$8,0)","v":500},{"$f":"0.5*Sheet2!$C$9*A131^2","v":1464.1000000000242},{"$f":"Sheet2!$C$10*ABS(A131)","v":1210.00000000001}]
[{"$f":"+A131+0.02","v":-2.4000000000000199},500,-131.9736,{"$f":"(2- 0.0004*C131)*D131-D130","v":1.8980758005144208E-67},null,null,null,null,{"$f":"IF(ABS(A132)-0.001>=Sheet2!$C$6/2,Sheet2!$C$7*Sheet2!$C$8,0)","v":500},{"$f":"0.5*Sheet2!$C$9*A132^2","v":1440.0000000000239},{"$f":"Sheet2!$C$10*ABS(A132)","v":1200.00000000001}]
[-2.3800000000000199,500,-131.9736,2.3871442355086329E-67,null,null,null,null,{"$f":"IF(ABS(A133)-0.001>=Sheet2!$C$6/2,Sheet2!$C$7*Sheet2!$C$8,0)","v":500},{"$f":"0.5*Sheet2!$C$9*A133^2","v":1416.1000000000238},{"$f":"Sheet2!$C$10*ABS(A133)","v":1190.00000000001}]
[-2.3600000000000199,500,-131.9736,3.0022286778945742E-67,null,null,null,null,{"$f":"IF(ABS(A134)-0.001>=Sheet2!$C$6/2,Sheet2!$C$7*Sheet2!$C$8,0)","v":500},{"$f":"0.5*Sheet2!$C$9*A134^2","v":1392.4000000000233},{"$f":"Sheet2!$C$10*ABS(A134)","v":1180.00000000001}]
[-2.3400000000000198,500,-131.9736,3.7757990909385107E-67,null,null,null,null,{"$f":"IF(ABS(A135)-0.001>=Sheet2!$C$6/2,Sheet2!$C$7*Sheet2!$C$8,0)","v":500},{"$f":"0.5*Sheet2!$C$9*A135^2","v":1368.9000000000233},{"$f":"Sheet2!$C$10*ABS(A135)","v":1170.00000000001}]
[-2.3200000000000198,500,-131.9736,4.7486918235456005E-67,null,null,null,null,{"$f":"IF(ABS(A136)-0.001>=Sheet2!$C$6/2,Sheet2!$C$7*Sheet2!$C$8,0)","v":500},{"$f":"0.5*Sheet2!$C$9*A136^2","v":1345.6000000000231},{"$f":"Sheet2!$C$10*ABS(A136)","v":1160.00000000001}]
[-2.3000000000000198,500,-131.9736,5.972265338250242E-67,null,null,null,null,{"$f":"IF(ABS(A137)-0.001>=Sheet2!$C$6/2,Sheet2!$C$7*Sheet2!$C$8,0)","v":500},{"$f":"0.5*Sheet2!$C$9*A137^2","v":1322.500000000023},{"$f":"Sheet2!$C$10*ABS(A137)","v":1150.00000000001}]
[-2.2800000000000198,500,-131.9736,7.511111395692526E-67,null,null,null,null,{"$f":"IF(ABS(A138)-0.001>=Sheet2!$C$6/2,Sheet2!$C$7*Sheet2!$C$8,0)","v":500},{"$f":"0.5*Sheet2!$C$9*A138^2","v":1299.6000000000224},{"$f":"Sheet2!$C$10*ABS(A138)","v":1140.00000000001}]
[-2.2600000000000198,500,-131.9736,9.4464648174910393E-67,null,null,null,null,{"$f":"IF(ABS(A139)-0.001>=Sheet2!$C$6/2,Sheet2!$C$7*Sheet2!$C$8,0)","v":500},{"$f":"0.5*Sheet2!$C$9*A139^2","v":1276.9000000000224},{"$f":"Sheet2!$C$10*ABS(A139)","v":1130.0000000000098}]
[-2.2400000000000198,500,-131.9736,1.1880491826984609E-66,null,null,null,null,{"$f":"IF(ABS(A140)-0.001>=Sheet2!$C$6/2,Sheet2!$C$7*Sheet2!$C$8,0)","v":500},{"$f":"0.5*Sheet2!$C$9*A140^2","v":1254.4000000000221},{"$f":"Sheet2!$C$10*ABS(A140)","v":1120.0000000000098}]
[-2.2200000000000197,500,-131.9736,1.4941683346949274E-66,null,null,null,null,{"$f":"IF(ABS(A141)-0.001>=Sheet2!$C$6/2,Sheet2!$C$7*Sheet2!$C$8,0)","v":500},{"$f":"0.5*Sheet2!$C$9*A141^2","v":1232.100000000022},{"$f":"Sheet2!$C$10*ABS(A141)","v":1110.0000000000098}]
[-2.2000000000000197,500,-131.9736,1.8791637963456721E-66,null,null,null,null,{"$f":"IF(ABS(A142)-0.001>=Sheet2!$C$6/2,Sheet2!$C$7*Sheet2!$C$8,0)","v":500},{"$f":"0.5*Sheet2!$C$9*A142^2","v":1210.0000000000218},{"$f":"Sheet2!$C$10*ABS(A142)","v":1100.0000000000098}]
[-2.1800000000000197,500,-131.9736,2.3633592624737792E-66,null,null,null,null,{"$f":"IF(ABS(A143)-0.001>=Sheet2!$C$6/2,Sheet2!$C$7*Sheet2!$C$8,0)","v":500},{"$f":"0.5*Sheet2!$C$9*A143^2","v":1188.1000000000215},{"$f":"Sheet2!$C$10*ABS(A143)","v":1090.0000000000098}]
[-2.1600000000000197,500,-131.9736,2.9723151405866906E-66,null,null,null,null,{"$f":"IF(ABS(A144)-0.001>=Sheet2!$C$6/2,Sheet2!$C$7*Sheet2!$C$8,0)","v":500},{"$f":"0.5*Sheet2!$C$9*A144^2","v":1166.4000000000212},{"$f":"Sheet2!$C$10*ABS(A144)","v":1080.0000000000098}]
[-2.1400000000000197,500,-131.9736,3.7381778704746954E-66,null,null,null,null,{"$f":"IF(ABS(A145)-0.001>=Sheet2!$C$6/2,Sheet2!$C$7*Sheet2!$C$8,0)","v":500},{"$f":"0.5*Sheet2!$C$9*A145^2","v":1144.900000000021},{"$f":"Sheet2!$C$10*ABS(A145)","v":1070.0000000000098}]
[-2.1200000000000196,500,-131.9736,4.7013769167654527E-66,null,null,null,null,{"$f":"IF(ABS(A146)-0.001>=Sheet2!$C$6/2,Sheet2!$C$7*Sheet2!$C$8,0)","v":500},{"$f":"0.5*Sheet2!$C$9*A146^2","v":1123.6000000000208},{"$f":"Sheet2!$C$10*ABS(A146)","v":1060.0000000000098}]
[-2.1000000000000196,500,-131.9736,5.9127590177211852E-66,null,null,null,null,{"$f":"IF(ABS(A147)-0.001>=Sheet2!$C$6/2,Sheet2!$C$7*Sheet2!$C$8,0)","v":500},{"$f":"0.5*Sheet2!$C$9*A147^2","v":1102.5000000000207},{"$f":"Sheet2!$C$10*ABS(A147)","v":1050.0000000000098}]
[-2.0800000000000196,500,-131.9736,7.4362723560773705E-66,null,null,null,null,{"$f":"IF(ABS(A148)-0.001>=Sheet2!$C$6/2,Sheet2!$C$7*Sheet2!$C$8,0)","v":500},{"$f":"0.5*Sheet2!$C$9*A148^2","v":1081.6000000000204},{"$f":"Sheet2!$C$10*ABS(A148)","v":1040.0000000000098}]
[-2.0600000000000196,500,-131.9736,9.3523423477983622E-66,null,null,null,null,{"$f":"IF(ABS(A149)-0.001>=Sheet2!$C$6/2,Sheet2!$C$7*Sheet2!$C$8,0)","v":500},{"$f":"0.5*Sheet2!$C$9*A149^2","v":1060.9000000000201},{"$f":"Sheet2!$C$10*ABS(A149)","v":1030.0000000000098}]
[-2.0400000000000196,500,-131.9736,1.1762117254747917E-65,null,null,null,null,{"$f":"IF(ABS(A150)-0.001>=Sheet2!$C$6/2,Sheet2!$C$7*Sheet2!$C$8,0)","v":500},{"$f":"0.5*Sheet2!$C$9*A150^2","v":1040.4000000000199},{"$f":"Sheet2!$C$10*ABS(A150)","v":1020.0000000000098}]
[-2.0200000000000196,500,-131.9736,1.4792807744789951E-65,null,null,null,null,{"$f":"IF(ABS(A151)-0.001>=Sheet2!$C$6/2,Sheet2!$C$7*Sheet2!$C$8,0)","v":500},{"$f":"0.5*Sheet2!$C$9*A151^2","v":1020.1000000000198},{"$f":"Sheet2!$C$10*ABS(A151)","v":1010.0000000000098}]
[-2.0000000000000195,500,-131.9736,1.8604402271707111E-65,null,null,null,null,{"$f":"IF(ABS(A152)-0.001>=Sheet2!$C$6/2,Sheet2!$C$7*Sheet2!$C$8,0)","v":500},{"$f":"0.5*Sheet2!$C$9*A152^2","v":1000.0000000000196},{"$f":"Sheet2!$C$10*ABS(A152)","v":1000.0000000000098}]
[-1.9800000000000195,500,-131.9736,2.3398112776082425E-65,null,null,null,null,{"$f":"IF(ABS(A153)-0.001>=Sheet2!$C$6/2,Sheet2!$C$7*Sheet2!$C$8,0)","v":500},{"$f":"0.5*Sheet2!$C$9*A153^2","v":980.10000000001924},{"$f":"Sheet2!$C$10*ABS(A153)","v":990.00000000000978}]
[-1.9600000000000195,500,-131.9736,2.9426996550963984E-65,null,null,null,null,{"$f":"IF(ABS(A154)-0.001>=Sheet2!$C$6/2,Sheet2!$C$7*Sheet2!$C$8,0)","v":500},{"$f":"0.5*Sheet2!$C$9*A154^2","v":960.40000000001908},{"$f":"Sheet2!$C$10*ABS(A154)","v":980.00000000000978}]
[-1.9400000000000195,500,-131.9736,3.7009314994652871E-65,null,null,null,null,{"$f":"IF(ABS(A155)-0.001>=Sheet2!$C$6/2,Sheet2!$C$7*Sheet2!$C$8,0)","v":500},{"$f":"0.5*Sheet2!$C$9*A155^2","v":940.90000000001896},{"$f":"Sheet2!$C$10*ABS(A155)","v":970.00000000000978}]
[-1.9200000000000195,500,-131.9736,4.6545334451693087E-65,null,null,null,null,{"$f":"IF(ABS(A156)-0.001>=Sheet2!$C$6/2,Sheet2!$C$7*Sheet2!$C$8,0)","v":500},{"$f":"0.5*Sheet2!$C$9*A156^2","v":921.60000000001878},{"$f":"Sheet2!$C$10*ABS(A156)","v":960.00000000000978}]
[-1.9000000000000195,500,-131.9736,5.8538456049050902E-65,null,null,null,null,{"$f":"IF(ABS(A157)-0.001>=Sheet2!$C$6/2,Sheet2!$C$7*Sheet2!$C$8,0)","v":500},{"$f":"0.5*Sheet2!$C$9*A157^2","v":902.50000000001853},{"$f":"Sheet2!$C$10*ABS(A157)","v":950.00000000000978}]
[-1.8800000000000194,500,-131.9736,7.3621789959702744E-65,null,null,null,null,{"$f":"IF(ABS(A158)-0.001>=Sheet2!$C$6/2,Sheet2!$C$7*Sheet2!$C$8,0)","v":500},{"$f":"0.5*Sheet2!$C$9*A158^2","v":883.60000000001821},{"$f":"Sheet2!$C$10*ABS(A158)","v":940.00000000000966}]
[-1.8600000000000194,500,-131.9736,9.2591576934124927E-65,null,null,null,null,{"$f":"IF(ABS(A159)-0.001>=Sheet2!$C$6/2,Sheet2!$C$7*Sheet2!$C$8,0)","v":500},{"$f":"0.5*Sheet2!$C$9*A159^2","v":864.90000000001805},{"$f":"Sheet2!$C$10*ABS(A159)","v":930.00000000000966}]
[-1.8400000000000194,500,-131.9736,1.164492214036165E-64,null,null,null,null,{"$f":"IF(ABS(A160)-0.001>=Sheet2!$C$6/2,Sheet2!$C$7*Sheet2!$C$8,0)","v":500},{"$f":"0.5*Sheet2!$C$9*A160^2","v":846.40000000001783},{"$f":"Sheet2!$C$10*ABS(A160)","v":920.00000000000966}]
[-1.8200000000000194,500,-131.9736,1.4645415505944101E-64,null,null,null,null,{"$f":"IF(ABS(A161)-0.001>=Sheet2!$C$6/2,Sheet2!$C$7*Sheet2!$C$8,0)","v":500},{"$f":"0.5*Sheet2!$C$9*A161^2","v":828.10000000001764},{"$f":"Sheet2!$C$10*ABS(A161)","v":910.00000000000966}]
[-1.8000000000000194,500,-131.9736,1.8419032154652663E-64,null,null,null,null,{"$f":"IF(ABS(A162)-0.001>=Sheet2!$C$6/2,Sheet2!$C$7*Sheet2!$C$8,0)","v":500},{"$f":"0.5*Sheet2!$C$9*A162^2","v":810.00000000001739},{"$f":"Sheet2!$C$10*ABS(A162)","v":900.00000000000966}]
[-1.7800000000000193,500,-131.9736,2.316497919614733E-64,null,null,null,null,{"$f":"IF(ABS(A163)-0.001>=Sheet2!$C$6/2,Sheet2!$C$7*Sheet2!$C$8,0)","v":500},{"$f":"0.5*Sheet2!$C$9*A163^2","v":792.10000000001719},{"$f":"Sheet2!$C$10*ABS(A163)","v":890.00000000000966}]
[-1.7600000000000193,500,-131.9736,2.913379251701827E-64,null,null,null,null,{"$f":"IF(ABS(A164)-0.001>=Sheet2!$C$6/2,Sheet2!$C$7*Sheet2!$C$8,0)","v":500},{"$f":"0.5*Sheet2!$C$9*A164^2","v":774.40000000001692},{"$f":"Sheet2!$C$10*ABS(A164)","v":880.00000000000966}]
[-1.7400000000000193,500,-131.9736,3.6640562429938802E-64,null,null,null,null,{"$f":"IF(ABS(A165)-0.001>=Sheet2!$C$6/2,Sheet2!$C$7*Sheet2!$C$8,0)","v":500},{"$f":"0.5*Sheet2!$C$9*A165^2","v":756.9000000000168},{"$f":"Sheet2!$C$10*ABS(A165)","v":870.00000000000966}]
[-1.7200000000000193,500,-131.9736,4.6081567114820847E-64,null,null,null,null,{"$f":"IF(ABS(A166)-0.001>=Sheet2!$C$6/2,Sheet2!$C$7*Sheet2!$C$8,0)","v":500},{"$f":"0.5*Sheet2!$C$9*A166^2","v":739.60000000001662},{"$f":"Sheet2!$C$10*ABS(A166)","v":860.00000000000966}]
[-1.7000000000000193,500,-131.9736,5.7955191922016714E-64,null,null,null,null,{"$f":"IF(ABS(A167)-0.001>=Sheet2!$C$6/2,Sheet2!$C$7*Sheet2!$C$8,0)","v":500},{"$f":"0.5*Sheet2!$C$9*A167^2","v":722.50000000001637},{"$f":"Sheet2!$C$10*ABS(A167)","v":850.00000000000966}]
[-1.6800000000000193,500,-131.9736,7.2888238855868385E-64,null,null,null,null,{"$f":"IF(ABS(A168)-0.001>=Sheet2!$C$6/2,Sheet2!$C$7*Sheet2!$C$8,0)","v":500},{"$f":"0.5*Sheet2!$C$9*A168^2","v":705.60000000001617},{"$f":"Sheet2!$C$10*ABS(A168)","v":840.00000000000966}]
[-1.6600000000000192,500,-131.9736,9.1669015101507593E-64,null,null,null,null,{"$f":"IF(ABS(A169)-0.001>=Sheet2!$C$6/2,Sheet2!$C$7*Sheet2!$C$8,0)","v":500},{"$f":"0.5*Sheet2!$C$9*A169^2","v":688.90000000001589},{"$f":"Sheet2!$C$10*ABS(A169)","v":830.00000000000966}]
[-1.6400000000000192,500,-131.9736,1.1528894731970694E-63,null,null,null,null,{"$f":"IF(ABS(A170)-0.001>=Sheet2!$C$6/2,Sheet2!$C$7*Sheet2!$C$8,0)","v":500},{"$f":"0.5*Sheet2!$C$9*A170^2","v":672.40000000001578},{"$f":"Sheet2!$C$10*ABS(A170)","v":820.00000000000966}]
[-1.6200000000000192,500,-131.9736,1.4499491850510313E-63,null,null,null,null,{"$f":"IF(ABS(A171)-0.001>=Sheet2!$C$6/2,Sheet2!$C$7*Sheet2!$C$8,0)","v":500},{"$f":"0.5*Sheet2!$C$9*A171^2","v":656.1000000000156},{"$f":"Sheet2!$C$10*ABS(A171)","v":810.00000000000955}]
[-1.6000000000000192,500,-131.9736,1.8235509024122939E-63,null,null,null,null,{"$f":"IF(ABS(A172)-0.001>=Sheet2!$C$6/2,Sheet2!$C$7*Sheet2!$C$8,0)","v":500},{"$f":"0.5*Sheet2!$C$9*A172^2","v":640.00000000001535},{"$f":"Sheet2!$C$10*ABS(A172)","v":800.00000000000955}]
[-1.5800000000000192,500,-131.9736,2.2934168507233966E-63,null,null,null,null,{"$f":"IF(ABS(A173)-0.001>=Sheet2!$C$6/2,Sheet2!$C$7*Sheet2!$C$8,0)","v":500},{"$f":"0.5*Sheet2!$C$9*A173^2","v":624.10000000001514},{"$f":"Sheet2!$C$10*ABS(A173)","v":790.00000000000955}]
[-1.5600000000000191,500,-131.9736,2.8843509902707514E-63,null,null,null,null,{"$f":"IF(ABS(A174)-0.001>=Sheet2!$C$6/2,Sheet2!$C$7*Sheet2!$C$8,0)","v":500},{"$f":"0.5*Sheet2!$C$9*A174^2","v":608.40000000001498},{"$f":"Sheet2!$C$10*ABS(A174)","v":780.00000000000955}]
[-1.5400000000000191,500,-131.9736,3.6275484033579446E-63,null,null,null,null,{"$f":"IF(ABS(A175)-0.001>=Sheet2!$C$6/2,Sheet2!$C$7*Sheet2!$C$8,0)","v":500},{"$f":"0.5*Sheet2!$C$9*A175^2","v":592.90000000001476},{"$f":"Sheet2!$C$10*ABS(A175)","v":770.00000000000955}]
[-1.5200000000000191,500,-131.9736,4.562242065231298E-63,null,null,null,null,{"$f":"IF(ABS(A176)-0.001>=Sheet2!$C$6/2,Sheet2!$C$7*Sheet2!$C$8,0)","v":500},{"$f":"0.5*Sheet2!$C$9*A176^2","v":577.60000000001457},{"$f":"Sheet2!$C$10*ABS(A176)","v":760.00000000000955}]
[-1.5000000000000191,500,-131.9736,5.7377739308726561E-63,null,null,null,null,{"$f":"IF(ABS(A177)-0.001>=Sheet2!$C$6/2,Sheet2!$C$7*Sheet2!$C$8,0)","v":500},{"$f":"0.5*Sheet2!$C$9*A177^2","v":562.50000000001432},{"$f":"Sheet2!$C$10*ABS(A177)","v":750.00000000000955}]
[-1.4800000000000191,500,-131.9736,7.2161996691713818E-63,null,null,null,null,{"$f":"IF(ABS(A178)-0.001>=Sheet2!$C$6/2,Sheet2!$C$7*Sheet2!$C$8,0)","v":500},{"$f":"0.5*Sheet2!$C$9*A178^2","v":547.60000000001412},{"$f":"Sheet2!$C$10*ABS(A178)","v":740.00000000000955}]
[-1.4600000000000191,500,-131.9736,9.0755645469338512E-63,null,null,null,null,{"$f":"IF(ABS(A179)-0.001>=Sheet2!$C$6/2,Sheet2!$C$7*Sheet2!$C$8,0)","v":500},{"$f":"0.5*Sheet2!$C$9*A179^2","v":532.90000000001396},{"$f":"Sheet2!$C$10*ABS(A179)","v":730.00000000000955}]
[-1.440000000000019,500,-131.9736,1.1414023394812813E-62,null,null,null,null,{"$f":"IF(ABS(A180)-0.001>=Sheet2!$C$6/2,Sheet2!$C$7*Sheet2!$C$8,0)","v":500},{"$f":"0.5*Sheet2!$C$9*A180^2","v":518.40000000001373},{"$f":"Sheet2!$C$10*ABS(A180)","v":720.00000000000955}]
[-1.420000000000019,500,-131.9736,1.4355022145850847E-62,null,null,null,null,{"$f":"IF(ABS(A181)-0.001>=Sheet2!$C$6/2,Sheet2!$C$7*Sheet2!$C$8,0)","v":500},{"$f":"0.5*Sheet2!$C$9*A181^2","v":504.10000000001355},{"$f":"Sheet2!$C$10*ABS(A181)","v":710.00000000000955}]
[-1.400000000000019,500,-131.9736,1.8053814477155947E-62,null,null,null,null,{"$f":"IF(ABS(A182)-0.001>=Sheet2!$C$6/2,Sheet2!$C$7*Sheet2!$C$8,0)","v":500},{"$f":"0.5*Sheet2!$C$9*A182^2","v":490.0000000000133},{"$f":"Sheet2!$C$10*ABS(A182)","v":700.00000000000955}]
[-1.380000000000019,500,-131.9736,2.2705657564574008E-62,null,null,null,null,{"$f":"IF(ABS(A183)-0.001>=Sheet2!$C$6/2,Sheet2!$C$7*Sheet2!$C$8,0)","v":500},{"$f":"0.5*Sheet2!$C$9*A183^2","v":476.1000000000131},{"$f":"Sheet2!$C$10*ABS(A183)","v":690.00000000000955}]
[-1.360000000000019,500,-131.9736,2.8556119599657701E-62,null,null,null,null,{"$f":"IF(ABS(A184)-0.001>=Sheet2!$C$6/2,Sheet2!$C$7*Sheet2!$C$8,0)","v":500},{"$f":"0.5*Sheet2!$C$9*A184^2","v":462.40000000001294},{"$f":"Sheet2!$C$10*ABS(A184)","v":680.00000000000944}]
[-1.340000000000019,500,-131.9736,3.5914043196980356E-62,null,null,null,null,{"$f":"IF(ABS(A185)-0.001>=Sheet2!$C$6/2,Sheet2!$C$7*Sheet2!$C$8,0)","v":500},{"$f":"0.5*Sheet2!$C$9*A185^2","v":448.90000000001265},{"$f":"Sheet2!$C$10*ABS(A185)","v":670.00000000000944}]
[-1.3200000000000189,500,-131.9736,4.5167849022807421E-62,null,null,null,null,{"$f":"IF(ABS(A186)-0.001>=Sheet2!$C$6/2,Sheet2!$C$7*Sheet2!$C$8,0)","v":500},{"$f":"0.5*Sheet2!$C$9*A186^2","v":435.60000000001247},{"$f":"Sheet2!$C$10*ABS(A186)","v":660.00000000000944}]
[-1.3000000000000189,500,-131.9736,5.6806040304553039E-62,null,null,null,null,{"$f":"IF(ABS(A187)-0.001>=Sheet2!$C$6/2,Sheet2!$C$7*Sheet2!$C$8,0)","v":500},{"$f":"0.5*Sheet2!$C$9*A187^2","v":422.50000000001234},{"$f":"Sheet2!$C$10*ABS(A187)","v":650.00000000000944}]
[-1.2800000000000189,500,-131.9736,7.1442990642593461E-62,null,null,null,null,{"$f":"IF(ABS(A188)-0.001>=Sheet2!$C$6/2,Sheet2!$C$7*Sheet2!$C$8,0)","v":500},{"$f":"0.5*Sheet2!$C$9*A188^2","v":409.60000000001213},{"$f":"Sheet2!$C$10*ABS(A188)","v":640.00000000000944}]
[-1.2600000000000189,500,-131.9736,8.985137644858164E-62,null,null,null,null,{"$f":"IF(ABS(A189)-0.001>=Sheet2!$C$6/2,Sheet2!$C$7*Sheet2!$C$8,0)","v":500},{"$f":"0.5*Sheet2!$C$9*A189^2","v":396.90000000001191},{"$f":"Sheet2!$C$10*ABS(A189)","v":630.00000000000944}]
[-1.2400000000000189,500,-131.9736,1.1300296610051965E-61,null,null,null,null,{"$f":"IF(ABS(A190)-0.001>=Sheet2!$C$6/2,Sheet2!$C$7*Sheet2!$C$8,0)","v":500},{"$f":"0.5*Sheet2!$C$9*A190^2","v":384.40000000001169},{"$f":"Sheet2!$C$10*ABS(A190)","v":620.00000000000944}]
[-1.2200000000000188,500,-131.9736,1.4211991905124311E-61,null,null,null,null,{"$f":"IF(ABS(A191)-0.001>=Sheet2!$C$6/2,Sheet2!$C$7*Sheet2!$C$8,0)","v":500},{"$f":"0.5*Sheet2!$C$9*A191^2","v":372.10000000001151},{"$f":"Sheet2!$C$10*ABS(A191)","v":610.00000000000944}]
[-1.2000000000000188,500,-131.9736,1.7873930294152704E-61,null,null,null,null,{"$f":"IF(ABS(A192)-0.001>=Sheet2!$C$6/2,Sheet2!$C$7*Sheet2!$C$8,0)","v":500},{"$f":"0.5*Sheet2!$C$9*A192^2","v":360.00000000001131},{"$f":"Sheet2!$C$10*ABS(A192)","v":600.00000000000944}]
[-1.1800000000000188,500,-131.9736,2.2479423454008454E-61,null,null,null,null,{"$f":"IF(ABS(A193)-0.001>=Sheet2!$C$6/2,Sheet2!$C$7*Sheet2!$C$8,0)","v":500},{"$f":"0.5*Sheet2!$C$9*A193^2","v":348.10000000001111},{"$f":"Sheet2!$C$10*ABS(A193)","v":590.00000000000944}]
[-1.1600000000000188,500,{"$f":"0.264*($E$2-B194)","v":-131.9736},2.8271592789524179E-61,null,null,null,null,{"$f":"IF(ABS(A194)-0.001>=Sheet2!$C$6/2,Sheet2!$C$7*Sheet2!$C$8,0)","v":500},{"$f":"0.5*Sheet2!$C$9*A194^2","v":336.40000000001089},{"$f":"Sheet2!$C$10*ABS(A194)","v":580.00000000000944}]
[-1.1400000000000188,500,-131.9736,3.5556203676306925E-61,null,null,null,null,{"$f":"IF(ABS(A195)-0.001>=Sheet2!$C$6/2,Sheet2!$C$7*Sheet2!$C$8,0)","v":500},{"$f":"0.5*Sheet2!$C$9*A195^2","v":324.90000000001066},{"$f":"Sheet2!$C$10*ABS(A195)","v":570.00000000000944}]
[{"$f":"+A195+0.02","v":-1.1200000000000188},500,-131.9736,{"$f":"(2- 0.0004*C195)*D195-D194","v":4.4717806643687862E-61},null,null,null,null,{"$f":"IF(ABS(A196)-0.001>=Sheet2!$C$6/2,Sheet2!$C$7*Sheet2!$C$8,0)","v":500},{"$f":"0.5*Sheet2!$C$9*A196^2","v":313.60000000001048},{"$f":"Sheet2!$C$10*ABS(A196)","v":560.00000000000932}]
[-1.1000000000000187,500,-131.9736,5.6240037581817364E-61,null,null,null,null,{"$f":"IF(ABS(A197)-0.001>=Sheet2!$C$6/2,Sheet2!$C$7*Sheet2!$C$8,0)","v":500},{"$f":"0.5*Sheet2!$C$9*A197^2","v":302.50000000001029},{"$f":"Sheet2!$C$10*ABS(A197)","v":550.00000000000932}]
[-1.0800000000000187,500,-131.9736,7.0731148609469962E-61,null,null,null,null,{"$f":"IF(ABS(A198)-0.001>=Sheet2!$C$6/2,Sheet2!$C$7*Sheet2!$C$8,0)","v":500},{"$f":"0.5*Sheet2!$C$9*A198^2","v":291.60000000001014},{"$f":"Sheet2!$C$10*ABS(A198)","v":540.00000000000932}]
[-1.0600000000000187,500,-131.9736,8.8956117362773278E-61,null,null,null,null,{"$f":"IF(ABS(A199)-0.001>=Sheet2!$C$6/2,Sheet2!$C$7*Sheet2!$C$8,0)","v":500},{"$f":"0.5*Sheet2!$C$9*A199^2","v":280.90000000000992},{"$f":"Sheet2!$C$10*ABS(A199)","v":530.00000000000932}]
[-1.0400000000000187,500,-131.9736,1.1187702973623168E-60,null,null,null,null,{"$f":"IF(ABS(A200)-0.001>=Sheet2!$C$6/2,Sheet2!$C$7*Sheet2!$C$8,0)","v":500},{"$f":"0.5*Sheet2!$C$9*A200^2","v":270.40000000000975},{"$f":"Sheet2!$C$10*ABS(A200)","v":520.00000000000932}]
[-1.0200000000000187,500,-131.9736,1.4070386785832914E-60,null,null,null,null,{"$f":"IF(ABS(A201)-0.001>=Sheet2!$C$6/2,Sheet2!$C$7*Sheet2!$C$8,0)","v":500},{"$f":"0.5*Sheet2!$C$9*A201^2","v":260.10000000000957},{"$f":"Sheet2!$C$10*ABS(A201)","v":510.00000000000932}]
[-1.0000000000000187,0,2.6400000000000003E-2,1.7695838437050184E-60,null,null,null,null,{"$f":"IF(ABS(A202)-0.001>=Sheet2!$C$6/2,Sheet2!$C$7*Sheet2!$C$8,0)","v":0},{"$f":"0.5*Sheet2!$C$9*A202^2","v":250.00000000000932},{"$f":"Sheet2!$C$10*ABS(A202)","v":500.00000000000932}]
[-0.98000000000001863,0,2.6400000000000003E-2,2.1321103220213556E-60,null,null,null,null,{"$f":"IF(ABS(A203)-0.001>=Sheet2!$C$6/2,Sheet2!$C$7*Sheet2!$C$8,0)","v":0},{"$f":"0.5*Sheet2!$C$9*A203^2","v":240.10000000000915},{"$f":"Sheet2!$C$10*ABS(A203)","v":490.00000000000932}]
[-0.96000000000001862,0,2.6400000000000003E-2,2.4946142852526921E-60,null,null,null,null,{"$f":"IF(ABS(A204)-0.001>=Sheet2!$C$6/2,Sheet2!$C$7*Sheet2!$C$8,0)","v":0},{"$f":"0.5*Sheet2!$C$9*A204^2","v":230.40000000000893},{"$f":"Sheet2!$C$10*ABS(A204)","v":480.00000000000932}]
[-0.9400000000000186,0,2.6400000000000003E-2,2.8570919053571768E-60,null,null,null,null,{"$f":"IF(ABS(A205)-0.001>=Sheet2!$C$6/2,Sheet2!$C$7*Sheet2!$C$8,0)","v":0},{"$f":"0.5*Sheet2!$C$9*A205^2","v":220.90000000000873},{"$f":"Sheet2!$C$10*ABS(A205)","v":470.00000000000932}]
[-0.92000000000001858,0,2.6400000000000003E-2,3.2195393545711411E-60,null,null,null,null,{"$f":"IF(ABS(A206)-0.001>=Sheet2!$C$6/2,Sheet2!$C$7*Sheet2!$C$8,0)","v":0},{"$f":"0.5*Sheet2!$C$9*A206^2","v":211.60000000000855},{"$f":"Sheet2!$C$10*ABS(A206)","v":460.00000000000927}]
[-0.90000000000001856,0,2.6400000000000003E-2,3.5819528054495217E-60,null,null,null,null,{"$f":"IF(ABS(A207)-0.001>=Sheet2!$C$6/2,Sheet2!$C$7*Sheet2!$C$8,0)","v":0},{"$f":"0.5*Sheet2!$C$9*A207^2","v":202.50000000000833},{"$f":"Sheet2!$C$10*ABS(A207)","v":450.00000000000927}]
[-0.88000000000001855,0,2.6400000000000003E-2,3.9443284309062763E-60,null,null,null,null,{"$f":"IF(ABS(A208)-0.001>=Sheet2!$C$6/2,Sheet2!$C$7*Sheet2!$C$8,0)","v":0},{"$f":"0.5*Sheet2!$C$9*A208^2","v":193.60000000000815},{"$f":"Sheet2!$C$10*ABS(A208)","v":440.00000000000927}]
[-0.86000000000001853,0,2.6400000000000003E-2,4.3066624042548009E-60,null,null,null,null,{"$f":"IF(ABS(A209)-0.001>=Sheet2!$C$6/2,Sheet2!$C$7*Sheet2!$C$8,0)","v":0},{"$f":"0.5*Sheet2!$C$9*A209^2","v":184.90000000000796},{"$f":"Sheet2!$C$10*ABS(A209)","v":430.00000000000927}]
[-0.84000000000001851,0,2.6400000000000003E-2,4.6689508992483365E-60,null,null,null,null,{"$f":"IF(ABS(A210)-0.001>=Sheet2!$C$6/2,Sheet2!$C$7*Sheet2!$C$8,0)","v":0},{"$f":"0.5*Sheet2!$C$9*A210^2","v":176.40000000000776},{"$f":"Sheet2!$C$10*ABS(A210)","v":420.00000000000927}]
[-0.82000000000001849,0,2.6400000000000003E-2,5.031190090120376E-60,null,null,null,null,{"$f":"IF(ABS(A211)-0.001>=Sheet2!$C$6/2,Sheet2!$C$7*Sheet2!$C$8,0)","v":0},{"$f":"0.5*Sheet2!$C$9*A211^2","v":168.10000000000758},{"$f":"Sheet2!$C$10*ABS(A211)","v":410.00000000000927}]
[-0.80000000000001847,0,2.6400000000000003E-2,5.393376151625065E-60,null,null,null,null,{"$f":"IF(ABS(A212)-0.001>=Sheet2!$C$6/2,Sheet2!$C$7*Sheet2!$C$8,0)","v":0},{"$f":"0.5*Sheet2!$C$9*A212^2","v":160.00000000000739},{"$f":"Sheet2!$C$10*ABS(A212)","v":400.00000000000921}]
[-0.78000000000001846,0,2.6400000000000003E-2,5.7555052590775936E-60,null,null,null,null,{"$f":"IF(ABS(A213)-0.001>=Sheet2!$C$6/2,Sheet2!$C$7*Sheet2!$C$8,0)","v":0},{"$f":"0.5*Sheet2!$C$9*A213^2","v":152.10000000000721},{"$f":"Sheet2!$C$10*ABS(A213)","v":390.00000000000921}]
[-0.76000000000001844,0,2.6400000000000003E-2,6.117573588394586E-60,null,null,null,null,{"$f":"IF(ABS(A214)-0.001>=Sheet2!$C$6/2,Sheet2!$C$7*Sheet2!$C$8,0)","v":0},{"$f":"0.5*Sheet2!$C$9*A214^2","v":144.400000000007},{"$f":"Sheet2!$C$10*ABS(A214)","v":380.00000000000921}]
[-0.74000000000001842,0,2.6400000000000003E-2,6.4795773161344852E-60,null,null,null,null,{"$f":"IF(ABS(A215)-0.001>=Sheet2!$C$6/2,Sheet2!$C$7*Sheet2!$C$8,0)","v":0},{"$f":"0.5*Sheet2!$C$9*A215^2","v":136.90000000000683},{"$f":"Sheet2!$C$10*ABS(A215)","v":370.00000000000921}]
[-0.7200000000000184,0,2.6400000000000003E-2,6.8415126195379258E-60,null,null,null,null,{"$f":"IF(ABS(A216)-0.001>=Sheet2!$C$6/2,Sheet2!$C$7*Sheet2!$C$8,0)","v":0},{"$f":"0.5*Sheet2!$C$9*A216^2","v":129.60000000000662},{"$f":"Sheet2!$C$10*ABS(A216)","v":360.00000000000921}]
[-0.70000000000001839,0,2.6400000000000003E-2,7.2033756765681042E-60,null,null,null,null,{"$f":"IF(ABS(A217)-0.001>=Sheet2!$C$6/2,Sheet2!$C$7*Sheet2!$C$8,0)","v":0},{"$f":"0.5*Sheet2!$C$9*A217^2","v":122.50000000000644},{"$f":"Sheet2!$C$10*ABS(A217)","v":350.00000000000921}]
[-0.68000000000001837,0,2.6400000000000003E-2,7.5651626659511381E-60,null,null,null,null,{"$f":"IF(ABS(A218)-0.001>=Sheet2!$C$6/2,Sheet2!$C$7*Sheet2!$C$8,0)","v":0},{"$f":"0.5*Sheet2!$C$9*A218^2","v":115.60000000000623},{"$f":"Sheet2!$C$10*ABS(A218)","v":340.00000000000921}]
[-0.66000000000001835,0,2.6400000000000003E-2,7.9268697672164185E-60,null,null,null,null,{"$f":"IF(ABS(A219)-0.001>=Sheet2!$C$6/2,Sheet2!$C$7*Sheet2!$C$8,0)","v":0},{"$f":"0.5*Sheet2!$C$9*A219^2","v":108.90000000000606},{"$f":"Sheet2!$C$10*ABS(A219)","v":330.00000000000915}]
[-0.64000000000001833,0,2.6400000000000003E-2,8.2884931607369564E-60,null,null,null,null,{"$f":"IF(ABS(A220)-0.001>=Sheet2!$C$6/2,Sheet2!$C$7*Sheet2!$C$8,0)","v":0},{"$f":"0.5*Sheet2!$C$9*A220^2","v":102.40000000000586},{"$f":"Sheet2!$C$10*ABS(A220)","v":320.00000000000915}]
[-0.62000000000001831,0,2.6400000000000003E-2,8.6500290277697171E-60,null,null,null,null,{"$f":"IF(ABS(A221)-0.001>=Sheet2!$C$6/2,Sheet2!$C$7*Sheet2!$C$8,0)","v":0},{"$f":"0.5*Sheet2!$C$9*A221^2","v":96.100000000005679},{"$f":"Sheet2!$C$10*ABS(A221)","v":310.00000000000915}]
[-0.6000000000000183,0,2.6400000000000003E-2,9.0114735504959443E-60,null,null,null,null,{"$f":"IF(ABS(A222)-0.001>=Sheet2!$C$6/2,Sheet2!$C$7*Sheet2!$C$8,0)","v":0},{"$f":"0.5*Sheet2!$C$9*A222^2","v":90.000000000005485},{"$f":"Sheet2!$C$10*ABS(A222)","v":300.00000000000915}]
[-0.58000000000001828,0,2.6400000000000003E-2,9.3728229120614775E-60,null,null,null,null,{"$f":"IF(ABS(A223)-0.001>=Sheet2!$C$6/2,Sheet2!$C$7*Sheet2!$C$8,0)","v":0},{"$f":"0.5*Sheet2!$C$9*A223^2","v":84.100000000005295},{"$f":"Sheet2!$C$10*ABS(A223)","v":290.00000000000915}]
[-0.56000000000001826,0,2.6400000000000003E-2,9.7340732966170601E-60,null,null,null,null,{"$f":"IF(ABS(A224)-0.001>=Sheet2!$C$6/2,Sheet2!$C$7*Sheet2!$C$8,0)","v":0},{"$f":"0.5*Sheet2!$C$9*A224^2","v":78.400000000005122},{"$f":"Sheet2!$C$10*ABS(A224)","v":280.00000000000915}]
[-0.54000000000001824,0,2.6400000000000003E-2,1.009522088935863E-59,null,null,null,null,{"$f":"IF(ABS(A225)-0.001>=Sheet2!$C$6/2,Sheet2!$C$7*Sheet2!$C$8,0)","v":0},{"$f":"0.5*Sheet2!$C$9*A225^2","v":72.900000000004923},{"$f":"Sheet2!$C$10*ABS(A225)","v":270.00000000000909}]
[-0.52000000000001823,0,2.6400000000000003E-2,1.0456261876567607E-59,null,null,null,null,{"$f":"IF(ABS(A226)-0.001>=Sheet2!$C$6/2,Sheet2!$C$7*Sheet2!$C$8,0)","v":0},{"$f":"0.5*Sheet2!$C$9*A226^2","v":67.600000000004741},{"$f":"Sheet2!$C$10*ABS(A226)","v":260.00000000000909}]
[-0.50000000000001821,0,2.6400000000000003E-2,1.0817192445651168E-59,null,null,null,null,{"$f":"IF(ABS(A227)-0.001>=Sheet2!$C$6/2,Sheet2!$C$7*Sheet2!$C$8,0)","v":0},{"$f":"0.5*Sheet2!$C$9*A227^2","v":62.500000000004555},{"$f":"Sheet2!$C$10*ABS(A227)","v":250.00000000000909}]
[-0.48000000000001819,0,2.6400000000000003E-2,1.1178008785182503E-59,null,null,null,null,{"$f":"IF(ABS(A228)-0.001>=Sheet2!$C$6/2,Sheet2!$C$7*Sheet2!$C$8,0)","v":0},{"$f":"0.5*Sheet2!$C$9*A228^2","v":57.600000000004364},{"$f":"Sheet2!$C$10*ABS(A228)","v":240.00000000000909}]
[-0.46000000000001817,0,2.6400000000000003E-2,1.1538707084941067E-59,null,null,null,null,{"$f":"IF(ABS(A229)-0.001>=Sheet2!$C$6/2,Sheet2!$C$7*Sheet2!$C$8,0)","v":0},{"$f":"0.5*Sheet2!$C$9*A229^2","v":52.900000000004177},{"$f":"Sheet2!$C$10*ABS(A229)","v":230.00000000000909}]
[-0.44000000000001815,0,2.6400000000000003E-2,1.1899283535952812E-59,null,null,null,null,{"$f":"IF(ABS(A230)-0.001>=Sheet2!$C$6/2,Sheet2!$C$7*Sheet2!$C$8,0)","v":0},{"$f":"0.5*Sheet2!$C$9*A230^2","v":48.400000000003999},{"$f":"Sheet2!$C$10*ABS(A230)","v":220.00000000000907}]
[-0.42000000000001814,0,2.6400000000000003E-2,1.2259734330530419E-59,null,null,null,null,{"$f":"IF(ABS(A231)-0.001>=Sheet2!$C$6/2,Sheet2!$C$7*Sheet2!$C$8,0)","v":0},{"$f":"0.5*Sheet2!$C$9*A231^2","v":44.10000000000381},{"$f":"Sheet2!$C$10*ABS(A231)","v":210.00000000000907}]
[-0.40000000000001812,0,2.6400000000000003E-2,1.2620055662313494E-59,null,null,null,null,{"$f":"IF(ABS(A232)-0.001>=Sheet2!$C$6/2,Sheet2!$C$7*Sheet2!$C$8,0)","v":0},{"$f":"0.5*Sheet2!$C$9*A232^2","v":40.000000000003624},{"$f":"Sheet2!$C$10*ABS(A232)","v":200.00000000000907}]
[-0.3800000000000181,0,2.6400000000000003E-2,1.2980243726308774E-59,null,null,null,null,{"$f":"IF(ABS(A233)-0.001>=Sheet2!$C$6/2,Sheet2!$C$7*Sheet2!$C$8,0)","v":0},{"$f":"0.5*Sheet2!$C$9*A233^2","v":36.10000000000344},{"$f":"Sheet2!$C$10*ABS(A233)","v":190.00000000000904}]
[-0.36000000000001808,0,2.6400000000000003E-2,1.3340294718930304E-59,null,null,null,null,{"$f":"IF(ABS(A234)-0.001>=Sheet2!$C$6/2,Sheet2!$C$7*Sheet2!$C$8,0)","v":0},{"$f":"0.5*Sheet2!$C$9*A234^2","v":32.400000000003253},{"$f":"Sheet2!$C$10*ABS(A234)","v":180.00000000000904}]
[-0.34000000000001807,0,2.6400000000000003E-2,1.3700204838039602E-59,null,null,null,null,{"$f":"IF(ABS(A235)-0.001>=Sheet2!$C$6/2,Sheet2!$C$7*Sheet2!$C$8,0)","v":0},{"$f":"0.5*Sheet2!$C$9*A235^2","v":28.900000000003072},{"$f":"Sheet2!$C$10*ABS(A235)","v":170.00000000000904}]
[-0.32000000000001805,0,2.6400000000000003E-2,1.4059970282985808E-59,null,null,null,null,{"$f":"IF(ABS(A236)-0.001>=Sheet2!$C$6/2,Sheet2!$C$7*Sheet2!$C$8,0)","v":0},{"$f":"0.5*Sheet2!$C$9*A236^2","v":25.600000000002886},{"$f":"Sheet2!$C$10*ABS(A236)","v":160.00000000000904}]
[-0.30000000000001803,0,2.6400000000000003E-2,1.4419587254645827E-59,null,null,null,null,{"$f":"IF(ABS(A237)-0.001>=Sheet2!$C$6/2,Sheet2!$C$7*Sheet2!$C$8,0)","v":0},{"$f":"0.5*Sheet2!$C$9*A237^2","v":22.500000000002704},{"$f":"Sheet2!$C$10*ABS(A237)","v":150.00000000000901}]
[-0.28000000000001801,0,2.6400000000000003E-2,1.4779051955464437E-59,null,null,null,null,{"$f":"IF(ABS(A238)-0.001>=Sheet2!$C$6/2,Sheet2!$C$7*Sheet2!$C$8,0)","v":0},{"$f":"0.5*Sheet2!$C$9*A238^2","v":19.60000000000252},{"$f":"Sheet2!$C$10*ABS(A238)","v":140.00000000000901}]
[-0.26000000000001799,0,2.6400000000000003E-2,1.5138360589494396E-59,null,null,null,null,{"$f":"IF(ABS(A239)-0.001>=Sheet2!$C$6/2,Sheet2!$C$7*Sheet2!$C$8,0)","v":0},{"$f":"0.5*Sheet2!$C$9*A239^2","v":16.90000000000234},{"$f":"Sheet2!$C$10*ABS(A239)","v":130.00000000000901}]
[-0.240000000000018,0,2.6400000000000003E-2,1.5497509362436529E-59,null,null,null,null,{"$f":"IF(ABS(A240)-0.001>=Sheet2!$C$6/2,Sheet2!$C$7*Sheet2!$C$8,0)","v":0},{"$f":"0.5*Sheet2!$C$9*A240^2","v":14.40000000000216},{"$f":"Sheet2!$C$10*ABS(A240)","v":120.000000000009}]
[-0.22000000000001801,0,2.6400000000000003E-2,1.5856494481679795E-59,null,null,null,null,{"$f":"IF(ABS(A241)-0.001>=Sheet2!$C$6/2,Sheet2!$C$7*Sheet2!$C$8,0)","v":0},{"$f":"0.5*Sheet2!$C$9*A241^2","v":12.100000000001982},{"$f":"Sheet2!$C$10*ABS(A241)","v":110.00000000000901}]
[-0.20000000000001802,0,2.6400000000000003E-2,1.6215312156341335E-59,null,null,null,null,{"$f":"IF(ABS(A242)-0.001>=Sheet2!$C$6/2,Sheet2!$C$7*Sheet2!$C$8,0)","v":0},{"$f":"0.5*Sheet2!$C$9*A242^2","v":10.000000000001803},{"$f":"Sheet2!$C$10*ABS(A242)","v":100.00000000000901}]
[-0.18000000000001803,0,2.6400000000000003E-2,1.6573958597306506E-59,null,null,null,null,{"$f":"IF(ABS(A243)-0.001>=Sheet2!$C$6/2,Sheet2!$C$7*Sheet2!$C$8,0)","v":0},{"$f":"0.5*Sheet2!$C$9*A243^2","v":8.1000000000016232},{"$f":"Sheet2!$C$10*ABS(A243)","v":90.000000000009024}]
[-0.16000000000001804,0,2.6400000000000003E-2,1.6932430017268892E-59,null,null,null,null,{"$f":"IF(ABS(A244)-0.001>=Sheet2!$C$6/2,Sheet2!$C$7*Sheet2!$C$8,0)","v":0},{"$f":"0.5*Sheet2!$C$9*A244^2","v":6.4000000000014436},{"$f":"Sheet2!$C$10*ABS(A244)","v":80.000000000009024}]
[-0.14000000000001805,0,2.6400000000000003E-2,1.7290722630770295E-59,null,null,null,null,{"$f":"IF(ABS(A245)-0.001>=Sheet2!$C$6/2,Sheet2!$C$7*Sheet2!$C$8,0)","v":0},{"$f":"0.5*Sheet2!$C$9*A245^2","v":4.9000000000012633},{"$f":"Sheet2!$C$10*ABS(A245)","v":70.000000000009024}]
[-0.12000000000001805,0,2.6400000000000003E-2,1.7648832654240717E-59,null,null,null,null,{"$f":"IF(ABS(A246)-0.001>=Sheet2!$C$6/2,Sheet2!$C$7*Sheet2!$C$8,0)","v":0},{"$f":"0.5*Sheet2!$C$9*A246^2","v":3.6000000000010832},{"$f":"Sheet2!$C$10*ABS(A246)","v":60.000000000009024}]
[-0.10000000000001805,0,2.6400000000000003E-2,1.8006756306038312E-59,null,null,null,null,{"$f":"IF(ABS(A247)-0.001>=Sheet2!$C$6/2,Sheet2!$C$7*Sheet2!$C$8,0)","v":0},{"$f":"0.5*Sheet2!$C$9*A247^2","v":2.5000000000009024},{"$f":"Sheet2!$C$10*ABS(A247)","v":50.000000000009024}]
[-8.0000000000018043E-2,0,2.6400000000000003E-2,1.8364489806489316E-59,null,null,null,null,{"$f":"IF(ABS(A248)-0.001>=Sheet2!$C$6/2,Sheet2!$C$7*Sheet2!$C$8,0)","v":0},{"$f":"0.5*Sheet2!$C$9*A248^2","v":1.6000000000007217},{"$f":"Sheet2!$C$10*ABS(A248)","v":40.000000000009024}]
[-6.0000000000018039E-2,0,2.6400000000000003E-2,1.8722029377927964E-59,null,null,null,null,{"$f":"IF(ABS(A249)-0.001>=Sheet2!$C$6/2,Sheet2!$C$7*Sheet2!$C$8,0)","v":0},{"$f":"0.5*Sheet2!$C$9*A249^2","v":0.90000000000054126},{"$f":"Sheet2!$C$10*ABS(A249)","v":30.00000000000902}]
[-4.0000000000018035E-2,0,2.6400000000000003E-2,1.907937124473638E-59,null,null,null,null,{"$f":"IF(ABS(A250)-0.001>=Sheet2!$C$6/2,Sheet2!$C$7*Sheet2!$C$8,0)","v":0},{"$f":"0.5*Sheet2!$C$9*A250^2","v":0.40000000000036068},{"$f":"Sheet2!$C$10*ABS(A250)","v":20.000000000009017}]
[-2.0000000000018035E-2,0,2.6400000000000003E-2,1.9436511633384454E-59,null,null,null,null,{"$f":"IF(ABS(A251)-0.001>=Sheet2!$C$6/2,Sheet2!$C$7*Sheet2!$C$8,0)","v":0},{"$f":"0.5*Sheet2!$C$9*A251^2","v":0.10000000000018035},{"$f":"Sheet2!$C$10*ABS(A251)","v":10.000000000009017}]
[-1.8034185256254887E-14,0,2.6400000000000003E-2,1.979344677246968E-59,null,null,null,null,{"$f":"IF(ABS(A252)-0.001>=Sheet2!$C$6/2,Sheet2!$C$7*Sheet2!$C$8,0)","v":0},{"$f":"0.5*Sheet2!$C$9*A252^2","v":8.1307959464230282E-26},{"$f":"Sheet2!$C$10*ABS(A252)","v":9.0170926281274433E-12}]
[1.9999999999981966E-2,0,2.6400000000000003E-2,2.0150172892756987E-59,null,null,null,null,{"$f":"IF(ABS(A253)-0.001>=Sheet2!$C$6/2,Sheet2!$C$7*(2-Sheet2!$C$8),0)","v":0},{"$f":"0.5*Sheet2!$C$9*A253^2","v":9.9999999999819664E-2},{"$f":"Sheet2!$C$10*ABS(A253)","v":9.9999999999909832}]
[3.9999999999981967E-2,0,2.6400000000000003E-2,2.0506686227218554E-59,null,null,null,null,{"$f":"IF(ABS(A254)-0.001>=Sheet2!$C$6/2,Sheet2!$C$7*(2-Sheet2!$C$8),0)","v":0},{"$f":"0.5*Sheet2!$C$9*A254^2","v":0.39999999999963937},{"$f":"Sheet2!$C$10*ABS(A254)","v":19.999999999990983}]
[5.9999999999981971E-2,0,2.6400000000000003E-2,2.086298301107356E-59,null,null,null,null,{"$f":"IF(ABS(A255)-0.001>=Sheet2!$C$6/2,Sheet2!$C$7*(2-Sheet2!$C$8),0)","v":0},{"$f":"0.5*Sheet2!$C$9*A255^2","v":0.89999999999945912},{"$f":"Sheet2!$C$10*ABS(A255)","v":29.999999999990987}]
[7.9999999999981974E-2,0,2.6400000000000003E-2,2.1219059481827967E-59,null,null,null,null,{"$f":"IF(ABS(A256)-0.001>=Sheet2!$C$6/2,Sheet2!$C$7*(2-Sheet2!$C$8),0)","v":0},{"$f":"0.5*Sheet2!$C$9*A256^2","v":1.5999999999992791},{"$f":"Sheet2!$C$10*ABS(A256)","v":39.99999999999099}]
[9.9999999999981978E-2,0,2.6400000000000003E-2,2.1574911879314242E-59,null,null,null,null,{"$f":"IF(ABS(A257)-0.001>=Sheet2!$C$6/2,Sheet2!$C$7*(2-Sheet2!$C$8),0)","v":0},{"$f":"0.5*Sheet2!$C$9*A257^2","v":2.4999999999990989},{"$f":"Sheet2!$C$10*ABS(A257)","v":49.99999999999099}]
[0.11999999999998198,0,{"$f":"0.264*($E$2-B258)","v":2.6400000000000003E-2},2.1930536445731073E-59,null,null,null,null,{"$f":"IF(ABS(A258)-0.001>=Sheet2!$C$6/2,Sheet2!$C$7*(2-Sheet2!$C$8),0)","v":0},{"$f":"0.5*Sheet2!$C$9*A258^2","v":3.5999999999989187},{"$f":"Sheet2!$C$10*ABS(A258)","v":59.99999999999099}]
[0.13999999999998197,0,2.6400000000000003E-2,2.2285929425683041E-59,null,null,null,null,{"$f":"IF(ABS(A259)-0.001>=Sheet2!$C$6/2,Sheet2!$C$7*(2-Sheet2!$C$8),0)","v":0},{"$f":"0.5*Sheet2!$C$9*A259^2","v":4.8999999999987383},{"$f":"Sheet2!$C$10*ABS(A259)","v":69.99999999999099}]
[{"$f":"+A259+0.02","v":0.15999999999998196},0,2.6400000000000003E-2,{"$f":"(2- 0.0004*C259)*D259-D258","v":2.264108706622027E-59},null,null,null,null,{"$f":"IF(ABS(A260)-0.001>=Sheet2!$C$6/2,Sheet2!$C$7*(2-Sheet2!$C$8),0)","v":0},{"$f":"0.5*Sheet2!$C$9*A260^2","v":6.3999999999985571},{"$f":"Sheet2!$C$10*ABS(A260)","v":79.999999999990976}]
[0.17999999999998195,0,2.6400000000000003E-2,{"$f":"(2- 0.0004*C260)*D260-D259","v":2.2996005616878079E-59},null,null,null,null,{"$f":"IF(ABS(A261)-0.001>=Sheet2!$C$6/2,Sheet2!$C$7*(2-Sheet2!$C$8),0)","v":0},{"$f":"0.5*Sheet2!$C$9*A261^2","v":8.0999999999983761},{"$f":"Sheet2!$C$10*ABS(A261)","v":89.999999999990976}]
[0.19999999999998194,0,2.6400000000000003E-2,{"$f":"(2- 0.0004*C261)*D261-D260","v":2.3350681329716578E-59},{"$f":"(2- 0.0004*C263)*D263-D264","v":2.3350681329716339E-59},null,null,null,{"$f":"IF(ABS(A262)-0.001>=Sheet2!$C$6/2,Sheet2!$C$7*(2-Sheet2!$C$8),0)","v":0},{"$f":"0.5*Sheet2!$C$9*A262^2","v":9.9999999999981952},{"$f":"Sheet2!$C$10*ABS(A262)","v":99.999999999990976}]
[0.21999999999998193,0,2.6400000000000003E-2,{"$f":"(2- 0.0004*C264)*D264-D265","v":2.2833969896984834E-59},null,null,null,null,{"$f":"IF(ABS(A263)-0.001>=Sheet2!$C$6/2,Sheet2!$C$7*(2-Sheet2!$C$8),0)","v":0},{"$f":"0.5*Sheet2!$C$9*A263^2","v":12.099999999998014},{"$f":"Sheet2!$C$10*ABS(A263)","v":109.99999999999096}]
[0.23999999999998192,0,2.6400000000000003E-2,2.2317017337531217E-59,null,null,null,null,{"$f":"IF(ABS(A264)-0.001>=Sheet2!$C$6/2,Sheet2!$C$7*(2-Sheet2!$C$8),0)","v":0},{"$f":"0.5*Sheet2!$C$9*A264^2","v":14.399999999997831},{"$f":"Sheet2!$C$10*ABS(A264)","v":119.99999999999096}]
[0.25999999999998191,0,2.6400000000000003E-2,2.1799829110374518E-59,null,null,null,null,{"$f":"IF(ABS(A265)-0.001>=Sheet2!$C$6/2,Sheet2!$C$7*(2-Sheet2!$C$8),0)","v":0},{"$f":"0.5*Sheet2!$C$9*A265^2","v":16.89999999999765},{"$f":"Sheet2!$C$10*ABS(A265)","v":129.99999999999096}]
[0.27999999999998193,0,2.6400000000000003E-2,2.1282410677022416E-59,null,null,null,null,{"$f":"IF(ABS(A266)-0.001>=Sheet2!$C$6/2,Sheet2!$C$7*(2-Sheet2!$C$8),0)","v":0},{"$f":"0.5*Sheet2!$C$9*A266^2","v":19.599999999997472},{"$f":"Sheet2!$C$10*ABS(A266)","v":139.99999999999096}]
[0.29999999999998195,0,2.6400000000000003E-2,2.0764767501413564E-59,null,null,null,null,{"$f":"IF(ABS(A267)-0.001>=Sheet2!$C$6/2,Sheet2!$C$7*(2-Sheet2!$C$8),0)","v":0},{"$f":"0.5*Sheet2!$C$9*A267^2","v":22.499999999997293},{"$f":"Sheet2!$C$10*ABS(A267)","v":149.99999999999096}]
[0.31999999999998197,0,2.6400000000000003E-2,2.0246905049859899E-59,null,null,null,null,{"$f":"IF(ABS(A268)-0.001>=Sheet2!$C$6/2,Sheet2!$C$7*(2-Sheet2!$C$8),0)","v":0},{"$f":"0.5*Sheet2!$C$9*A268^2","v":25.599999999997113},{"$f":"Sheet2!$C$10*ABS(A268)","v":159.99999999999099}]
[0.33999999999998198,0,2.6400000000000003E-2,1.9728828790988907E-59,null,null,null,null,{"$f":"IF(ABS(A269)-0.001>=Sheet2!$C$6/2,Sheet2!$C$7*(2-Sheet2!$C$8),0)","v":0},{"$f":"0.5*Sheet2!$C$9*A269^2","v":28.89999999999694},{"$f":"Sheet2!$C$10*ABS(A269)","v":169.99999999999099}]
[0.359999999999982,0,2.6400000000000003E-2,1.9210544195685883E-59,null,null,null,null,{"$f":"IF(ABS(A270)-0.001>=Sheet2!$C$6/2,Sheet2!$C$7*(2-Sheet2!$C$8),0)","v":0},{"$f":"0.5*Sheet2!$C$9*A270^2","v":32.399999999996759},{"$f":"Sheet2!$C$10*ABS(A270)","v":179.99999999999099}]
[0.37999999999998202,0,2.6400000000000003E-2,1.8692056737036153E-59,null,null,null,null,{"$f":"IF(ABS(A271)-0.001>=Sheet2!$C$6/2,Sheet2!$C$7*(2-Sheet2!$C$8),0)","v":0},{"$f":"0.5*Sheet2!$C$9*A271^2","v":36.099999999996584},{"$f":"Sheet2!$C$10*ABS(A271)","v":189.99999999999102}]
[0.39999999999998204,0,2.6400000000000003E-2,1.817337189026728E-59,null,null,null,null,{"$f":"IF(ABS(A272)-0.001>=Sheet2!$C$6/2,Sheet2!$C$7*(2-Sheet2!$C$8),0)","v":0},{"$f":"0.5*Sheet2!$C$9*A272^2","v":39.999999999996405},{"$f":"Sheet2!$C$10*ABS(A272)","v":199.99999999999102}]
[0.41999999999998205,0,2.6400000000000003E-2,1.7654495132691248E-59,null,null,null,null,{"$f":"IF(ABS(A273)-0.001>=Sheet2!$C$6/2,Sheet2!$C$7*(2-Sheet2!$C$8),0)","v":0},{"$f":"0.5*Sheet2!$C$9*A273^2","v":44.099999999996236},{"$f":"Sheet2!$C$10*ABS(A273)","v":209.99999999999102}]
[0.43999999999998207,0,2.6400000000000003E-2,1.7135431943646616E-59,null,null,null,null,{"$f":"IF(ABS(A274)-0.001>=Sheet2!$C$6/2,Sheet2!$C$7*(2-Sheet2!$C$8),0)","v":0},{"$f":"0.5*Sheet2!$C$9*A274^2","v":48.399999999996055},{"$f":"Sheet2!$C$10*ABS(A274)","v":219.99999999999105}]
[0.45999999999998209,0,2.6400000000000003E-2,1.661618780444066E-59,null,null,null,null,{"$f":"IF(ABS(A275)-0.001>=Sheet2!$C$6/2,Sheet2!$C$7*(2-Sheet2!$C$8),0)","v":0},{"$f":"0.5*Sheet2!$C$9*A275^2","v":52.899999999995877},{"$f":"Sheet2!$C$10*ABS(A275)","v":229.99999999999105}]
[0.47999999999998211,0,2.6400000000000003E-2,1.6096768198291489E-59,null,null,null,null,{"$f":"IF(ABS(A276)-0.001>=Sheet2!$C$6/2,Sheet2!$C$7*(2-Sheet2!$C$8),0)","v":0},{"$f":"0.5*Sheet2!$C$9*A276^2","v":57.599999999995703},{"$f":"Sheet2!$C$10*ABS(A276)","v":239.99999999999105}]
[0.49999999999998213,0,2.6400000000000003E-2,1.5577178610270145E-59,null,null,null,null,{"$f":"IF(ABS(A277)-0.001>=Sheet2!$C$6/2,Sheet2!$C$7*(2-Sheet2!$C$8),0)","v":0},{"$f":"0.5*Sheet2!$C$9*A277^2","v":62.499999999995531},{"$f":"Sheet2!$C$10*ABS(A277)","v":249.99999999999108}]
[0.51999999999998214,0,2.6400000000000003E-2,1.5057424527242676E-59,null,null,null,null,{"$f":"IF(ABS(A278)-0.001>=Sheet2!$C$6/2,Sheet2!$C$7*(2-Sheet2!$C$8),0)","v":0},{"$f":"0.5*Sheet2!$C$9*A278^2","v":67.599999999995362},{"$f":"Sheet2!$C$10*ABS(A278)","v":259.99999999999108}]
[0.53999999999998216,0,2.6400000000000003E-2,1.4537511437812198E-59,null,null,null,null,{"$f":"IF(ABS(A279)-0.001>=Sheet2!$C$6/2,Sheet2!$C$7*(2-Sheet2!$C$8),0)","v":0},{"$f":"0.5*Sheet2!$C$9*A279^2","v":72.899999999995174},{"$f":"Sheet2!$C$10*ABS(A279)","v":269.99999999999108}]
[0.55999999999998218,0,2.6400000000000003E-2,1.4017444832260939E-59,null,null,null,null,{"$f":"IF(ABS(A280)-0.001>=Sheet2!$C$6/2,Sheet2!$C$7*(2-Sheet2!$C$8),0)","v":0},{"$f":"0.5*Sheet2!$C$9*A280^2","v":78.399999999995018},{"$f":"Sheet2!$C$10*ABS(A280)","v":279.99999999999108}]
[0.5799999999999822,0,2.6400000000000003E-2,1.3497230202492252E-59,null,null,null,null,{"$f":"IF(ABS(A281)-0.001>=Sheet2!$C$6/2,Sheet2!$C$7*(2-Sheet2!$C$8),0)","v":0},{"$f":"0.5*Sheet2!$C$9*A281^2","v":84.099999999994836},{"$f":"Sheet2!$C$10*ABS(A281)","v":289.99999999999108}]
[0.59999999999998221,0,2.6400000000000003E-2,1.2976873041972626E-59,null,null,null,null,{"$f":"IF(ABS(A282)-0.001>=Sheet2!$C$6/2,Sheet2!$C$7*(2-Sheet2!$C$8),0)","v":0},{"$f":"0.5*Sheet2!$C$9*A282^2","v":89.999999999994671},{"$f":"Sheet2!$C$10*ABS(A282)","v":299.99999999999113}]
[0.61999999999998223,0,2.6400000000000003E-2,1.2456378845673676E-59,null,null,null,null,{"$f":"IF(ABS(A283)-0.001>=Sheet2!$C$6/2,Sheet2!$C$7*(2-Sheet2!$C$8),0)","v":0},{"$f":"0.5*Sheet2!$C$9*A283^2","v":96.099999999994495},{"$f":"Sheet2!$C$10*ABS(A283)","v":309.99999999999113}]
[0.63999999999998225,0,2.6400000000000003E-2,1.1935753110014117E-59,null,null,null,null,{"$f":"IF(ABS(A284)-0.001>=Sheet2!$C$6/2,Sheet2!$C$7*(2-Sheet2!$C$8),0)","v":0},{"$f":"0.5*Sheet2!$C$9*A284^2","v":102.39999999999432},{"$f":"Sheet2!$C$10*ABS(A284)","v":319.99999999999113}]
[0.65999999999998227,0,2.6400000000000003E-2,1.1415001332801715E-59,null,null,null,null,{"$f":"IF(ABS(A285)-0.001>=Sheet2!$C$6/2,Sheet2!$C$7*(2-Sheet2!$C$8),0)","v":0},{"$f":"0.5*Sheet2!$C$9*A285^2","v":108.89999999999415},{"$f":"Sheet2!$C$10*ABS(A285)","v":329.99999999999113}]
[0.67999999999998229,0,2.6400000000000003E-2,1.0894129013175236E-59,null,null,null,null,{"$f":"IF(ABS(A286)-0.001>=Sheet2!$C$6/2,Sheet2!$C$7*(2-Sheet2!$C$8),0)","v":0},{"$f":"0.5*Sheet2!$C$9*A286^2","v":115.59999999999397},{"$f":"Sheet2!$C$10*ABS(A286)","v":339.99999999999113}]
[0.6999999999999823,0,2.6400000000000003E-2,1.0373141651546381E-59,null,null,null,null,{"$f":"IF(ABS(A287)-0.001>=Sheet2!$C$6/2,Sheet2!$C$7*(2-Sheet2!$C$8),0)","v":0},{"$f":"0.5*Sheet2!$C$9*A287^2","v":122.4999999999938},{"$f":"Sheet2!$C$10*ABS(A287)","v":349.99999999999113}]
[0.71999999999998232,0,2.6400000000000003E-2,9.8520447495416843E-60,null,null,null,null,{"$f":"IF(ABS(A288)-0.001>=Sheet2!$C$6/2,Sheet2!$C$7*(2-Sheet2!$C$8),0)","v":0},{"$f":"0.5*Sheet2!$C$9*A288^2","v":129.59999999999363},{"$f":"Sheet2!$C$10*ABS(A288)","v":359.99999999999113}]
[0.73999999999998234,0,2.6400000000000003E-2,9.3308438099444335E-60,null,null,null,null,{"$f":"IF(ABS(A289)-0.001>=Sheet2!$C$6/2,Sheet2!$C$7*(2-Sheet2!$C$8),0)","v":0},{"$f":"0.5*Sheet2!$C$9*A289^2","v":136.89999999999347},{"$f":"Sheet2!$C$10*ABS(A289)","v":369.99999999999119}]
[0.75999999999998236,0,2.6400000000000003E-2,8.8095443366365494E-60,null,null,null,null,{"$f":"IF(ABS(A290)-0.001>=Sheet2!$C$6/2,Sheet2!$C$7*(2-Sheet2!$C$8),0)","v":0},{"$f":"0.5*Sheet2!$C$9*A290^2","v":144.39999999999327},{"$f":"Sheet2!$C$10*ABS(A290)","v":379.99999999999119}]
[0.77999999999998237,0,2.6400000000000003E-2,8.2881518345404697E-60,null,null,null,null,{"$f":"IF(ABS(A291)-0.001>=Sheet2!$C$6/2,Sheet2!$C$7*(2-Sheet2!$C$8),0)","v":0},{"$f":"0.5*Sheet2!$C$9*A291^2","v":152.09999999999312},{"$f":"Sheet2!$C$10*ABS(A291)","v":389.99999999999119}]
[0.79999999999998239,0,2.6400000000000003E-2,7.7666718095610162E-60,null,null,null,null,{"$f":"IF(ABS(A292)-0.001>=Sheet2!$C$6/2,Sheet2!$C$7*(2-Sheet2!$C$8),0)","v":0},{"$f":"0.5*Sheet2!$C$9*A292^2","v":159.99999999999295},{"$f":"Sheet2!$C$10*ABS(A292)","v":399.99999999999119}]
[0.81999999999998241,0,2.6400000000000003E-2,7.2451097685272539E-60,null,null,null,null,{"$f":"IF(ABS(A293)-0.001>=Sheet2!$C$6/2,Sheet2!$C$7*(2-Sheet2!$C$8),0)","v":0},{"$f":"0.5*Sheet2!$C$9*A293^2","v":168.09999999999278},{"$f":"Sheet2!$C$10*ABS(A293)","v":409.99999999999119}]
[0.83999999999998243,0,2.6400000000000003E-2,6.7234712191343363E-60,null,null,null,null,{"$f":"IF(ABS(A294)-0.001>=Sheet2!$C$6/2,Sheet2!$C$7*(2-Sheet2!$C$8),0)","v":0},{"$f":"0.5*Sheet2!$C$9*A294^2","v":176.39999999999262},{"$f":"Sheet2!$C$10*ABS(A294)","v":419.99999999999119}]
[0.85999999999998245,0,2.6400000000000003E-2,{"$f":"(2- 0.0004*C296)*D296-D297","v":6.2017616698853442E-60},null,null,null,null,{"$f":"IF(ABS(A295)-0.001>=Sheet2!$C$6/2,Sheet2!$C$7*(2-Sheet2!$C$8),0)","v":0},{"$f":"0.5*Sheet2!$C$9*A295^2","v":184.89999999999245},{"$f":"Sheet2!$C$10*ABS(A295)","v":429.99999999999125}]
[0.87999999999998246,0,2.6400000000000003E-2,5.6799866300331186E-60,null,null,null,null,{"$f":"IF(ABS(A296)-0.001>=Sheet2!$C$6/2,Sheet2!$C$7*(2-Sheet2!$C$8),0)","v":0},{"$f":"0.5*Sheet2!$C$9*A296^2","v":193.59999999999229},{"$f":"Sheet2!$C$10*ABS(A296)","v":439.99999999999125}]
[0.89999999999998248,0,2.6400000000000003E-2,5.1581516095220792E-60,null,null,null,null,{"$f":"IF(ABS(A297)-0.001>=Sheet2!$C$6/2,Sheet2!$C$7*(2-Sheet2!$C$8),0)","v":0},{"$f":"0.5*Sheet2!$C$9*A297^2","v":202.4999999999921},{"$f":"Sheet2!$C$10*ABS(A297)","v":449.99999999999125}]
[0.9199999999999825,0,2.6400000000000003E-2,4.6362621189300434E-60,null,null,null,null,{"$f":"IF(ABS(A298)-0.001>=Sheet2!$C$6/2,Sheet2!$C$7*(2-Sheet2!$C$8),0)","v":0},{"$f":"0.5*Sheet2!$C$9*A298^2","v":211.59999999999195},{"$f":"Sheet2!$C$10*ABS(A298)","v":459.99999999999125}]
[0.93999999999998252,0,2.6400000000000003E-2,4.1143236694100309E-60,null,null,null,null,{"$f":"IF(ABS(A299)-0.001>=Sheet2!$C$6/2,Sheet2!$C$7*(2-Sheet2!$C$8),0)","v":0},{"$f":"0.5*Sheet2!$C$9*A299^2","v":220.89999999999176},{"$f":"Sheet2!$C$10*ABS(A299)","v":469.99999999999125}]
[0.95999999999998253,0,2.6400000000000003E-2,3.5923417726320694E-60,null,null,null,null,{"$f":"IF(ABS(A300)-0.001>=Sheet2!$C$6/2,Sheet2!$C$7*(2-Sheet2!$C$8),0)","v":0},{"$f":"0.5*Sheet2!$C$9*A300^2","v":230.39999999999162},{"$f":"Sheet2!$C$10*ABS(A300)","v":479.99999999999125}]
[0.97999999999998255,0,2.6400000000000003E-2,3.0703219407249894E-60,null,null,null,null,{"$f":"IF(ABS(A301)-0.001>=Sheet2!$C$6/2,Sheet2!$C$7*(2-Sheet2!$C$8),0)","v":0},{"$f":"0.5*Sheet2!$C$9*A301^2","v":240.09999999999147},{"$f":"Sheet2!$C$10*ABS(A301)","v":489.9999999999913}]
[0.99999999999998257,0,2.6400000000000003E-2,2.5482696862182156E-60,null,null,null,null,{"$f":"IF(ABS(A302)-0.001>=Sheet2!$C$6/2,Sheet2!$C$7*(2-Sheet2!$C$8),0)","v":0},{"$f":"0.5*Sheet2!$C$9*A302^2","v":249.99999999999127},{"$f":"Sheet2!$C$10*ABS(A302)","v":499.9999999999913}]
[1.0199999999999825,500,-131.9736,2.0261905219835551E-60,null,null,null,null,{"$f":"IF(ABS(A303)-0.001>=Sheet2!$C$6/2,Sheet2!$C$7*(2-Sheet2!$C$8),0)","v":500},{"$f":"0.5*Sheet2!$C$9*A303^2","v":260.09999999999104},{"$f":"Sheet2!$C$10*ABS(A303)","v":509.99999999999125}]
[1.0399999999999825,500,-131.9736,1.6110728207377148E-60,null,null,null,null,{"$f":"IF(ABS(A304)-0.001>=Sheet2!$C$6/2,Sheet2!$C$7*(2-Sheet2!$C$8),0)","v":500},{"$f":"0.5*Sheet2!$C$9*A304^2","v":270.39999999999088},{"$f":"Sheet2!$C$10*ABS(A304)","v":519.99999999999125}]
[1.0599999999999825,500,-131.9736,1.2810027514978392E-60,null,null,null,null,{"$f":"IF(ABS(A305)-0.001>=Sheet2!$C$6/2,Sheet2!$C$7*(2-Sheet2!$C$8),0)","v":500},{"$f":"0.5*Sheet2!$C$9*A305^2","v":280.89999999999071},{"$f":"Sheet2!$C$10*ABS(A305)","v":529.99999999999125}]
[1.0799999999999825,500,-131.9736,1.0185561001479939E-60,null,null,null,null,{"$f":"IF(ABS(A306)-0.001>=Sheet2!$C$6/2,Sheet2!$C$7*(2-Sheet2!$C$8),0)","v":500},{"$f":"0.5*Sheet2!$C$9*A306^2","v":291.59999999999059},{"$f":"Sheet2!$C$10*ABS(A306)","v":539.99999999999125}]
[1.0999999999999825,500,-131.9736,8.0987845493354523E-61,null,null,null,null,{"$f":"IF(ABS(A307)-0.001>=Sheet2!$C$6/2,Sheet2!$C$7*(2-Sheet2!$C$8),0)","v":500},{"$f":"0.5*Sheet2!$C$9*A307^2","v":302.49999999999039},{"$f":"Sheet2!$C$10*ABS(A307)","v":549.99999999999125}]
[1.1199999999999826,500,-131.9736,6.4395383982310374E-61,null,null,null,null,{"$f":"IF(ABS(A308)-0.001>=Sheet2!$C$6/2,Sheet2!$C$7*(2-Sheet2!$C$8),0)","v":500},{"$f":"0.5*Sheet2!$C$9*A308^2","v":313.59999999999025},{"$f":"Sheet2!$C$10*ABS(A308)","v":559.99999999999125}]
[1.1399999999999826,500,-131.9736,5.1202318730277352E-61,null,null,null,null,{"$f":"IF(ABS(A309)-0.001>=Sheet2!$C$6/2,Sheet2!$C$7*(2-Sheet2!$C$8),0)","v":500},{"$f":"0.5*Sheet2!$C$9*A309^2","v":324.89999999999009},{"$f":"Sheet2!$C$10*ABS(A309)","v":569.99999999999125}]
[1.1599999999999826,500,-131.9736,4.0712195210717194E-61,null,null,null,null,{"$f":"IF(ABS(A310)-0.001>=Sheet2!$C$6/2,Sheet2!$C$7*(2-Sheet2!$C$8),0)","v":500},{"$f":"0.5*Sheet2!$C$9*A310^2","v":336.39999999998992},{"$f":"Sheet2!$C$10*ABS(A310)","v":579.99999999999125}]
[1.1799999999999826,500,-131.9736,3.2371245677501487E-61,null,null,null,null,{"$f":"IF(ABS(A311)-0.001>=Sheet2!$C$6/2,Sheet2!$C$7*(2-Sheet2!$C$8),0)","v":500},{"$f":"0.5*Sheet2!$C$9*A311^2","v":348.09999999998973},{"$f":"Sheet2!$C$10*ABS(A311)","v":589.99999999999136}]
[1.1999999999999826,500,-131.9736,2.5739156075703505E-61,null,null,null,null,{"$f":"IF(ABS(A312)-0.001>=Sheet2!$C$6/2,Sheet2!$C$7*(2-Sheet2!$C$8),0)","v":500},{"$f":"0.5*Sheet2!$C$9*A312^2","v":359.9999999999896},{"$f":"Sheet2!$C$10*ABS(A312)","v":599.99999999999136}]
[1.2199999999999827,500,-131.9736,2.0465822109214513E-61,null,null,null,null,{"$f":"IF(ABS(A313)-0.001>=Sheet2!$C$6/2,Sheet2!$C$7*(2-Sheet2!$C$8),0)","v":500},{"$f":"0.5*Sheet2!$C$9*A313^2","v":372.09999999998945},{"$f":"Sheet2!$C$10*ABS(A313)","v":609.99999999999136}]
[1.2399999999999827,500,-131.9736,1.6272867431010575E-61,null,null,null,null,{"$f":"IF(ABS(A314)-0.001>=Sheet2!$C$6/2,Sheet2!$C$7*(2-Sheet2!$C$8),0)","v":500},{"$f":"0.5*Sheet2!$C$9*A314^2","v":384.39999999998923},{"$f":"Sheet2!$C$10*ABS(A314)","v":619.99999999999136}]
[1.2599999999999827,500,-131.9736,1.2938948311683929E-61,null,null,null,null,{"$f":"IF(ABS(A315)-0.001>=Sheet2!$C$6/2,Sheet2!$C$7*(2-Sheet2!$C$8),0)","v":500},{"$f":"0.5*Sheet2!$C$9*A315^2","v":396.89999999998912},{"$f":"Sheet2!$C$10*ABS(A315)","v":629.99999999999136}]
[1.2799999999999827,500,-131.9736,1.0288069027920023E-61,null,null,null,null,{"$f":"IF(ABS(A316)-0.001>=Sheet2!$C$6/2,Sheet2!$C$7*(2-Sheet2!$C$8),0)","v":500},{"$f":"0.5*Sheet2!$C$9*A316^2","v":409.59999999998894},{"$f":"Sheet2!$C$10*ABS(A316)","v":639.99999999999136}]
[1.2999999999999827,500,-131.9736,{"$f":"(2- 0.0004*C318)*D318-D319","v":8.1802911468213621E-62},null,null,null,null,{"$f":"IF(ABS(A317)-0.001>=Sheet2!$C$6/2,Sheet2!$C$7*(2-Sheet2!$C$8),0)","v":500},{"$f":"0.5*Sheet2!$C$9*A317^2","v":422.49999999998875},{"$f":"Sheet2!$C$10*ABS(A317)","v":649.99999999999136}]
[1.3199999999999827,500,-131.9736,6.5043462544003597E-62,null,null,null,null,{"$f":"IF(ABS(A318)-0.001>=Sheet2!$C$6/2,Sheet2!$C$7*(2-Sheet2!$C$8),0)","v":500},{"$f":"0.5*Sheet2!$C$9*A318^2","v":435.5999999999886},{"$f":"Sheet2!$C$10*ABS(A318)","v":659.99999999999136}]
[1.3399999999999828,500,-131.9736,5.1717621583152514E-62,null,null,null,null,{"$f":"IF(ABS(A319)-0.001>=Sheet2!$C$6/2,Sheet2!$C$7*(2-Sheet2!$C$8),0)","v":500},{"$f":"0.5*Sheet2!$C$9*A319^2","v":448.89999999998849},{"$f":"Sheet2!$C$10*ABS(A319)","v":669.99999999999136}]
[1.3599999999999828,500,-131.9736,4.1121924903807973E-62,null,null,null,null,{"$f":"IF(ABS(A320)-0.001>=Sheet2!$C$6/2,Sheet2!$C$7*(2-Sheet2!$C$8),0)","v":500},{"$f":"0.5*Sheet2!$C$9*A320^2","v":462.39999999998827},{"$f":"Sheet2!$C$10*ABS(A320)","v":679.99999999999136}]
[1.3799999999999828,500,-131.9736,3.269703161185752E-62,null,null,null,null,{"$f":"IF(ABS(A321)-0.001>=Sheet2!$C$6/2,Sheet2!$C$7*(2-Sheet2!$C$8),0)","v":500},{"$f":"0.5*Sheet2!$C$9*A321^2","v":476.09999999998814},{"$f":"Sheet2!$C$10*ABS(A321)","v":689.99999999999136}]
[1.3999999999999828,500,{"$f":"0.264*($E$2-B322)","v":-131.9736},2.599819630835933E-62,null,null,null,null,{"$f":"IF(ABS(A322)-0.001>=Sheet2!$C$6/2,Sheet2!$C$7*(2-Sheet2!$C$8),0)","v":500},{"$f":"0.5*Sheet2!$C$9*A322^2","v":489.99999999998795},{"$f":"Sheet2!$C$10*ABS(A322)","v":699.99999999999136}]
[1.4199999999999828,500,-131.9736,2.0671791228989501E-62,null,null,null,null,{"$f":"IF(ABS(A323)-0.001>=Sheet2!$C$6/2,Sheet2!$C$7*(2-Sheet2!$C$8),0)","v":500},{"$f":"0.5*Sheet2!$C$9*A323^2","v":504.0999999999878},{"$f":"Sheet2!$C$10*ABS(A323)","v":709.99999999999136}]
[{"$f":"+A323+0.02","v":1.4399999999999828},500,-131.9736,1.6436638432394941E-62,null,null,null,null,{"$f":"IF(ABS(A324)-0.001>=Sheet2!$C$6/2,Sheet2!$C$7*(2-Sheet2!$C$8),0)","v":500},{"$f":"0.5*Sheet2!$C$9*A324^2","v":518.3999999999877},{"$f":"Sheet2!$C$10*ABS(A324)","v":719.99999999999147}]
[1.4599999999999829,500,-131.9736,1.306916657412899E-62,null,null,null,null,{"$f":"IF(ABS(A325)-0.001>=Sheet2!$C$6/2,Sheet2!$C$7*(2-Sheet2!$C$8),0)","v":500},{"$f":"0.5*Sheet2!$C$9*A325^2","v":532.89999999998747},{"$f":"Sheet2!$C$10*ABS(A325)","v":729.99999999999147}]
[1.4799999999999829,500,-131.9736,1.0391608700578029E-62,null,null,null,null,{"$f":"IF(ABS(A326)-0.001>=Sheet2!$C$6/2,Sheet2!$C$7*(2-Sheet2!$C$8),0)","v":500},{"$f":"0.5*Sheet2!$C$9*A326^2","v":547.59999999998729},{"$f":"Sheet2!$C$10*ABS(A326)","v":739.99999999999147}]
[1.4999999999999829,500,-131.9736,8.2626180310297099E-63,null,null,null,null,{"$f":"IF(ABS(A327)-0.001>=Sheet2!$C$6/2,Sheet2!$C$7*(2-Sheet2!$C$8),0)","v":500},{"$f":"0.5*Sheet2!$C$9*A327^2","v":562.49999999998715},{"$f":"Sheet2!$C$10*ABS(A327)","v":749.99999999999147}]
[1.5199999999999829,500,-131.9736,6.5698063402733535E-63,null,null,null,null,{"$f":"IF(ABS(A328)-0.001>=Sheet2!$C$6/2,Sheet2!$C$7*(2-Sheet2!$C$8),0)","v":500},{"$f":"0.5*Sheet2!$C$9*A328^2","v":577.59999999998706},{"$f":"Sheet2!$C$10*ABS(A328)","v":759.99999999999147}]
[1.5399999999999829,500,-131.9736,5.223811047128479E-63,null,null,null,null,{"$f":"IF(ABS(A329)-0.001>=Sheet2!$C$6/2,Sheet2!$C$7*(2-Sheet2!$C$8),0)","v":500},{"$f":"0.5*Sheet2!$C$9*A329^2","v":592.8999999999869},{"$f":"Sheet2!$C$10*ABS(A329)","v":769.99999999999147}]
[1.559999999999983,500,-131.9736,4.1535778138273319E-63,null,null,null,null,{"$f":"IF(ABS(A330)-0.001>=Sheet2!$C$6/2,Sheet2!$C$7*(2-Sheet2!$C$8),0)","v":500},{"$f":"0.5*Sheet2!$C$9*A330^2","v":608.39999999998668},{"$f":"Sheet2!$C$10*ABS(A330)","v":779.99999999999147}]
[1.579999999999983,500,-131.9736,3.3026096273145542E-63,null,null,null,null,{"$f":"IF(ABS(A331)-0.001>=Sheet2!$C$6/2,Sheet2!$C$7*(2-Sheet2!$C$8),0)","v":500},{"$f":"0.5*Sheet2!$C$9*A331^2","v":624.09999999998661},{"$f":"Sheet2!$C$10*ABS(A331)","v":789.99999999999147}]
[1.599999999999983,500,-131.9736,2.6259843535663208E-63,null,null,null,null,{"$f":"IF(ABS(A332)-0.001>=Sheet2!$C$6/2,Sheet2!$C$7*(2-Sheet2!$C$8),0)","v":500},{"$f":"0.5*Sheet2!$C$9*A332^2","v":639.99999999998636},{"$f":"Sheet2!$C$10*ABS(A332)","v":799.99999999999147}]
[1.619999999999983,500,-131.9736,2.0879833232916158E-63,null,null,null,null,{"$f":"IF(ABS(A333)-0.001>=Sheet2!$C$6/2,Sheet2!$C$7*(2-Sheet2!$C$8),0)","v":500},{"$f":"0.5*Sheet2!$C$9*A333^2","v":656.09999999998627},{"$f":"Sheet2!$C$10*ABS(A333)","v":809.99999999999147}]
[1.639999999999983,500,-131.9736,1.6602057633828147E-63,null,null,null,null,{"$f":"IF(ABS(A334)-0.001>=Sheet2!$C$6/2,Sheet2!$C$7*(2-Sheet2!$C$8),0)","v":500},{"$f":"0.5*Sheet2!$C$9*A334^2","v":672.39999999998611},{"$f":"Sheet2!$C$10*ABS(A334)","v":819.99999999999147}]
[1.659999999999983,500,-131.9736,1.3200695360077648E-63,null,null,null,null,{"$f":"IF(ABS(A335)-0.001>=Sheet2!$C$6/2,Sheet2!$C$7*(2-Sheet2!$C$8),0)","v":500},{"$f":"0.5*Sheet2!$C$9*A335^2","v":688.89999999998599},{"$f":"Sheet2!$C$10*ABS(A335)","v":829.99999999999147}]
[1.6799999999999831,500,-131.9736,1.049619040199625E-63,null,null,null,null,{"$f":"IF(ABS(A336)-0.001>=Sheet2!$C$6/2,Sheet2!$C$7*(2-Sheet2!$C$8),0)","v":500},{"$f":"0.5*Sheet2!$C$9*A336^2","v":705.59999999998581},{"$f":"Sheet2!$C$10*ABS(A336)","v":839.99999999999159}]
[1.6999999999999831,500,-131.9736,8.3457734573696094E-64,null,null,null,null,{"$f":"IF(ABS(A337)-0.001>=Sheet2!$C$6/2,Sheet2!$C$7*(2-Sheet2!$C$8),0)","v":500},{"$f":"0.5*Sheet2!$C$9*A337^2","v":722.49999999998556},{"$f":"Sheet2!$C$10*ABS(A337)","v":849.99999999999159}]
[1.7199999999999831,500,-131.9736,6.6359252199243749E-64,null,null,null,null,{"$f":"IF(ABS(A338)-0.001>=Sheet2!$C$6/2,Sheet2!$C$7*(2-Sheet2!$C$8),0)","v":500},{"$f":"0.5*Sheet2!$C$9*A338^2","v":739.59999999998547},{"$f":"Sheet2!$C$10*ABS(A338)","v":859.99999999999159}]
[1.7399999999999831,500,-131.9736,5.2763837587208254E-64,null,null,null,null,{"$f":"IF(ABS(A339)-0.001>=Sheet2!$C$6/2,Sheet2!$C$7*(2-Sheet2!$C$8),0)","v":500},{"$f":"0.5*Sheet2!$C$9*A339^2","v":756.89999999998531},{"$f":"Sheet2!$C$10*ABS(A339)","v":869.99999999999159}]
[1.7599999999999831,500,-131.9736,4.195379641365245E-64,null,null,null,null,{"$f":"IF(ABS(A340)-0.001>=Sheet2!$C$6/2,Sheet2!$C$7*(2-Sheet2!$C$8),0)","v":500},{"$f":"0.5*Sheet2!$C$9*A340^2","v":774.3999999999852},{"$f":"Sheet2!$C$10*ABS(A340)","v":879.99999999999159}]
[1.7799999999999832,500,-131.9736,3.335847265864737E-64,null,null,null,null,{"$f":"IF(ABS(A341)-0.001>=Sheet2!$C$6/2,Sheet2!$C$7*(2-Sheet2!$C$8),0)","v":500},{"$f":"0.5*Sheet2!$C$9*A341^2","v":792.09999999998502},{"$f":"Sheet2!$C$10*ABS(A341)","v":889.99999999999159}]
[1.7999999999999832,500,-131.9736,2.6524123994547599E-64,null,null,null,null,{"$f":"IF(ABS(A342)-0.001>=Sheet2!$C$6/2,Sheet2!$C$7*(2-Sheet2!$C$8),0)","v":500},{"$f":"0.5*Sheet2!$C$9*A342^2","v":809.99999999998488},{"$f":"Sheet2!$C$10*ABS(A342)","v":899.99999999999159}]
[1.8199999999999832,500,-131.9736,2.108996898261057E-64,null,null,null,null,{"$f":"IF(ABS(A343)-0.001>=Sheet2!$C$6/2,Sheet2!$C$7*(2-Sheet2!$C$8),0)","v":500},{"$f":"0.5*Sheet2!$C$9*A343^2","v":828.09999999998479},{"$f":"Sheet2!$C$10*ABS(A343)","v":909.99999999999159}]
[1.8399999999999832,500,-131.9736,1.6769141622882926E-64,null,null,null,null,{"$f":"IF(ABS(A344)-0.001>=Sheet2!$C$6/2,Sheet2!$C$7*(2-Sheet2!$C$8),0)","v":500},{"$f":"0.5*Sheet2!$C$9*A344^2","v":846.39999999998452},{"$f":"Sheet2!$C$10*ABS(A344)","v":919.99999999999159}]
[1.8599999999999832,500,-131.9736,1.3333547858707969E-64,null,null,null,null,{"$f":"IF(ABS(A345)-0.001>=Sheet2!$C$6/2,Sheet2!$C$7*(2-Sheet2!$C$8),0)","v":500},{"$f":"0.5*Sheet2!$C$9*A345^2","v":864.8999999999844},{"$f":"Sheet2!$C$10*ABS(A345)","v":929.99999999999159}]
[1.8799999999999832,500,-131.9736,1.0601824619207409E-64,null,null,null,null,{"$f":"IF(ABS(A346)-0.001>=Sheet2!$C$6/2,Sheet2!$C$7*(2-Sheet2!$C$8),0)","v":500},{"$f":"0.5*Sheet2!$C$9*A346^2","v":883.59999999998433},{"$f":"Sheet2!$C$10*ABS(A346)","v":939.99999999999159}]
[1.8999999999999833,500,-131.9736,8.4297657643330221E-65,null,null,null,null,{"$f":"IF(ABS(A347)-0.001>=Sheet2!$C$6/2,Sheet2!$C$7*(2-Sheet2!$C$8),0)","v":500},{"$f":"0.5*Sheet2!$C$9*A347^2","v":902.49999999998408},{"$f":"Sheet2!$C$10*ABS(A347)","v":949.99999999999159}]
[1.9199999999999833,500,-131.9736,6.7027095234889499E-65,null,null,null,null,{"$f":"IF(ABS(A348)-0.001>=Sheet2!$C$6/2,Sheet2!$C$7*(2-Sheet2!$C$8),0)","v":500},{"$f":"0.5*Sheet2!$C$9*A348^2","v":921.59999999998399},{"$f":"Sheet2!$C$10*ABS(A348)","v":959.99999999999159}]
[1.9399999999999833,500,-131.9736,5.3294855648725265E-65,null,null,null,null,{"$f":"IF(ABS(A349)-0.001>=Sheet2!$C$6/2,Sheet2!$C$7*(2-Sheet2!$C$8),0)","v":500},{"$f":"0.5*Sheet2!$C$9*A349^2","v":940.89999999998372},{"$f":"Sheet2!$C$10*ABS(A349)","v":969.9999999999917}]
[1.9599999999999833,500,-131.9736,4.2376021647138081E-65,null,null,null,null,{"$f":"IF(ABS(A350)-0.001>=Sheet2!$C$6/2,Sheet2!$C$7*(2-Sheet2!$C$8),0)","v":500},{"$f":"0.5*Sheet2!$C$9*A350^2","v":960.39999999998361},{"$f":"Sheet2!$C$10*ABS(A350)","v":979.9999999999917}]
[1.9799999999999833,500,-131.9736,3.3694194097731205E-65,null,null,null,null,{"$f":"IF(ABS(A351)-0.001>=Sheet2!$C$6/2,Sheet2!$C$7*(2-Sheet2!$C$8),0)","v":500},{"$f":"0.5*Sheet2!$C$9*A351^2","v":980.09999999998354},{"$f":"Sheet2!$C$10*ABS(A351)","v":989.9999999999917}]
[1.9999999999999833,500,-131.9736,2.6791064185994864E-65,null,null,null,null,{"$f":"IF(ABS(A352)-0.001>=Sheet2!$C$6/2,Sheet2!$C$7*(2-Sheet2!$C$8),0)","v":500},{"$f":"0.5*Sheet2!$C$9*A352^2","v":999.9999999999834},{"$f":"Sheet2!$C$10*ABS(A352)","v":999.9999999999917}]
[2.0199999999999831,500,-131.9736,2.1302219549641256E-65,null,null,null,null,{"$f":"IF(ABS(A353)-0.001>=Sheet2!$C$6/2,Sheet2!$C$7*(2-Sheet2!$C$8),0)","v":500},{"$f":"0.5*Sheet2!$C$9*A353^2","v":1020.0999999999829},{"$f":"Sheet2!$C$10*ABS(A353)","v":1009.9999999999916}]
[2.0399999999999832,500,-131.9736,1.6937907154070269E-65,null,null,null,null,{"$f":"IF(ABS(A354)-0.001>=Sheet2!$C$6/2,Sheet2!$C$7*(2-Sheet2!$C$8),0)","v":500},{"$f":"0.5*Sheet2!$C$9*A354^2","v":1040.3999999999828},{"$f":"Sheet2!$C$10*ABS(A354)","v":1019.9999999999916}]
[2.0599999999999832,500,-131.9736,1.3467737391934649E-65,null,null,null,null,{"$f":"IF(ABS(A355)-0.001>=Sheet2!$C$6/2,Sheet2!$C$7*(2-Sheet2!$C$8),0)","v":500},{"$f":"0.5*Sheet2!$C$9*A355^2","v":1060.8999999999826},{"$f":"Sheet2!$C$10*ABS(A355)","v":1029.9999999999916}]
[2.0799999999999832,500,-131.9736,1.0708521944786322E-65,null,null,null,null,{"$f":"IF(ABS(A356)-0.001>=Sheet2!$C$6/2,Sheet2!$C$7*(2-Sheet2!$C$8),0)","v":500},{"$f":"0.5*Sheet2!$C$9*A356^2","v":1081.5999999999826},{"$f":"Sheet2!$C$10*ABS(A356)","v":1039.9999999999916}]
[2.0999999999999832,500,-131.9736,8.5146033743309762E-66,null,null,null,null,{"$f":"IF(ABS(A357)-0.001>=Sheet2!$C$6/2,Sheet2!$C$7*(2-Sheet2!$C$8),0)","v":500},{"$f":"0.5*Sheet2!$C$9*A357^2","v":1102.4999999999823},{"$f":"Sheet2!$C$10*ABS(A357)","v":1049.9999999999916}]
[2.1199999999999832,500,-131.9736,6.7701659478286743E-66,null,null,null,null,{"$f":"IF(ABS(A358)-0.001>=Sheet2!$C$6/2,Sheet2!$C$7*(2-Sheet2!$C$8),0)","v":500},{"$f":"0.5*Sheet2!$C$9*A358^2","v":1123.5999999999822},{"$f":"Sheet2!$C$10*ABS(A358)","v":1059.9999999999916}]
[2.1399999999999832,500,-131.9736,5.3831217904193176E-66,null,null,null,null,{"$f":"IF(ABS(A359)-0.001>=Sheet2!$C$6/2,Sheet2!$C$7*(2-Sheet2!$C$8),0)","v":500},{"$f":"0.5*Sheet2!$C$9*A359^2","v":1144.8999999999821},{"$f":"Sheet2!$C$10*ABS(A359)","v":1069.9999999999916}]
[2.1599999999999833,500,-131.9736,4.2802496177779942E-66,null,null,null,null,{"$f":"IF(ABS(A360)-0.001>=Sheet2!$C$6/2,Sheet2!$C$7*(2-Sheet2!$C$8),0)","v":500},{"$f":"0.5*Sheet2!$C$9*A360^2","v":1166.3999999999819},{"$f":"Sheet2!$C$10*ABS(A360)","v":1079.9999999999916}]
[2.1799999999999833,500,-131.9736,3.4033294255193864E-66,null,null,null,null,{"$f":"IF(ABS(A361)-0.001>=Sheet2!$C$6/2,Sheet2!$C$7*(2-Sheet2!$C$8),0)","v":500},{"$f":"0.5*Sheet2!$C$9*A361^2","v":1188.0999999999817},{"$f":"Sheet2!$C$10*ABS(A361)","v":1089.9999999999916}]
[2.1999999999999833,500,-131.9736,2.7060690877694692E-66,null,null,null,null,{"$f":"IF(ABS(A362)-0.001>=Sheet2!$C$6/2,Sheet2!$C$7*(2-Sheet2!$C$8),0)","v":500},{"$f":"0.5*Sheet2!$C$9*A362^2","v":1209.9999999999816},{"$f":"Sheet2!$C$10*ABS(A362)","v":1099.9999999999916}]
[2.2199999999999833,500,-131.9736,2.1516606217642135E-66,null,null,null,null,{"$f":"IF(ABS(A363)-0.001>=Sheet2!$C$6/2,Sheet2!$C$7*(2-Sheet2!$C$8),0)","v":500},{"$f":"0.5*Sheet2!$C$9*A363^2","v":1232.0999999999815},{"$f":"Sheet2!$C$10*ABS(A363)","v":1109.9999999999916}]
[2.2399999999999833,500,-131.9736,1.710837115051943E-66,null,null,null,null,{"$f":"IF(ABS(A364)-0.001>=Sheet2!$C$6/2,Sheet2!$C$7*(2-Sheet2!$C$8),0)","v":500},{"$f":"0.5*Sheet2!$C$9*A364^2","v":1254.3999999999812},{"$f":"Sheet2!$C$10*ABS(A364)","v":1119.9999999999916}]
[2.2599999999999834,500,-131.9736,1.3603277415744807E-66,null,null,null,null,{"$f":"IF(ABS(A365)-0.001>=Sheet2!$C$6/2,Sheet2!$C$7*(2-Sheet2!$C$8),0)","v":500},{"$f":"0.5*Sheet2!$C$9*A365^2","v":1276.8999999999812},{"$f":"Sheet2!$C$10*ABS(A365)","v":1129.9999999999916}]
[2.2799999999999834,500,-131.9736,1.0816293077912002E-66,null,null,null,null,{"$f":"IF(ABS(A366)-0.001>=Sheet2!$C$6/2,Sheet2!$C$7*(2-Sheet2!$C$8),0)","v":500},{"$f":"0.5*Sheet2!$C$9*A366^2","v":1299.599999999981},{"$f":"Sheet2!$C$10*ABS(A366)","v":1139.9999999999916}]
[2.2999999999999834,500,-131.9736,8.6002947945380517E-67,null,null,null,null,{"$f":"IF(ABS(A367)-0.001>=Sheet2!$C$6/2,Sheet2!$C$7*(2-Sheet2!$C$8),0)","v":500},{"$f":"0.5*Sheet2!$C$9*A367^2","v":1322.4999999999809},{"$f":"Sheet2!$C$10*ABS(A367)","v":1149.9999999999916}]
[2.3199999999999834,500,-131.9736,6.838301257202681E-67,null,null,null,null,{"$f":"IF(ABS(A368)-0.001>=Sheet2!$C$6/2,Sheet2!$C$7*(2-Sheet2!$C$8),0)","v":500},{"$f":"0.5*Sheet2!$C$9*A368^2","v":1345.5999999999808},{"$f":"Sheet2!$C$10*ABS(A368)","v":1159.9999999999918}]
[2.3399999999999834,500,-131.9736,5.4372978137863384E-67,null,null,null,null,{"$f":"IF(ABS(A369)-0.001>=Sheet2!$C$6/2,Sheet2!$C$7*(2-Sheet2!$C$8),0)","v":500},{"$f":"0.5*Sheet2!$C$9*A369^2","v":1368.8999999999808},{"$f":"Sheet2!$C$10*ABS(A369)","v":1169.9999999999918}]
[2.3599999999999834,500,-131.9736,4.3233262770730012E-67,null,null,null,null,{"$f":"IF(ABS(A370)-0.001>=Sheet2!$C$6/2,Sheet2!$C$7*(2-Sheet2!$C$8),0)","v":500},{"$f":"0.5*Sheet2!$C$9*A370^2","v":1392.3999999999805},{"$f":"Sheet2!$C$10*ABS(A370)","v":1179.9999999999918}]
[2.3799999999999835,500,-131.9736,3.437580713463634E-67,null,null,null,null,{"$f":"IF(ABS(A371)-0.001>=Sheet2!$C$6/2,Sheet2!$C$7*(2-Sheet2!$C$8),0)","v":500},{"$f":"0.5*Sheet2!$C$9*A371^2","v":1416.0999999999804},{"$f":"Sheet2!$C$10*ABS(A371)","v":1189.9999999999918}]
[2.3999999999999835,500,-131.9736,2.7333031106728134E-67,null,null,null,null,{"$f":"IF(ABS(A372)-0.001>=Sheet2!$C$6/2,Sheet2!$C$7*(2-Sheet2!$C$8),0)","v":500},{"$f":"0.5*Sheet2!$C$9*A372^2","v":1439.9999999999802},{"$f":"Sheet2!$C$10*ABS(A372)","v":1199.9999999999918}]
[2.4199999999999835,500,-131.9736,2.1733150484446689E-67,null,null,null,null,{"$f":"IF(ABS(A373)-0.001>=Sheet2!$C$6/2,Sheet2!$C$7*(2-Sheet2!$C$8),0)","v":500},{"$f":"0.5*Sheet2!$C$9*A373^2","v":1464.0999999999799},{"$f":"Sheet2!$C$10*ABS(A373)","v":1209.9999999999918}]
[2.4399999999999835,500,-131.9736,1.7280550705674917E-67,null,null,null,null,{"$f":"IF(ABS(A374)-0.001>=Sheet2!$C$6/2,Sheet2!$C$7*(2-Sheet2!$C$8),0)","v":500},{"$f":"0.5*Sheet2!$C$9*A374^2","v":1488.3999999999799},{"$f":"Sheet2!$C$10*ABS(A374)","v":1219.9999999999918}]
[2.4599999999999835,500,-131.9736,1.3740181521547335E-67,null,null,null,null,{"$f":"IF(ABS(A375)-0.001>=Sheet2!$C$6/2,Sheet2!$C$7*(2-Sheet2!$C$8),0)","v":500},{"$f":"0.5*Sheet2!$C$9*A375^2","v":1512.8999999999796},{"$f":"Sheet2!$C$10*ABS(A375)","v":1229.9999999999918}]
[2.4799999999999836,500,-131.9736,1.0925148825440587E-67,null,null,null,null,{"$f":"IF(ABS(A376)-0.001>=Sheet2!$C$6/2,Sheet2!$C$7*(2-Sheet2!$C$8),0)","v":500},{"$f":"0.5*Sheet2!$C$9*A376^2","v":1537.5999999999797},{"$f":"Sheet2!$C$10*ABS(A376)","v":1239.9999999999918}]
[2.4999999999999836,500,-131.9736,8.6868486177455097E-68,null,null,null,null,{"$f":"IF(ABS(A377)-0.001>=Sheet2!$C$6/2,Sheet2!$C$7*(2-Sheet2!$C$8),0)","v":500},{"$f":"0.5*Sheet2!$C$9*A377^2","v":1562.4999999999795},{"$f":"Sheet2!$C$10*ABS(A377)","v":1249.9999999999918}]
[2.5199999999999836,500,-131.9736,6.9071222839459937E-68,null,null,null,null,{"$f":"IF(ABS(A378)-0.001>=Sheet2!$C$6/2,Sheet2!$C$7*(2-Sheet2!$C$8),0)","v":500},{"$f":"0.5*Sheet2!$C$9*A378^2","v":1587.5999999999792},{"$f":"Sheet2!$C$10*ABS(A378)","v":1259.9999999999918}]
[2.5399999999999836,500,-131.9736,5.4920190675275085E-68,null,null,null,null,{"$f":"IF(ABS(A379)-0.001>=Sheet2!$C$6/2,Sheet2!$C$7*(2-Sheet2!$C$8),0)","v":500},{"$f":"0.5*Sheet2!$C$9*A379^2","v":1612.8999999999792},{"$f":"Sheet2!$C$10*ABS(A379)","v":1269.9999999999918}]
[2.5599999999999836,500,-131.9736,4.3668364621531231E-68,null,null,null,null,{"$f":"IF(ABS(A380)-0.001>=Sheet2!$C$6/2,Sheet2!$C$7*(2-Sheet2!$C$8),0)","v":500},{"$f":"0.5*Sheet2!$C$9*A380^2","v":1638.3999999999789},{"$f":"Sheet2!$C$10*ABS(A380)","v":1279.9999999999918}]
[2.5799999999999836,500,-131.9736,{"$f":"(2- 0.0004*C382)*D382-D383","v":3.4721767081873829E-68},null,null,null,null,{"$f":"IF(ABS(A381)-0.001>=Sheet2!$C$6/2,Sheet2!$C$7*(2-Sheet2!$C$8),0)","v":500},{"$f":"0.5*Sheet2!$C$9*A381^2","v":1664.0999999999788},{"$f":"Sheet2!$C$10*ABS(A381)","v":1289.9999999999918}]
[2.5999999999999837,500,-131.9736,2.7608112182278983E-68,null,null,null,null,{"$f":"IF(ABS(A382)-0.001>=Sheet2!$C$6/2,Sheet2!$C$7*(2-Sheet2!$C$8),0)","v":500},{"$f":"0.5*Sheet2!$C$9*A382^2","v":1689.9999999999789},{"$f":"Sheet2!$C$10*ABS(A382)","v":1299.9999999999918}]
[2.6199999999999837,500,-131.9736,2.1951874064243825E-68,null,null,null,null,{"$f":"IF(ABS(A383)-0.001>=Sheet2!$C$6/2,Sheet2!$C$7*(2-Sheet2!$C$8),0)","v":500},{"$f":"0.5*Sheet2!$C$9*A383^2","v":1716.0999999999785},{"$f":"Sheet2!$C$10*ABS(A383)","v":1309.9999999999918}]
[2.6399999999999837,500,-131.9736,1.7454463085010631E-68,null,null,null,null,{"$f":"IF(ABS(A384)-0.001>=Sheet2!$C$6/2,Sheet2!$C$7*(2-Sheet2!$C$8),0)","v":500},{"$f":"0.5*Sheet2!$C$9*A384^2","v":1742.3999999999785},{"$f":"Sheet2!$C$10*ABS(A384)","v":1319.9999999999918}]
[2.6599999999999837,500,-131.9736,1.3878463437535822E-68,null,null,null,null,{"$f":"IF(ABS(A385)-0.001>=Sheet2!$C$6/2,Sheet2!$C$7*(2-Sheet2!$C$8),0)","v":500},{"$f":"0.5*Sheet2!$C$9*A385^2","v":1768.8999999999785},{"$f":"Sheet2!$C$10*ABS(A385)","v":1329.9999999999918}]
[2.6799999999999837,500,{"$f":"0.264*($E$2-B386)","v":-131.9736},1.1035100102989008E-68,null,null,null,null,{"$f":"IF(ABS(A386)-0.001>=Sheet2!$C$6/2,Sheet2!$C$7*(2-Sheet2!$C$8),0)","v":500},{"$f":"0.5*Sheet2!$C$9*A386^2","v":1795.5999999999781},{"$f":"Sheet2!$C$10*ABS(A386)","v":1339.9999999999918}]
[2.6999999999999837,500,-131.9736,8.7742735232229247E-69,null,null,null,null,{"$f":"IF(ABS(A387)-0.001>=Sheet2!$C$6/2,Sheet2!$C$7*(2-Sheet2!$C$8),0)","v":500},{"$f":"0.5*Sheet2!$C$9*A387^2","v":1822.4999999999779},{"$f":"Sheet2!$C$10*ABS(A387)","v":1349.9999999999918}]
[{"$f":"+A387+0.02","v":2.7199999999999838},500,-131.9736,6.9766359291546088E-69,null,null,null,null,{"$f":"IF(ABS(A388)-0.001>=Sheet2!$C$6/2,Sheet2!$C$7*(2-Sheet2!$C$8),0)","v":500},{"$f":"0.5*Sheet2!$C$9*A388^2","v":1849.5999999999779},{"$f":"Sheet2!$C$10*ABS(A388)","v":1359.9999999999918}]
[2.7399999999999838,500,-131.9736,5.5472910388702467E-69,null,null,null,null,{"$f":"IF(ABS(A389)-0.001>=Sheet2!$C$6/2,Sheet2!$C$7*(2-Sheet2!$C$8),0)","v":500},{"$f":"0.5*Sheet2!$C$9*A389^2","v":1876.8999999999778},{"$f":"Sheet2!$C$10*ABS(A389)","v":1369.9999999999918}]
[2.7599999999999838,500,-131.9736,4.4107845360448638E-69,null,null,null,null,{"$f":"IF(ABS(A390)-0.001>=Sheet2!$C$6/2,Sheet2!$C$7*(2-Sheet2!$C$8),0)","v":500},{"$f":"0.5*Sheet2!$C$9*A390^2","v":1904.3999999999776},{"$f":"Sheet2!$C$10*ABS(A390)","v":1379.9999999999918}]
[2.7799999999999838,500,-131.9736,3.5071208788379501E-69,null,null,null,null,{"$f":"IF(ABS(A391)-0.001>=Sheet2!$C$6/2,Sheet2!$C$7*(2-Sheet2!$C$8),0)","v":500},{"$f":"0.5*Sheet2!$C$9*A391^2","v":1932.0999999999774},{"$f":"Sheet2!$C$10*ABS(A391)","v":1389.9999999999918}]
[2.7999999999999838,500,-131.9736,2.7885961688372003E-69,null,null,null,null,{"$f":"IF(ABS(A392)-0.001>=Sheet2!$C$6/2,Sheet2!$C$7*(2-Sheet2!$C$8),0)","v":500},{"$f":"0.5*Sheet2!$C$9*A392^2","v":1959.9999999999773},{"$f":"Sheet2!$C$10*ABS(A392)","v":1399.9999999999918}]
[2.8199999999999839,500,-131.9736,2.2172798889755125E-69,null,null,null,null,{"$f":"IF(ABS(A393)-0.001>=Sheet2!$C$6/2,Sheet2!$C$7*(2-Sheet2!$C$8),0)","v":500},{"$f":"0.5*Sheet2!$C$9*A393^2","v":1988.0999999999774},{"$f":"Sheet2!$C$10*ABS(A393)","v":1409.9999999999918}]
[2.8399999999999839,500,-131.9736,1.7630125727761045E-69,null,null,null,null,{"$f":"IF(ABS(A394)-0.001>=Sheet2!$C$6/2,Sheet2!$C$7*(2-Sheet2!$C$8),0)","v":500},{"$f":"0.5*Sheet2!$C$9*A394^2","v":2016.3999999999769},{"$f":"Sheet2!$C$10*ABS(A394)","v":1419.999999999992}]
[2.8599999999999839,500,-131.9736,1.4018137030065067E-69,null,null,null,null,{"$f":"IF(ABS(A395)-0.001>=Sheet2!$C$6/2,Sheet2!$C$7*(2-Sheet2!$C$8),0)","v":500},{"$f":"0.5*Sheet2!$C$9*A395^2","v":2044.8999999999771},{"$f":"Sheet2!$C$10*ABS(A395)","v":1429.999999999992}]
[2.8799999999999839,500,-131.9736,1.1146157936029488E-69,null,null,null,null,{"$f":"IF(ABS(A396)-0.001>=Sheet2!$C$6/2,Sheet2!$C$7*(2-Sheet2!$C$8),0)","v":500},{"$f":"0.5*Sheet2!$C$9*A396^2","v":2073.5999999999767},{"$f":"Sheet2!$C$10*ABS(A396)","v":1439.999999999992}]
[2.8999999999999839,500,-131.9736,8.8625782775884659E-70,null,null,null,null,{"$f":"IF(ABS(A397)-0.001>=Sheet2!$C$6/2,Sheet2!$C$7*(2-Sheet2!$C$8),0)","v":500},{"$f":"0.5*Sheet2!$C$9*A397^2","v":2102.4999999999764},{"$f":"Sheet2!$C$10*ABS(A397)","v":1449.999999999992}]
[2.9199999999999839,500,-131.9736,7.0468491633775059E-70,null,null,null,null,{"$f":"IF(ABS(A398)-0.001>=Sheet2!$C$6/2,Sheet2!$C$7*(2-Sheet2!$C$8),0)","v":500},{"$f":"0.5*Sheet2!$C$9*A398^2","v":2131.5999999999767},{"$f":"Sheet2!$C$10*ABS(A398)","v":1459.999999999992}]
[2.939999999999984,500,-131.9736,5.6031192702657133E-70,null,null,null,null,{"$f":"IF(ABS(A399)-0.001>=Sheet2!$C$6/2,Sheet2!$C$7*(2-Sheet2!$C$8),0)","v":500},{"$f":"0.5*Sheet2!$C$9*A399^2","v":2160.8999999999764},{"$f":"Sheet2!$C$10*ABS(A399)","v":1469.999999999992}]
[2.959999999999984,500,-131.9736,4.4551749056844584E-70,null,null,null,null,{"$f":"IF(ABS(A400)-0.001>=Sheet2!$C$6/2,Sheet2!$C$7*(2-Sheet2!$C$8),0)","v":500},{"$f":"0.5*Sheet2!$C$9*A400^2","v":2190.3999999999764},{"$f":"Sheet2!$C$10*ABS(A400)","v":1479.999999999992}]
[2.979999999999984,500,-131.9736,3.5424167294763398E-70,null,null,null,null,{"$f":"IF(ABS(A401)-0.001>=Sheet2!$C$6/2,Sheet2!$C$7*(2-Sheet2!$C$8),0)","v":500},{"$f":"0.5*Sheet2!$C$9*A401^2","v":2220.0999999999758},{"$f":"Sheet2!$C$10*ABS(A401)","v":1489.999999999992}]
[2.999999999999984,500,-131.9736,2.816660748663909E-70,null,null,null,null,{"$f":"IF(ABS(A402)-0.001>=Sheet2!$C$6/2,Sheet2!$C$7*(2-Sheet2!$C$8),0)","v":500},{"$f":"0.5*Sheet2!$C$9*A402^2","v":2249.9999999999759},{"$f":"Sheet2!$C$10*ABS(A402)","v":1499.999999999992}]
[3.019999999999984,500,-131.9736,2.239594711443427E-70,null,null,null,null,{"$f":"IF(ABS(A403)-0.001>=Sheet2!$C$6/2,Sheet2!$C$7*(2-Sheet2!$C$8),0)","v":500},{"$f":"0.5*Sheet2!$C$9*A403^2","v":2280.0999999999758},{"$f":"Sheet2!$C$10*ABS(A403)","v":1509.999999999992}]
[3.039999999999984,500,-131.9736,1.7807556248670054E-70,null,null,null,null,{"$f":"IF(ABS(A404)-0.001>=Sheet2!$C$6/2,Sheet2!$C$7*(2-Sheet2!$C$8),0)","v":500},{"$f":"0.5*Sheet2!$C$9*A404^2","v":2310.3999999999755},{"$f":"Sheet2!$C$10*ABS(A404)","v":1519.999999999992}]
[3.0599999999999841,500,-131.9736,1.4159216305041636E-70,null,null,null,null,{"$f":"IF(ABS(A405)-0.001>=Sheet2!$C$6/2,Sheet2!$C$7*(2-Sheet2!$C$8),0)","v":500},{"$f":"0.5*Sheet2!$C$9*A405^2","v":2340.8999999999755},{"$f":"Sheet2!$C$10*ABS(A405)","v":1529.999999999992}]
[3.0799999999999841,500,-131.9736,1.1258333460995238E-70,null,null,null,null,{"$f":"IF(ABS(A406)-0.001>=Sheet2!$C$6/2,Sheet2!$C$7*(2-Sheet2!$C$8),0)","v":500},{"$f":"0.5*Sheet2!$C$9*A406^2","v":2371.5999999999754},{"$f":"Sheet2!$C$10*ABS(A406)","v":1539.999999999992}]
[3.0999999999999841,500,-131.9736,8.951771735688044E-71,null,null,null,null,{"$f":"IF(ABS(A407)-0.001>=Sheet2!$C$6/2,Sheet2!$C$7*(2-Sheet2!$C$8),0)","v":500},{"$f":"0.5*Sheet2!$C$9*A407^2","v":2402.4999999999754},{"$f":"Sheet2!$C$10*ABS(A407)","v":1549.999999999992}]
[3.1199999999999841,500,-131.9736,7.1177690273156522E-71,null,null,null,null,{"$f":"IF(ABS(A408)-0.001>=Sheet2!$C$6/2,Sheet2!$C$7*(2-Sheet2!$C$8),0)","v":500},{"$f":"0.5*Sheet2!$C$9*A408^2","v":2433.5999999999754},{"$f":"Sheet2!$C$10*ABS(A408)","v":1559.999999999992}]
[3.1399999999999841,500,-131.9736,5.6595093599446004E-71,null,null,null,null,{"$f":"IF(ABS(A409)-0.001>=Sheet2!$C$6/2,Sheet2!$C$7*(2-Sheet2!$C$8),0)","v":500},{"$f":"0.5*Sheet2!$C$9*A409^2","v":2464.8999999999751},{"$f":"Sheet2!$C$10*ABS(A409)","v":1569.999999999992}]
[3.1599999999999842,500,-131.9736,4.5000120223597837E-71,null,null,null,null,{"$f":"IF(ABS(A410)-0.001>=Sheet2!$C$6/2,Sheet2!$C$7*(2-Sheet2!$C$8),0)","v":500},{"$f":"0.5*Sheet2!$C$9*A410^2","v":2496.3999999999751},{"$f":"Sheet2!$C$10*ABS(A410)","v":1579.999999999992}]
[3.1799999999999842,500,-131.9736,3.5780677994286091E-71,null,null,null,null,{"$f":"IF(ABS(A411)-0.001>=Sheet2!$C$6/2,Sheet2!$C$7*(2-Sheet2!$C$8),0)","v":500},{"$f":"0.5*Sheet2!$C$9*A411^2","v":2528.0999999999749},{"$f":"Sheet2!$C$10*ABS(A411)","v":1589.999999999992}]
[3.1999999999999842,500,-131.9736,2.845007771911304E-71,null,null,null,null,{"$f":"IF(ABS(A412)-0.001>=Sheet2!$C$6/2,Sheet2!$C$7*(2-Sheet2!$C$8),0)","v":500},{"$f":"0.5*Sheet2!$C$9*A412^2","v":2559.9999999999745},{"$f":"Sheet2!$C$10*ABS(A412)","v":1599.999999999992}]
[3.2199999999999842,500,-131.9736,2.2621341114688453E-71,null,null,null,null,{"$f":"IF(ABS(A413)-0.001>=Sheet2!$C$6/2,Sheet2!$C$7*(2-Sheet2!$C$8),0)","v":500},{"$f":"0.5*Sheet2!$C$9*A413^2","v":2592.0999999999744},{"$f":"Sheet2!$C$10*ABS(A413)","v":1609.999999999992}]
[3.2399999999999842,500,-131.9736,1.7986772439757251E-71,null,null,null,null,{"$f":"IF(ABS(A414)-0.001>=Sheet2!$C$6/2,Sheet2!$C$7*(2-Sheet2!$C$8),0)","v":500},{"$f":"0.5*Sheet2!$C$9*A414^2","v":2624.3999999999742},{"$f":"Sheet2!$C$10*ABS(A414)","v":1619.999999999992}]
[3.2599999999999842,500,-131.9736,1.4301715409328272E-71,null,null,null,null,{"$f":"IF(ABS(A415)-0.001>=Sheet2!$C$6/2,Sheet2!$C$7*(2-Sheet2!$C$8),0)","v":500},{"$f":"0.5*Sheet2!$C$9*A415^2","v":2656.8999999999746},{"$f":"Sheet2!$C$10*ABS(A415)","v":1629.999999999992}]
[3.2799999999999843,500,-131.9736,1.1371637926397106E-71,null,null,null,null,{"$f":"IF(ABS(A416)-0.001>=Sheet2!$C$6/2,Sheet2!$C$7*(2-Sheet2!$C$8),0)","v":500},{"$f":"0.5*Sheet2!$C$9*A416^2","v":2689.5999999999744},{"$f":"Sheet2!$C$10*ABS(A416)","v":1639.999999999992}]
[3.2999999999999843,500,-131.9736,9.0418628414832047E-72,null,null,null,null,{"$f":"IF(ABS(A417)-0.001>=Sheet2!$C$6/2,Sheet2!$C$7*(2-Sheet2!$C$8),0)","v":500},{"$f":"0.5*Sheet2!$C$9*A417^2","v":2722.4999999999741},{"$f":"Sheet2!$C$10*ABS(A417)","v":1649.999999999992}]
[3.3199999999999843,500,-131.9736,7.1894026325280111E-72,null,null,null,null,{"$f":"IF(ABS(A418)-0.001>=Sheet2!$C$6/2,Sheet2!$C$7*(2-Sheet2!$C$8),0)","v":500},{"$f":"0.5*Sheet2!$C$9*A418^2","v":2755.599999999974},{"$f":"Sheet2!$C$10*ABS(A418)","v":1659.999999999992}]
[3.3399999999999843,500,-131.9736,5.716466962478498E-72,null,null,null,null,{"$f":"IF(ABS(A419)-0.001>=Sheet2!$C$6/2,Sheet2!$C$7*(2-Sheet2!$C$8),0)","v":500},{"$f":"0.5*Sheet2!$C$9*A419^2","v":2788.8999999999737},{"$f":"Sheet2!$C$10*ABS(A419)","v":1669.9999999999923}]
[3.3599999999999843,500,-131.9736,4.545300382156727E-72,null,null,null,null,{"$f":"IF(ABS(A420)-0.001>=Sheet2!$C$6/2,Sheet2!$C$7*(2-Sheet2!$C$8),0)","v":500},{"$f":"0.5*Sheet2!$C$9*A420^2","v":2822.3999999999737},{"$f":"Sheet2!$C$10*ABS(A420)","v":1679.9999999999923}]
[3.3799999999999844,500,-131.9736,3.6140776636407956E-72,null,null,null,null,{"$f":"IF(ABS(A421)-0.001>=Sheet2!$C$6/2,Sheet2!$C$7*(2-Sheet2!$C$8),0)","v":500},{"$f":"0.5*Sheet2!$C$9*A421^2","v":2856.0999999999735},{"$f":"Sheet2!$C$10*ABS(A421)","v":1689.9999999999923}]
[3.3999999999999844,500,-131.9736,2.8736400811049711E-72,null,null,null,null,{"$f":"IF(ABS(A422)-0.001>=Sheet2!$C$6/2,Sheet2!$C$7*(2-Sheet2!$C$8),0)","v":500},{"$f":"0.5*Sheet2!$C$9*A422^2","v":2889.9999999999736},{"$f":"Sheet2!$C$10*ABS(A422)","v":1699.9999999999923}]
[3.4199999999999844,500,-131.9736,2.2849003492122327E-72,null,null,null,null,{"$f":"IF(ABS(A423)-0.001>=Sheet2!$C$6/2,Sheet2!$C$7*(2-Sheet2!$C$8),0)","v":500},{"$f":"0.5*Sheet2!$C$9*A423^2","v":2924.0999999999735},{"$f":"Sheet2!$C$10*ABS(A423)","v":1709.9999999999923}]
[3.4399999999999844,500,-131.9736,1.8167792272102128E-72,null,null,null,null,{"$f":"IF(ABS(A424)-0.001>=Sheet2!$C$6/2,Sheet2!$C$7*(2-Sheet2!$C$8),0)","v":500},{"$f":"0.5*Sheet2!$C$9*A424^2","v":2958.3999999999733},{"$f":"Sheet2!$C$10*ABS(A424)","v":1719.9999999999923}]
[3.4599999999999844,500,-131.9736,1.4445648632162531E-72,null,null,null,null,{"$f":"IF(ABS(A425)-0.001>=Sheet2!$C$6/2,Sheet2!$C$7*(2-Sheet2!$C$8),0)","v":500},{"$f":"0.5*Sheet2!$C$9*A425^2","v":2992.8999999999728},{"$f":"Sheet2!$C$10*ABS(A425)","v":1729.9999999999923}]
[3.4799999999999844,500,-131.9736,1.1486082693951561E-72,null,null,null,null,{"$f":"IF(ABS(A426)-0.001>=Sheet2!$C$6/2,Sheet2!$C$7*(2-Sheet2!$C$8),0)","v":500},{"$f":"0.5*Sheet2!$C$9*A426^2","v":3027.5999999999731},{"$f":"Sheet2!$C$10*ABS(A426)","v":1739.9999999999923}]
[3.4999999999999845,500,-131.9736,9.1328606289479871E-73,null,null,null,null,{"$f":"IF(ABS(A427)-0.001>=Sheet2!$C$6/2,Sheet2!$C$7*(2-Sheet2!$C$8),0)","v":500},{"$f":"0.5*Sheet2!$C$9*A427^2","v":3062.4999999999727},{"$f":"Sheet2!$C$10*ABS(A427)","v":1749.9999999999923}]
[3.5199999999999845,500,-131.9736,7.2617571621446271E-73,null,null,null,null,{"$f":"IF(ABS(A428)-0.001>=Sheet2!$C$6/2,Sheet2!$C$7*(2-Sheet2!$C$8),0)","v":500},{"$f":"0.5*Sheet2!$C$9*A428^2","v":3097.5999999999726},{"$f":"Sheet2!$C$10*ABS(A428)","v":1759.9999999999923}]
[3.5399999999999845,500,-131.9736,5.7739977893468723E-73,null,null,null,null,{"$f":"IF(ABS(A429)-0.001>=Sheet2!$C$6/2,Sheet2!$C$7*(2-Sheet2!$C$8),0)","v":500},{"$f":"0.5*Sheet2!$C$9*A429^2","v":3132.8999999999728},{"$f":"Sheet2!$C$10*ABS(A429)","v":1769.9999999999923}]
[3.5599999999999845,500,-131.9736,4.5910445264099776E-73,null,null,null,null,{"$f":"IF(ABS(A430)-0.001>=Sheet2!$C$6/2,Sheet2!$C$7*(2-Sheet2!$C$8),0)","v":500},{"$f":"0.5*Sheet2!$C$9*A430^2","v":3168.3999999999724},{"$f":"Sheet2!$C$10*ABS(A430)","v":1779.9999999999923}]
[3.5799999999999845,500,-131.9736,3.6504499330373329E-73,null,null,null,null,{"$f":"IF(ABS(A431)-0.001>=Sheet2!$C$6/2,Sheet2!$C$7*(2-Sheet2!$C$8),0)","v":500},{"$f":"0.5*Sheet2!$C$9*A431^2","v":3204.0999999999726},{"$f":"Sheet2!$C$10*ABS(A431)","v":1789.9999999999923}]
[3.5999999999999845,500,-131.9736,2.9025605473777674E-73,null,null,null,null,{"$f":"IF(ABS(A432)-0.001>=Sheet2!$C$6/2,Sheet2!$C$7*(2-Sheet2!$C$8),0)","v":500},{"$f":"0.5*Sheet2!$C$9*A432^2","v":3239.9999999999723},{"$f":"Sheet2!$C$10*ABS(A432)","v":1799.9999999999923}]
[3.6199999999999846,500,-131.9736,2.3078957075803685E-73,null,null,null,null,{"$f":"IF(ABS(A433)-0.001>=Sheet2!$C$6/2,Sheet2!$C$7*(2-Sheet2!$C$8),0)","v":500},{"$f":"0.5*Sheet2!$C$9*A433^2","v":3276.0999999999722},{"$f":"Sheet2!$C$10*ABS(A433)","v":1809.9999999999923}]
[3.6399999999999846,500,-131.9736,1.835063389764542E-73,null,null,null,null,{"$f":"IF(ABS(A434)-0.001>=Sheet2!$C$6/2,Sheet2!$C$7*(2-Sheet2!$C$8),0)","v":500},{"$f":"0.5*Sheet2!$C$9*A434^2","v":3312.3999999999719},{"$f":"Sheet2!$C$10*ABS(A434)","v":1819.9999999999923}]
[3.6599999999999846,500,-131.9736,1.4591030406588875E-73,null,null,null,null,{"$f":"IF(ABS(A435)-0.001>=Sheet2!$C$6/2,Sheet2!$C$7*(2-Sheet2!$C$8),0)","v":500},{"$f":"0.5*Sheet2!$C$9*A435^2","v":3348.8999999999719},{"$f":"Sheet2!$C$10*ABS(A435)","v":1829.9999999999923}]
[3.6799999999999846,500,-131.9736,1.1601679239719132E-73,null,null,null,null,{"$f":"IF(ABS(A436)-0.001>=Sheet2!$C$6/2,Sheet2!$C$7*(2-Sheet2!$C$8),0)","v":500},{"$f":"0.5*Sheet2!$C$9*A436^2","v":3385.5999999999717},{"$f":"Sheet2!$C$10*ABS(A436)","v":1839.9999999999923}]
[3.6999999999999846,500,-131.9736,9.2247742229737883E-74,null,null,null,null,{"$f":"IF(ABS(A437)-0.001>=Sheet2!$C$6/2,Sheet2!$C$7*(2-Sheet2!$C$8),0)","v":500},{"$f":"0.5*Sheet2!$C$9*A437^2","v":3422.4999999999714},{"$f":"Sheet2!$C$10*ABS(A437)","v":1849.9999999999923}]
[3.7199999999999847,500,-131.9736,7.3348398715856677E-74,null,null,null,null,{"$f":"IF(ABS(A438)-0.001>=Sheet2!$C$6/2,Sheet2!$C$7*(2-Sheet2!$C$8),0)","v":500},{"$f":"0.5*Sheet2!$C$9*A438^2","v":3459.5999999999717},{"$f":"Sheet2!$C$10*ABS(A438)","v":1859.9999999999923}]
[3.7399999999999847,500,-131.9736,5.8321076095082273E-74,null,null,null,null,{"$f":"IF(ABS(A439)-0.001>=Sheet2!$C$6/2,Sheet2!$C$7*(2-Sheet2!$C$8),0)","v":500},{"$f":"0.5*Sheet2!$C$9*A439^2","v":3496.8999999999714},{"$f":"Sheet2!$C$10*ABS(A439)","v":1869.9999999999923}]
[3.7599999999999847,500,-131.9736,4.6372490421564666E-74,null,null,null,null,{"$f":"IF(ABS(A440)-0.001>=Sheet2!$C$6/2,Sheet2!$C$7*(2-Sheet2!$C$8),0)","v":500},{"$f":"0.5*Sheet2!$C$9*A440^2","v":3534.3999999999714},{"$f":"Sheet2!$C$10*ABS(A440)","v":1879.9999999999923}]
[3.7799999999999847,500,-131.9736,3.6871882548806836E-74,null,null,null,null,{"$f":"IF(ABS(A441)-0.001>=Sheet2!$C$6/2,Sheet2!$C$7*(2-Sheet2!$C$8),0)","v":500},{"$f":"0.5*Sheet2!$C$9*A441^2","v":3572.0999999999708},{"$f":"Sheet2!$C$10*ABS(A441)","v":1889.9999999999923}]
[3.7999999999999847,500,-131.9736,2.9317720707546297E-74,null,null,null,null,{"$f":"IF(ABS(A442)-0.001>=Sheet2!$C$6/2,Sheet2!$C$7*(2-Sheet2!$C$8),0)","v":500},{"$f":"0.5*Sheet2!$C$9*A442^2","v":3609.9999999999709},{"$f":"Sheet2!$C$10*ABS(A442)","v":1899.9999999999923}]
[3.8199999999999847,500,-131.9736,2.3311224924513533E-74,null,null,null,null,{"$f":"IF(ABS(A443)-0.001>=Sheet2!$C$6/2,Sheet2!$C$7*(2-Sheet2!$C$8),0)","v":500},{"$f":"0.5*Sheet2!$C$9*A443^2","v":3648.0999999999713},{"$f":"Sheet2!$C$10*ABS(A443)","v":1909.9999999999923}]
[3.8399999999999848,500,-131.9736,1.8535315650959882E-74,null,null,null,null,{"$f":"IF(ABS(A444)-0.001>=Sheet2!$C$6/2,Sheet2!$C$7*(2-Sheet2!$C$8),0)","v":500},{"$f":"0.5*Sheet2!$C$9*A444^2","v":3686.3999999999705},{"$f":"Sheet2!$C$10*ABS(A444)","v":1919.9999999999923}]
[3.8599999999999848,500,-131.9736,{"$f":"(2- 0.0004*C446)*D446-D447","v":1.4737875310843648E-74},null,null,null,null,{"$f":"IF(ABS(A445)-0.001>=Sheet2!$C$6/2,Sheet2!$C$7*(2-Sheet2!$C$8),0)","v":500},{"$f":"0.5*Sheet2!$C$9*A445^2","v":3724.8999999999705},{"$f":"Sheet2!$C$10*ABS(A445)","v":1929.9999999999925}]
[3.8799999999999848,500,-131.9736,1.1718439155176677E-74,null,null,null,null,{"$f":"IF(ABS(A446)-0.001>=Sheet2!$C$6/2,Sheet2!$C$7*(2-Sheet2!$C$8),0)","v":500},{"$f":"0.5*Sheet2!$C$9*A446^2","v":3763.5999999999704},{"$f":"Sheet2!$C$10*ABS(A446)","v":1939.9999999999925}]
[3.8999999999999848,500,-131.9736,9.317612840185558E-75,null,null,null,null,{"$f":"IF(ABS(A447)-0.001>=Sheet2!$C$6/2,Sheet2!$C$7*(2-Sheet2!$C$8),0)","v":500},{"$f":"0.5*Sheet2!$C$9*A447^2","v":3802.4999999999704},{"$f":"Sheet2!$C$10*ABS(A447)","v":1949.9999999999925}]
[3.9199999999999848,500,-131.9736,7.4086580891646466E-75,null,null,null,null,{"$f":"IF(ABS(A448)-0.001>=Sheet2!$C$6/2,Sheet2!$C$7*(2-Sheet2!$C$8),0)","v":500},{"$f":"0.5*Sheet2!$C$9*A448^2","v":3841.5999999999704},{"$f":"Sheet2!$C$10*ABS(A448)","v":1959.9999999999925}]
[3.9399999999999848,500,-131.9736,5.8908022498222077E-75,null,null,null,null,{"$f":"IF(ABS(A449)-0.001>=Sheet2!$C$6/2,Sheet2!$C$7*(2-Sheet2!$C$8),0)","v":500},{"$f":"0.5*Sheet2!$C$9*A449^2","v":3880.8999999999701},{"$f":"Sheet2!$C$10*ABS(A449)","v":1969.9999999999925}]
[3.9599999999999849,500,{"$f":"0.264*($E$2-B450)","v":-131.9736},4.6839185623986252E-75,null,null,null,null,{"$f":"IF(ABS(A450)-0.001>=Sheet2!$C$6/2,Sheet2!$C$7*(2-Sheet2!$C$8),0)","v":500},{"$f":"0.5*Sheet2!$C$9*A450^2","v":3920.3999999999701},{"$f":"Sheet2!$C$10*ABS(A450)","v":1979.9999999999925}]
[3.9799999999999849,500,-131.9736,3.7242963128896717E-75,null,null,null,null,{"$f":"IF(ABS(A451)-0.001>=Sheet2!$C$6/2,Sheet2!$C$7*(2-Sheet2!$C$8),0)","v":500},{"$f":"0.5*Sheet2!$C$9*A451^2","v":3960.0999999999699},{"$f":"Sheet2!$C$10*ABS(A451)","v":1989.9999999999925}]
[{"$f":"+A451+0.02","v":3.9999999999999849},500,-131.9736,2.9612775801322293E-75,null,null,null,null,{"$f":"IF(ABS(A452)-0.001>=Sheet2!$C$6/2,Sheet2!$C$7*(2-Sheet2!$C$8),0)","v":500},{"$f":"0.5*Sheet2!$C$9*A452^2","v":3999.99999999997},{"$f":"Sheet2!$C$10*ABS(A452)","v":1999.9999999999925}]
[4.0199999999999845,500,-131.9736,2.3545830325145233E-75,null,null,null,null,{"$f":"IF(ABS(A453)-0.001>=Sheet2!$C$6/2,Sheet2!$C$7*(2-Sheet2!$C$8),0)","v":500},{"$f":"0.5*Sheet2!$C$9*A453^2","v":4040.0999999999685},{"$f":"Sheet2!$C$10*ABS(A453)","v":2009.9999999999923}]
[4.039999999999984,500,-131.9736,1.8721856046167613E-75,null,null,null,null,{"$f":"IF(ABS(A454)-0.001>=Sheet2!$C$6/2,Sheet2!$C$7*(2-Sheet2!$C$8),0)","v":500},{"$f":"0.5*Sheet2!$C$9*A454^2","v":4080.3999999999683},{"$f":"Sheet2!$C$10*ABS(A454)","v":2019.999999999992}]
[4.0599999999999836,500,-131.9736,1.4886198063627799E-75,null,null,null,null,{"$f":"IF(ABS(A455)-0.001>=Sheet2!$C$6/2,Sheet2!$C$7*(2-Sheet2!$C$8),0)","v":500},{"$f":"0.5*Sheet2!$C$9*A455^2","v":4120.8999999999669},{"$f":"Sheet2!$C$10*ABS(A455)","v":2029.9999999999918}]
[4.0799999999999832,500,-131.9736,1.1836374140595985E-75,null,null,null,null,{"$f":"IF(ABS(A456)-0.001>=Sheet2!$C$6/2,Sheet2!$C$7*(2-Sheet2!$C$8),0)","v":500},{"$f":"0.5*Sheet2!$C$9*A456^2","v":4161.5999999999649},{"$f":"Sheet2!$C$10*ABS(A456)","v":2039.9999999999916}]
[4.0999999999999828,500,-131.9736,9.4113857800767162E-76,null,null,null,null,{"$f":"IF(ABS(A457)-0.001>=Sheet2!$C$6/2,Sheet2!$C$7*(2-Sheet2!$C$8),0)","v":500},{"$f":"0.5*Sheet2!$C$9*A457^2","v":4202.4999999999654},{"$f":"Sheet2!$C$10*ABS(A457)","v":2049.9999999999914}]
[4.1199999999999823,500,-131.9736,7.4832192045116621E-76,null,null,null,null,{"$f":"IF(ABS(A458)-0.001>=Sheet2!$C$6/2,Sheet2!$C$7*(2-Sheet2!$C$8),0)","v":500},{"$f":"0.5*Sheet2!$C$9*A458^2","v":4243.5999999999631},{"$f":"Sheet2!$C$10*ABS(A458)","v":2059.9999999999914}]
[4.1399999999999819,500,-131.9736,5.9500875801500258E-76,null,null,null,null,{"$f":"IF(ABS(A459)-0.001>=Sheet2!$C$6/2,Sheet2!$C$7*(2-Sheet2!$C$8),0)","v":500},{"$f":"0.5*Sheet2!$C$9*A459^2","v":4284.8999999999623},{"$f":"Sheet2!$C$10*ABS(A459)","v":2069.9999999999909}]
[4.1599999999999815,500,-131.9736,4.7310577470954658E-76,null,null,null,null,{"$f":"IF(ABS(A460)-0.001>=Sheet2!$C$6/2,Sheet2!$C$7*(2-Sheet2!$C$8),0)","v":500},{"$f":"0.5*Sheet2!$C$9*A460^2","v":4326.3999999999614},{"$f":"Sheet2!$C$10*ABS(A460)","v":2079.9999999999909}]
[4.1799999999999811,500,-131.9736,3.7617778031177382E-76,null,null,null,null,{"$f":"IF(ABS(A461)-0.001>=Sheet2!$C$6/2,Sheet2!$C$7*(2-Sheet2!$C$8),0)","v":500},{"$f":"0.5*Sheet2!$C$9*A461^2","v":4368.0999999999603},{"$f":"Sheet2!$C$10*ABS(A461)","v":2089.9999999999905}]
[4.1999999999999806,500,-131.9736,2.991080002771027E-76,null,null,null,null,{"$f":"IF(ABS(A462)-0.001>=Sheet2!$C$6/2,Sheet2!$C$7*(2-Sheet2!$C$8),0)","v":500},{"$f":"0.5*Sheet2!$C$9*A462^2","v":4409.9999999999591},{"$f":"Sheet2!$C$10*ABS(A462)","v":2099.9999999999905}]
[4.2199999999999802,500,-131.9736,2.3782796407657977E-76,null,null,null,null,{"$f":"IF(ABS(A463)-0.001>=Sheet2!$C$6/2,Sheet2!$C$7*(2-Sheet2!$C$8),0)","v":500},{"$f":"0.5*Sheet2!$C$9*A463^2","v":4452.0999999999576},{"$f":"Sheet2!$C$10*ABS(A463)","v":2109.99999999999}]
[4.2399999999999798,500,-131.9736,1.8910273291599963E-76,null,null,null,null,{"$f":"IF(ABS(A464)-0.001>=Sheet2!$C$6/2,Sheet2!$C$7*(2-Sheet2!$C$8),0)","v":500},{"$f":"0.5*Sheet2!$C$9*A464^2","v":4494.3999999999569},{"$f":"Sheet2!$C$10*ABS(A464)","v":2119.99999999999}]
[4.2599999999999794,500,-131.9736,1.5036012912852472E-76,null,null,null,null,{"$f":"IF(ABS(A465)-0.001>=Sheet2!$C$6/2,Sheet2!$C$7*(2-Sheet2!$C$8),0)","v":500},{"$f":"0.5*Sheet2!$C$9*A465^2","v":4536.899999999956},{"$f":"Sheet2!$C$10*ABS(A465)","v":2129.9999999999895}]
[4.2799999999999789,500,-131.9736,1.1955495235607232E-76,null,null,null,null,{"$f":"IF(ABS(A466)-0.001>=Sheet2!$C$6/2,Sheet2!$C$7*(2-Sheet2!$C$8),0)","v":500},{"$f":"0.5*Sheet2!$C$9*A466^2","v":4579.5999999999549},{"$f":"Sheet2!$C$10*ABS(A466)","v":2139.9999999999895}]
[4.2999999999999785,500,-131.9736,9.5061014567723665E-77,null,null,null,null,{"$f":"IF(ABS(A467)-0.001>=Sheet2!$C$6/2,Sheet2!$C$7*(2-Sheet2!$C$8),0)","v":500},{"$f":"0.5*Sheet2!$C$9*A467^2","v":4622.4999999999536},{"$f":"Sheet2!$C$10*ABS(A467)","v":2149.9999999999891}]
[4.3199999999999781,500,-131.9736,7.558529450423699E-77,null,null,null,null,{"$f":"IF(ABS(A468)-0.001>=Sheet2!$C$6/2,Sheet2!$C$7*(2-Sheet2!$C$8),0)","v":500},{"$f":"0.5*Sheet2!$C$9*A468^2","v":4665.5999999999522},{"$f":"Sheet2!$C$10*ABS(A468)","v":2159.9999999999891}]
[4.3399999999999777,500,-131.9736,6.0099679809864076E-77,null,null,null,null,{"$f":"IF(ABS(A469)-0.001>=Sheet2!$C$6/2,Sheet2!$C$7*(2-Sheet2!$C$8),0)","v":500},{"$f":"0.5*Sheet2!$C$9*A469^2","v":4708.8999999999523},{"$f":"Sheet2!$C$10*ABS(A469)","v":2169.9999999999886}]
[4.3599999999999772,500,-131.9736,4.7786693556833198E-77,null,null,null,null,{"$f":"IF(ABS(A470)-0.001>=Sheet2!$C$6/2,Sheet2!$C$7*(2-Sheet2!$C$8),0)","v":500},{"$f":"0.5*Sheet2!$C$9*A470^2","v":4752.3999999999496},{"$f":"Sheet2!$C$10*ABS(A470)","v":2179.9999999999886}]
[4.3799999999999768,500,-131.9736,3.7996340096119164E-77,null,null,null,null,{"$f":"IF(ABS(A471)-0.001>=Sheet2!$C$6/2,Sheet2!$C$7*(2-Sheet2!$C$8),0)","v":500},{"$f":"0.5*Sheet2!$C$9*A471^2","v":4796.0999999999494},{"$f":"Sheet2!$C$10*ABS(A471)","v":2189.9999999999882}]
[4.3999999999999764,500,-131.9736,3.0211792151128808E-77,null,null,null,null,{"$f":"IF(ABS(A472)-0.001>=Sheet2!$C$6/2,Sheet2!$C$7*(2-Sheet2!$C$8),0)","v":500},{"$f":"0.5*Sheet2!$C$9*A472^2","v":4839.9999999999482},{"$f":"Sheet2!$C$10*ABS(A472)","v":2199.9999999999882}]
[4.4199999999999759,500,-131.9736,2.4022107795192939E-77,null,null,null,null,{"$f":"IF(ABS(A473)-0.001>=Sheet2!$C$6/2,Sheet2!$C$7*(2-Sheet2!$C$8),0)","v":500},{"$f":"0.5*Sheet2!$C$9*A473^2","v":4884.0999999999467},{"$f":"Sheet2!$C$10*ABS(A473)","v":2209.9999999999882}]
[4.4399999999999755,500,-131.9736,1.9100537057384944E-77,null,null,null,null,{"$f":"IF(ABS(A474)-0.001>=Sheet2!$C$6/2,Sheet2!$C$7*(2-Sheet2!$C$8),0)","v":500},{"$f":"0.5*Sheet2!$C$9*A474^2","v":4928.399999999946},{"$f":"Sheet2!$C$10*ABS(A474)","v":2219.9999999999877}]
[4.4599999999999751,500,-131.9736,1.5187272974535552E-77,null,null,null,null,{"$f":"IF(ABS(A475)-0.001>=Sheet2!$C$6/2,Sheet2!$C$7*(2-Sheet2!$C$8),0)","v":500},{"$f":"0.5*Sheet2!$C$9*A475^2","v":4972.8999999999442},{"$f":"Sheet2!$C$10*ABS(A475)","v":2229.9999999999877}]
[4.4799999999999747,500,-131.9736,1.2075736527139027E-77,null,null,null,null,{"$f":"IF(ABS(A476)-0.001>=Sheet2!$C$6/2,Sheet2!$C$7*(2-Sheet2!$C$8),0)","v":500},{"$f":"0.5*Sheet2!$C$9*A476^2","v":5017.5999999999431},{"$f":"Sheet2!$C$10*ABS(A476)","v":2239.9999999999873}]
[4.4999999999999742,500,-131.9736,9.6016714485977176E-78,null,null,null,null,{"$f":"IF(ABS(A477)-0.001>=Sheet2!$C$6/2,Sheet2!$C$7*(2-Sheet2!$C$8),0)","v":500},{"$f":"0.5*Sheet2!$C$9*A477^2","v":5062.4999999999427},{"$f":"Sheet2!$C$10*ABS(A477)","v":2249.9999999999873}]
[4.5199999999999738,500,-131.9736,7.6344732288918715E-78,null,null,null,null,{"$f":"IF(ABS(A478)-0.001>=Sheet2!$C$6/2,Sheet2!$C$7*(2-Sheet2!$C$8),0)","v":500},{"$f":"0.5*Sheet2!$C$9*A478^2","v":5107.5999999999412},{"$f":"Sheet2!$C$10*ABS(A478)","v":2259.9999999999868}]
[4.5399999999999734,500,-131.9736,6.07029457563422E-78,null,null,null,null,{"$f":"IF(ABS(A479)-0.001>=Sheet2!$C$6/2,Sheet2!$C$7*(2-Sheet2!$C$8),0)","v":500},{"$f":"0.5*Sheet2!$C$9*A479^2","v":5152.8999999999396},{"$f":"Sheet2!$C$10*ABS(A479)","v":2269.9999999999868}]
[4.559999999999973,500,-131.9736,4.8265633736593386E-78,null,null,null,null,{"$f":"IF(ABS(A480)-0.001>=Sheet2!$C$6/2,Sheet2!$C$7*(2-Sheet2!$C$8),0)","v":500},{"$f":"0.5*Sheet2!$C$9*A480^2","v":5198.3999999999378},{"$f":"Sheet2!$C$10*ABS(A480)","v":2279.9999999999864}]
[4.5799999999999725,500,-131.9736,3.8376237493044459E-78,null,null,null,null,{"$f":"IF(ABS(A481)-0.001>=Sheet2!$C$6/2,Sheet2!$C$7*(2-Sheet2!$C$8),0)","v":500},{"$f":"0.5*Sheet2!$C$9*A481^2","v":5244.0999999999376},{"$f":"Sheet2!$C$10*ABS(A481)","v":2289.9999999999864}]
[4.5999999999999721,500,-131.9736,3.0512701336060362E-78,null,null,null,null,{"$f":"IF(ABS(A482)-0.001>=Sheet2!$C$6/2,Sheet2!$C$7*(2-Sheet2!$C$8),0)","v":500},{"$f":"0.5*Sheet2!$C$9*A482^2","v":5289.9999999999363},{"$f":"Sheet2!$C$10*ABS(A482)","v":2299.9999999999859}]
[4.6199999999999717,500,-131.9736,2.4259913595494148E-78,null,null,null,null,{"$f":"IF(ABS(A483)-0.001>=Sheet2!$C$6/2,Sheet2!$C$7*(2-Sheet2!$C$8),0)","v":500},{"$f":"0.5*Sheet2!$C$9*A483^2","v":5336.099999999934},{"$f":"Sheet2!$C$10*ABS(A483)","v":2309.9999999999859}]
[4.6399999999999713,500,-131.9736,1.9287793108082463E-78,null,null,null,null,{"$f":"IF(ABS(A484)-0.001>=Sheet2!$C$6/2,Sheet2!$C$7*(2-Sheet2!$C$8),0)","v":500},{"$f":"0.5*Sheet2!$C$9*A484^2","v":5382.3999999999332},{"$f":"Sheet2!$C$10*ABS(A484)","v":2319.9999999999854}]
[4.6599999999999708,500,-131.9736,1.5333864417682318E-78,null,null,null,null,{"$f":"IF(ABS(A485)-0.001>=Sheet2!$C$6/2,Sheet2!$C$7*(2-Sheet2!$C$8),0)","v":500},{"$f":"0.5*Sheet2!$C$9*A485^2","v":5428.8999999999323},{"$f":"Sheet2!$C$10*ABS(A485)","v":2329.9999999999854}]
[4.6799999999999704,500,-131.9736,1.2189401842927551E-78,null,null,null,null,{"$f":"IF(ABS(A486)-0.001>=Sheet2!$C$6/2,Sheet2!$C$7*(2-Sheet2!$C$8),0)","v":500},{"$f":"0.5*Sheet2!$C$9*A486^2","v":5475.5999999999303},{"$f":"Sheet2!$C$10*ABS(A486)","v":2339.999999999985}]
[4.69999999999997,500,-131.9736,9.6884109653958988E-79,null,null,null,null,{"$f":"IF(ABS(A487)-0.001>=Sheet2!$C$6/2,Sheet2!$C$7*(2-Sheet2!$C$8),0)","v":500},{"$f":"0.5*Sheet2!$C$9*A487^2","v":5522.49999999993},{"$f":"Sheet2!$C$10*ABS(A487)","v":2349.999999999985}]
[4.7199999999999696,500,-131.9736,7.6988658772173566E-79,null,null,null,null,{"$f":"IF(ABS(A488)-0.001>=Sheet2!$C$6/2,Sheet2!$C$7*(2-Sheet2!$C$8),0)","v":500},{"$f":"0.5*Sheet2!$C$9*A488^2","v":5569.5999999999285},{"$f":"Sheet2!$C$10*ABS(A488)","v":2359.999999999985}]
[4.7399999999999691,500,-131.9736,6.1157396073322283E-79,null,null,null,null,{"$f":"IF(ABS(A489)-0.001>=Sheet2!$C$6/2,Sheet2!$C$7*(2-Sheet2!$C$8),0)","v":500},{"$f":"0.5*Sheet2!$C$9*A489^2","v":5616.8999999999269},{"$f":"Sheet2!$C$10*ABS(A489)","v":2369.9999999999845}]
[4.7599999999999687,500,-131.9736,4.8554598065039885E-79,null,null,null,null,{"$f":"IF(ABS(A490)-0.001>=Sheet2!$C$6/2,Sheet2!$C$7*(2-Sheet2!$C$8),0)","v":500},{"$f":"0.5*Sheet2!$C$9*A490^2","v":5664.399999999926},{"$f":"Sheet2!$C$10*ABS(A490)","v":2379.9999999999845}]
[4.7799999999999683,500,-131.9736,3.8514970098036036E-79,null,null,null,null,{"$f":"IF(ABS(A491)-0.001>=Sheet2!$C$6/2,Sheet2!$C$7*(2-Sheet2!$C$8),0)","v":500},{"$f":"0.5*Sheet2!$C$9*A491^2","v":5712.099999999924},{"$f":"Sheet2!$C$10*ABS(A491)","v":2389.9999999999841}]
[4.7999999999999678,500,-131.9736,3.0508525834124264E-79,null,null,null,null,{"$f":"IF(ABS(A492)-0.001>=Sheet2!$C$6/2,Sheet2!$C$7*(2-Sheet2!$C$8),0)","v":500},{"$f":"0.5*Sheet2!$C$9*A492^2","v":5759.9999999999227},{"$f":"Sheet2!$C$10*ABS(A492)","v":2399.9999999999841}]
[4.8199999999999674,500,-131.9736,2.4112609564221451E-79,null,null,null,null,{"$f":"IF(ABS(A493)-0.001>=Sheet2!$C$6/2,Sheet2!$C$7*(2-Sheet2!$C$8),0)","v":500},{"$f":"0.5*Sheet2!$C$9*A493^2","v":5808.0999999999212},{"$f":"Sheet2!$C$10*ABS(A493)","v":2409.9999999999836}]
[4.839999999999967,500,-131.9736,1.8989584450152537E-79,null,null,null,null,{"$f":"IF(ABS(A494)-0.001>=Sheet2!$C$6/2,Sheet2!$C$7*(2-Sheet2!$C$8),0)","v":500},{"$f":"0.5*Sheet2!$C$9*A494^2","v":5856.3999999999196},{"$f":"Sheet2!$C$10*ABS(A494)","v":2419.9999999999836}]
[4.8599999999999666,500,-131.9736,1.4869008865039888E-79,null,null,null,null,{"$f":"IF(ABS(A495)-0.001>=Sheet2!$C$6/2,Sheet2!$C$7*(2-Sheet2!$C$8),0)","v":500},{"$f":"0.5*Sheet2!$C$9*A495^2","v":5904.8999999999187},{"$f":"Sheet2!$C$10*ABS(A495)","v":2429.9999999999832}]
[4.8799999999999661,500,-131.9736,1.1533359931267733E-79,null,null,null,null,{"$f":"IF(ABS(A496)-0.001>=Sheet2!$C$6/2,Sheet2!$C$7*(2-Sheet2!$C$8),0)","v":500},{"$f":"0.5*Sheet2!$C$9*A496^2","v":5953.5999999999176},{"$f":"Sheet2!$C$10*ABS(A496)","v":2439.9999999999832}]
[4.8999999999999657,500,-131.9736,8.8065506095856408E-80,null,null,null,null,{"$f":"IF(ABS(A497)-0.001>=Sheet2!$C$6/2,Sheet2!$C$7*(2-Sheet2!$C$8),0)","v":500},{"$f":"0.5*Sheet2!$C$9*A497^2","v":6002.4999999999163},{"$f":"Sheet2!$C$10*ABS(A497)","v":2449.9999999999827}]
[4.9199999999999653,500,-131.9736,6.5446341629152338E-80,null,null,null,null,{"$f":"IF(ABS(A498)-0.001>=Sheet2!$C$6/2,Sheet2!$C$7*(2-Sheet2!$C$8),0)","v":500},{"$f":"0.5*Sheet2!$C$9*A498^2","v":6051.599999999914},{"$f":"Sheet2!$C$10*ABS(A498)","v":2459.9999999999827}]
[4.9399999999999649,500,-131.9736,4.6282052887099921E-80,null,null,null,null,{"$f":"IF(ABS(A499)-0.001>=Sheet2!$C$6/2,Sheet2!$C$7*(2-Sheet2!$C$8),0)","v":500},{"$f":"0.5*Sheet2!$C$9*A499^2","v":6100.8999999999132},{"$f":"Sheet2!$C$10*ABS(A499)","v":2469.9999999999823}]
[4.9599999999999644,500,-131.9736,2.9560967799007907E-80,null,null,null,null,{"$f":"IF(ABS(A500)-0.001>=Sheet2!$C$6/2,Sheet2!$C$7*(2-Sheet2!$C$8),0)","v":500},{"$f":"0.5*Sheet2!$C$9*A500^2","v":6150.3999999999114},{"$f":"Sheet2!$C$10*ABS(A500)","v":2479.9999999999823}]
[4.979999999999964,500,-131.9736,1.4400389646883562E-80,null,null,null,null,{"$f":"IF(ABS(A501)-0.001>=Sheet2!$C$6/2,Sheet2!$C$7*(2-Sheet2!$C$8),0)","v":500},{"$f":"0.5*Sheet2!$C$9*A501^2","v":6200.0999999999103},{"$f":"Sheet2!$C$10*ABS(A501)","v":2489.9999999999818}]
[4.9999999999999636,500,-131.9736,0,null,null,null,null,{"$f":"IF(ABS(A502)-0.001>=Sheet2!$C$6/2,Sheet2!$C$7*(2-Sheet2!$C$8),0)","v":500},{"$f":"0.5*Sheet2!$C$9*A502^2","v":6249.9999999999091},{"$f":"Sheet2!$C$10*ABS(A502)","v":2499.9999999999818}]

{"sheet":"Sheet2","index":1,"n_rows":15,"n_cols":6,"rows_kept":15,"cut":false,"hidden":false,"merged":[]}
[null,null,"Solving the one-dimensional, time-independent Schroedinger equation"]
["Choose your potential:"]
["Square well"]
["Harmonic well"]
["Triangular well"]
["Square well width:          (10-10 m)",null,{"$f":"F6/10","v":2},null,null,20]
["Square well depth:        (eV)",null,{"$f":"F7*10","v":500},null,null,50]
["Square well asymmetry: (left height/right height): ",null,{"$f":"F8/10","v":1},null,null,10]
["Harmonic oscillator spring constant: (eV/(10-20 m2))",null,{"$f":"F9*10","v":500},null,null,50]
["Triangular well slope: (eV/10-10 m)",null,{"$f":"F10*10","v":500},null,null,50]
[]
[]
["Vary the energy:"]
[]
["Energy (eV):",{"$f":"C15/D15","v":0.1},1,10]